BEGIN:VCALENDAR
VERSION:2.0
PRODID:-//Turismo de Cantabria - ECPv6.15.17//NONSGML v1.0//EN
CALSCALE:GREGORIAN
METHOD:PUBLISH
X-WR-CALNAME:Turismo de Cantabria
X-ORIGINAL-URL:https://staging.turismodecantpruebas.eurocastaliahost4.com
X-WR-CALDESC:Eventos para Turismo de Cantabria
REFRESH-INTERVAL;VALUE=DURATION:PT1H
X-Robots-Tag:noindex
X-PUBLISHED-TTL:PT1H
BEGIN:VTIMEZONE
TZID:Europe/Madrid
BEGIN:DAYLIGHT
TZOFFSETFROM:+0100
TZOFFSETTO:+0200
TZNAME:CEST
DTSTART:20250330T010000
END:DAYLIGHT
BEGIN:STANDARD
TZOFFSETFROM:+0200
TZOFFSETTO:+0100
TZNAME:CET
DTSTART:20251026T010000
END:STANDARD
BEGIN:DAYLIGHT
TZOFFSETFROM:+0100
TZOFFSETTO:+0200
TZNAME:CEST
DTSTART:20260329T010000
END:DAYLIGHT
BEGIN:STANDARD
TZOFFSETFROM:+0200
TZOFFSETTO:+0100
TZNAME:CET
DTSTART:20261025T010000
END:STANDARD
BEGIN:DAYLIGHT
TZOFFSETFROM:+0100
TZOFFSETTO:+0200
TZNAME:CEST
DTSTART:20270328T010000
END:DAYLIGHT
BEGIN:STANDARD
TZOFFSETFROM:+0200
TZOFFSETTO:+0100
TZNAME:CET
DTSTART:20271031T010000
END:STANDARD
END:VTIMEZONE
BEGIN:VEVENT
DTSTART;TZID=Europe/Madrid:20260110T080000
DTEND;TZID=Europe/Madrid:20260408T170000
DTSTAMP:20260424T081905
CREATED:20251202T130018Z
LAST-MODIFIED:20260129T125653Z
UID:10020666-1768032000-1775667600@staging.turismodecantpruebas.eurocastaliahost4.com
SUMMARY:37 Festival de Invierno
DESCRIPTION:Más información y programa completo en este enlace: Programa 37 FESTIVAL INVIERNO 2026 \nLa cultura en Cantabria\, Apetece
URL:https://staging.turismodecantpruebas.eurocastaliahost4.com/proximamente-evento/37-festival-de-invierno/
LOCATION:Torrelavega\, Torrelavega\, Besaya
CATEGORIES:Espectáculos
ATTACH;FMTTYPE=image/jpeg:https://staging.turismodecantpruebas.eurocastaliahost4.com/wp-content/uploads/2025/12/festival-de-invierno-e1767867348799.jpg
END:VEVENT
BEGIN:VEVENT
DTSTART;VALUE=DATE:20260228
DTEND;VALUE=DATE:20260309
DTSTAMP:20260424T081905
CREATED:20260227T092925Z
LAST-MODIFIED:20260227T092925Z
UID:10020832-1772236800-1773014399@staging.turismodecantpruebas.eurocastaliahost4.com
SUMMARY:Prisionia
DESCRIPTION:Puedes encontrara este circo único y diferente en una una carpa instalada en el parking de los Campos de Sport del Sardinero \nMás información y entradas en la web oficial \nLa cultura en Cantabria\, Apetece
URL:https://staging.turismodecantpruebas.eurocastaliahost4.com/proximamente-evento/prisionia/
LOCATION:Santander\, Santander
CATEGORIES:Espectáculos
ATTACH;FMTTYPE=image/jpeg:https://staging.turismodecantpruebas.eurocastaliahost4.com/wp-content/uploads/2026/02/prisionia.jpg
END:VEVENT
BEGIN:VEVENT
DTSTART;VALUE=DATE:20260306
DTEND;VALUE=DATE:20260307
DTSTAMP:20260424T081905
CREATED:20260213T150645Z
LAST-MODIFIED:20260213T150645Z
UID:10020811-1772755200-1772841599@staging.turismodecantpruebas.eurocastaliahost4.com
SUMMARY:Gospel experience
DESCRIPTION:Gospel Experience Project es una red internacional de coros gospel con el espíritu de propiciar la participación coral de toda persona sensible\, entusiasta y apasionada por el canto compartido. Bajo la forma jurídica de asociación cultural sin ánimo de lucro\, nuestra filosofía es eminentemente formativa de la mano experta de nuestros directores y directoras. Cantabria Gospel Experience es uno de nuestros valores que\, bajo la direccion de Sara Castrillo\, nutre la ciudad de Santander con el nuevo coro gospel de nuestra red. Proponemos un concierto emocionante con Cantabria Gospel Experience y su banda de músicos excelentes para una experiencia musical inolvidable. \nMás información y entradas en la web oficial \nLa cultura en Cantabria\, Apetece
URL:https://staging.turismodecantpruebas.eurocastaliahost4.com/proximamente-evento/gospel-experience/
LOCATION:Torrelavega\, Torrelavega\, Besaya
CATEGORIES:Espectáculos
ATTACH;FMTTYPE=image/jpeg:https://staging.turismodecantpruebas.eurocastaliahost4.com/wp-content/uploads/2026/02/gospel-e1770995103838.jpg
END:VEVENT
BEGIN:VEVENT
DTSTART;VALUE=DATE:20260307
DTEND;VALUE=DATE:20260308
DTSTAMP:20260424T081905
CREATED:20260216T094326Z
LAST-MODIFIED:20260216T094326Z
UID:10020813-1772841600-1772927999@staging.turismodecantpruebas.eurocastaliahost4.com
SUMMARY:No estoy de frente
DESCRIPTION:Una mujer despierta en la camilla de un hospital tras una operación. Como consecuencia de la intervención entra en una indeseada menopausia prematura. \nMás información y entradas en la web oficial \nLa cultura en Cantabria\, Apetece
URL:https://staging.turismodecantpruebas.eurocastaliahost4.com/proximamente-evento/no-estoy-de-frente/
LOCATION:Campoo
CATEGORIES:Espectáculos
ATTACH;FMTTYPE=image/jpeg:https://staging.turismodecantpruebas.eurocastaliahost4.com/wp-content/uploads/2026/02/no-estoy-de-frente-e1771234931504.jpg
END:VEVENT
BEGIN:VEVENT
DTSTART;VALUE=DATE:20260307
DTEND;VALUE=DATE:20260308
DTSTAMP:20260424T081905
CREATED:20260303T091711Z
LAST-MODIFIED:20260303T091711Z
UID:10020843-1772841600-1772927999@staging.turismodecantpruebas.eurocastaliahost4.com
SUMMARY:David Puerto Santander 2026
DESCRIPTION:En “Bien”\, el crowdwork y la improvisación se fusionan perfectamente con la música y el stand-up clásico creando un ambiente en el que el ritmo y las carcajadas van de la mano. \nLas luces\, los espacios y la música se convierten en parte del espectáculo\, envolviendo al público en un viaje lleno de humor\, ritmo y energía. Este espectáculo rompe con las barreras tradicionales de la comedia\, jugando con la improvisación y la música\, y haciendo del público parte fundamental de la acción. \nMás información y entradas en la web oficial \nLa cultura en Cantabria\, Apetece \n 
URL:https://staging.turismodecantpruebas.eurocastaliahost4.com/proximamente-evento/david-puerto-santander-2026/
LOCATION:Santander\, Santander
CATEGORIES:Espectáculos
ATTACH;FMTTYPE=image/jpeg:https://staging.turismodecantpruebas.eurocastaliahost4.com/wp-content/uploads/2026/03/david-puerto.jpg
END:VEVENT
BEGIN:VEVENT
DTSTART;VALUE=DATE:20260307
DTEND;VALUE=DATE:20260316
DTSTAMP:20260424T081905
CREATED:20260302T081831Z
LAST-MODIFIED:20260302T081831Z
UID:10020836-1772841600-1773619199@staging.turismodecantpruebas.eurocastaliahost4.com
SUMMARY:Cantabria de Teatro.
DESCRIPTION:Más información en la web oficial \nLa cultura en Cantabria\, Apetece
URL:https://staging.turismodecantpruebas.eurocastaliahost4.com/proximamente-evento/cantabria-de-teatro/
LOCATION:Santander\, Santander
CATEGORIES:Espectáculos
ATTACH;FMTTYPE=image/jpeg:https://staging.turismodecantpruebas.eurocastaliahost4.com/wp-content/uploads/2026/03/escena-mirinaque.jpg
END:VEVENT
BEGIN:VEVENT
DTSTART;VALUE=DATE:20260308
DTEND;VALUE=DATE:20260309
DTSTAMP:20260424T081905
CREATED:20260218T101130Z
LAST-MODIFIED:20260218T101130Z
UID:10020817-1772928000-1773014399@staging.turismodecantpruebas.eurocastaliahost4.com
SUMMARY:Concierto en clave femenina. Día internacional de la mujer
DESCRIPTION:PROGRAMA: \nI PARTE \n\nPrimera Obertura para gran orquesta\, Louise Farrenc\nObertura Fausto\, Emilie Mayer\nSinfonia 1 en Re menor\, Maria Luisa de Borbón\n\nII PARTE \n\nScherzo para orquesta\, Aghate Backer-Grøndahl\nObertura en R menor\, Emilie Mayer\nSinfonía 2 en Do Mayor\, María Luisa de Borbón\n\nMás información y entradas en la web oficial \nLa cultura en Cantabria\, Apetece \n  \n 
URL:https://staging.turismodecantpruebas.eurocastaliahost4.com/proximamente-evento/concierto-en-clave-femenina-dia-internacional-de-la-mujer/
LOCATION:Torrelavega\, Torrelavega\, Besaya
CATEGORIES:Espectáculos
ATTACH;FMTTYPE=image/jpeg:https://staging.turismodecantpruebas.eurocastaliahost4.com/wp-content/uploads/2026/02/concierto-dia-de-la-mujer.jpg
END:VEVENT
END:VCALENDAR