BEGIN:VCALENDAR
VERSION:2.0
PRODID:-//Turismo de Cantabria - ECPv6.15.17//NONSGML v1.0//EN
CALSCALE:GREGORIAN
METHOD:PUBLISH
X-WR-CALNAME:Turismo de Cantabria
X-ORIGINAL-URL:https://staging.turismodecantpruebas.eurocastaliahost4.com
X-WR-CALDESC:Eventos para Turismo de Cantabria
REFRESH-INTERVAL;VALUE=DURATION:PT1H
X-Robots-Tag:noindex
X-PUBLISHED-TTL:PT1H
BEGIN:VTIMEZONE
TZID:Europe/Madrid
BEGIN:DAYLIGHT
TZOFFSETFROM:+0100
TZOFFSETTO:+0200
TZNAME:CEST
DTSTART:20250330T010000
END:DAYLIGHT
BEGIN:STANDARD
TZOFFSETFROM:+0200
TZOFFSETTO:+0100
TZNAME:CET
DTSTART:20251026T010000
END:STANDARD
BEGIN:DAYLIGHT
TZOFFSETFROM:+0100
TZOFFSETTO:+0200
TZNAME:CEST
DTSTART:20260329T010000
END:DAYLIGHT
BEGIN:STANDARD
TZOFFSETFROM:+0200
TZOFFSETTO:+0100
TZNAME:CET
DTSTART:20261025T010000
END:STANDARD
BEGIN:DAYLIGHT
TZOFFSETFROM:+0100
TZOFFSETTO:+0200
TZNAME:CEST
DTSTART:20270328T010000
END:DAYLIGHT
BEGIN:STANDARD
TZOFFSETFROM:+0200
TZOFFSETTO:+0100
TZNAME:CET
DTSTART:20271031T010000
END:STANDARD
END:VTIMEZONE
BEGIN:VEVENT
DTSTART;TZID=Europe/Madrid:20260116T080000
DTEND;TZID=Europe/Madrid:20260313T170000
DTSTAMP:20260419T171841
CREATED:20251205T140740Z
LAST-MODIFIED:20260123T090714Z
UID:10020675-1768550400-1773421200@staging.turismodecantpruebas.eurocastaliahost4.com
SUMMARY:Ruta del pincho
DESCRIPTION:Los locales que formarán parte de la Ruta 2026 son: Confitería Pindal\, Mesón La Cepa\, Pizzería Brass\, Restaurante Casa Samuel\, Restaurante Los Toneles AsturCántabros\, Restaurante Riomar\, Tacos Point – Restaurante Mexicano\, Taberna Musta\, y Casa Velarde en la localidad vecina de Bustio. \nLa Ruta del Pincho mantiene su formato habitual: cada viernes\, los clientes podrán elegir entre dos pinchos diferentes en cada local\, acompañados de bebida\, a un precio unificado de 4 euros. \nLa gastronomía en Cantabria\, Apetece
URL:https://staging.turismodecantpruebas.eurocastaliahost4.com/proximamente-evento/ruta-del-pincho/
LOCATION:Val de San Vicente\, Val de San Vicente\, Saja-Nansa
CATEGORIES:Gastronomía
ATTACH;FMTTYPE=image/jpeg:https://staging.turismodecantpruebas.eurocastaliahost4.com/wp-content/uploads/2025/12/cartel-ruta-del-pincho-e1768474600993.jpg
END:VEVENT
BEGIN:VEVENT
DTSTART;VALUE=DATE:20260203
DTEND;VALUE=DATE:20260204
DTSTAMP:20260419T171841
CREATED:20260203T081621Z
LAST-MODIFIED:20260203T085702Z
UID:10019735-1770076800-1770163199@staging.turismodecantpruebas.eurocastaliahost4.com
SUMMARY:Visita y comida a la quesería Quesoba
DESCRIPTION:Este próximo sábado 14 de febrero de 2026\, la quesería «Quesoba» organiza una experiencia única. Visita a su quesería para conocer el proceso de elaboración del queso artesano\, degustarlo y posteriormente disfrutar de una comida.  \nA partir de las 13:30 mostrarán sus instalaciones\, como elaboran sus quesos y al finalizar la visita los asistentes podrán disfrutar de una comida. \nInformación y reservas llamando al 661 678 755 \nLa gastronomía en Cantabria\, Apetece
URL:https://staging.turismodecantpruebas.eurocastaliahost4.com/proximamente-evento/visita-gastroturismo-en-quesoba/
LOCATION:Soba\, Soba\, Asón-Agüera
CATEGORIES:Gastronomía
ATTACH;FMTTYPE=image/jpeg:https://staging.turismodecantpruebas.eurocastaliahost4.com/wp-content/uploads/2025/02/visita-a-quesoba.jpg
END:VEVENT
END:VCALENDAR