BEGIN:VCALENDAR
VERSION:2.0
PRODID:-//Turismo de Cantabria - ECPv6.15.17//NONSGML v1.0//EN
CALSCALE:GREGORIAN
METHOD:PUBLISH
X-WR-CALNAME:Turismo de Cantabria
X-ORIGINAL-URL:https://staging.turismodecantpruebas.eurocastaliahost4.com
X-WR-CALDESC:Eventos para Turismo de Cantabria
REFRESH-INTERVAL;VALUE=DURATION:PT1H
X-Robots-Tag:noindex
X-PUBLISHED-TTL:PT1H
BEGIN:VTIMEZONE
TZID:Europe/Madrid
BEGIN:DAYLIGHT
TZOFFSETFROM:+0100
TZOFFSETTO:+0200
TZNAME:CEST
DTSTART:20200329T010000
END:DAYLIGHT
BEGIN:STANDARD
TZOFFSETFROM:+0200
TZOFFSETTO:+0100
TZNAME:CET
DTSTART:20201025T010000
END:STANDARD
BEGIN:DAYLIGHT
TZOFFSETFROM:+0100
TZOFFSETTO:+0200
TZNAME:CEST
DTSTART:20210328T010000
END:DAYLIGHT
BEGIN:STANDARD
TZOFFSETFROM:+0200
TZOFFSETTO:+0100
TZNAME:CET
DTSTART:20211031T010000
END:STANDARD
BEGIN:DAYLIGHT
TZOFFSETFROM:+0100
TZOFFSETTO:+0200
TZNAME:CEST
DTSTART:20220327T010000
END:DAYLIGHT
BEGIN:STANDARD
TZOFFSETFROM:+0200
TZOFFSETTO:+0100
TZNAME:CET
DTSTART:20221030T010000
END:STANDARD
BEGIN:DAYLIGHT
TZOFFSETFROM:+0100
TZOFFSETTO:+0200
TZNAME:CEST
DTSTART:20230326T010000
END:DAYLIGHT
BEGIN:STANDARD
TZOFFSETFROM:+0200
TZOFFSETTO:+0100
TZNAME:CET
DTSTART:20231029T010000
END:STANDARD
END:VTIMEZONE
BEGIN:VEVENT
DTSTART;VALUE=DATE:20210406
DTEND;VALUE=DATE:20230101
DTSTAMP:20260420T180444
CREATED:20240517T105614Z
LAST-MODIFIED:20240610T102355Z
UID:10018019-1617667200-1672531199@staging.turismodecantpruebas.eurocastaliahost4.com
SUMMARY:Excursiones con transporte desde Santander
DESCRIPTION:Excursiones de mediodía y de día completo. Con la comodidad de que te recogemos en tu hotel en Santander o en Torrelavega y te organizamos todas las visitas de la excursión. Solo relájate y disfruta del viaje. Además\, cada día te proponemos una ruta diferente. \nSi lo que deseas es una excursión privada y personalizada\, también te ofrecemos la posibilidad de realizar un tour privado a tu medida. \nMás información y reservas en www.viajesexploringcantabria.com\, en el correo info@exploringcantabria.com y en el teléfono 683188858 \nDisfruta Cantabria\, sin ir más lejos \n 
URL:https://staging.turismodecantpruebas.eurocastaliahost4.com/proximamente-evento/excursiones-con-transporte-desde-santander/
LOCATION:Besaya
CATEGORIES:Todo el año
ATTACH;FMTTYPE=image/jpeg:https://staging.turismodecantpruebas.eurocastaliahost4.com/wp-content/uploads/2024/02/a6dbe807-3772-775f-d4ac-da272e531c4c.jpg
END:VEVENT
BEGIN:VEVENT
DTSTART;VALUE=DATE:20210422
DTEND;VALUE=DATE:20211031
DTSTAMP:20260420T180444
CREATED:20240517T105614Z
LAST-MODIFIED:20240610T101935Z
UID:10017825-1619049600-1635638399@staging.turismodecantpruebas.eurocastaliahost4.com
SUMMARY:Concurso fotográfico
DESCRIPTION:El objetivo de este concurso es promocionar y dar visibilidad a las zonas verdes de Torrelavega fomentando su conocimiento y una cultura para conservar\, mantener\, respetar y amar nuestros espacios naturales. \nLa temática se ciñe a las zonas verdes y parques pertenecientes al municipio de Torrelavega. Pueden también aparecer personas caminando\, corriendo\, andando\, en bicicleta\, usando gimnasios al aire libre\, parques infantiles\, paisajes\, animales\, árboles\, plantas; en un entorno reconocible. El jurado tendrá en cuenta la originalidad\, creatividad\, mensaje\, belleza y estética final de la obra\, así como la demostración de la calidad de vida en el medio natural y las zonas ajardinas de Torrelavega. \nEn esta edición y a efectos del concurso se incluye el monte Dobra y el pico La Capía. \nPara participar debes enviar tu fotografía como archivo adjunto o por WeTransfer a la siguiente dirección de correo:fotoparquesynaturaleza@aytotorrelavega.es; indicando en la casilla del asunto del mail: CONSURSO FOTOGRÁFICO \nMás información en la web oficial \nDisfruta la cultura y la naturaleza en Cantabria\, sin ir más lejos \n 
URL:https://staging.turismodecantpruebas.eurocastaliahost4.com/proximamente-evento/concurso-fotografico/
LOCATION:Besaya
CATEGORIES:Todo el año
ATTACH;FMTTYPE=image/jpeg:https://staging.turismodecantpruebas.eurocastaliahost4.com/wp-content/uploads/2024/02/8f3c0cb0-eee4-a3b7-0d7d-9c8574b6dd1e.jpg
END:VEVENT
BEGIN:VEVENT
DTSTART;VALUE=DATE:20210902
DTEND;VALUE=DATE:20210903
DTSTAMP:20260420T180444
CREATED:20240517T105622Z
LAST-MODIFIED:20240610T153836Z
UID:10018072-1630540800-1630627199@staging.turismodecantpruebas.eurocastaliahost4.com
SUMMARY:Exposición Eduardo Pisano
DESCRIPTION:En ella se pueden contemplar litografi?as\, dibujos\, bocetos e incluso la paleta que utilizaba para mezclar los colores. \nHorarios de visita: de lunes a viernes\, de 10 a 14h y de 17 a 20h. \nMás información en el documento adjunto \nDisfruta la cultura en Cantabria\, sin ir más lejos \n 
URL:https://staging.turismodecantpruebas.eurocastaliahost4.com/proximamente-evento/exposicion-eduardo-pisano/
LOCATION:Besaya
CATEGORIES:Todo el año
ATTACH;FMTTYPE=image/jpeg:https://staging.turismodecantpruebas.eurocastaliahost4.com/wp-content/uploads/2024/02/c626c305-f35b-03db-09a1-95f8d5b1a318.jpg
END:VEVENT
BEGIN:VEVENT
DTSTART;VALUE=DATE:20211202
DTEND;VALUE=DATE:20220109
DTSTAMP:20260420T180444
CREATED:20231213T151719Z
LAST-MODIFIED:20240515T154942Z
UID:10013870-1638403200-1641686399@staging.turismodecantpruebas.eurocastaliahost4.com
SUMMARY:La Navidad es Torrelavega
DESCRIPTION:Ruta de belenes\, la fábrica de la Navidad\, feria infantil\, festimagia\, cuentacuentos\, conciertos y mucho más \nMás información y programa en el siguiente enlace \nDisfruta la Navidad en Cantabria\, + x descubrir
URL:https://staging.turismodecantpruebas.eurocastaliahost4.com/proximamente-evento/la-navidad-es-torrelavega/
LOCATION:Besaya
CATEGORIES:Actividades con niños,Navidad
ATTACH;FMTTYPE=image/jpeg:https://staging.turismodecantpruebas.eurocastaliahost4.com/wp-content/uploads/2023/04/f406b453-6ef0-b403-010a-cb3f151f840f-tjz45u.tmp-.jpg
END:VEVENT
BEGIN:VEVENT
DTSTART;VALUE=DATE:20211204
DTEND;VALUE=DATE:20211206
DTSTAMP:20260420T180444
CREATED:20231213T152108Z
LAST-MODIFIED:20240503T104654Z
UID:10013889-1638576000-1638748799@staging.turismodecantpruebas.eurocastaliahost4.com
SUMMARY:Sound Market
DESCRIPTION:Música en vivo\, artesanía\, moda\, diseño\, zona infantil y mucho más en horario de tarde el sábado y de día completo el domingo \nMás información en el cartel adjunto \nDisfruta la cultura en Cantabria\, + x descubrir
URL:https://staging.turismodecantpruebas.eurocastaliahost4.com/proximamente-evento/sound-market/
LOCATION:Besaya
CATEGORIES:Espectáculos
ATTACH;FMTTYPE=image/jpeg:https://staging.turismodecantpruebas.eurocastaliahost4.com/wp-content/uploads/2023/04/ec99798f-a85a-8e79-1324-e6d493a3e9c7-8bnzeg.tmp-.jpg
END:VEVENT
BEGIN:VEVENT
DTSTART;VALUE=DATE:20211206
DTEND;VALUE=DATE:20211207
DTSTAMP:20260420T180444
CREATED:20231213T152325Z
LAST-MODIFIED:20240610T113229Z
UID:10013899-1638748800-1638835199@staging.turismodecantpruebas.eurocastaliahost4.com
SUMMARY:Música\, deporte y algo más
DESCRIPTION:Música\, deporte y algo más… programa de concierto estructurado en dos partes\, la primera de las cuales ensalza algunas de las melodías más destacadas dentro del mundo del deporte\, como We arte the champions\, Chariots of fire\, mientras que la segunda parte enfoca la música romántica desde el punto de vista de dos de los más destacados compositores franceses de dicho periodo histórico. \nMás información y reservas en la web oficial \nDisfruta la cultura en Cantabria\, + x descubrir
URL:https://staging.turismodecantpruebas.eurocastaliahost4.com/proximamente-evento/musica-deporte-y-algo-mas/
LOCATION:Besaya
CATEGORIES:Actividades con niños,Espectáculos
ATTACH;FMTTYPE=image/jpeg:https://staging.turismodecantpruebas.eurocastaliahost4.com/wp-content/uploads/2023/04/4b7b23c2-3f47-6279-be9d-137ad13bd734-bpkiyc.tmp-.jpg
END:VEVENT
BEGIN:VEVENT
DTSTART;VALUE=DATE:20211211
DTEND;VALUE=DATE:20211212
DTSTAMP:20260420T180444
CREATED:20231213T152353Z
LAST-MODIFIED:20240502T150941Z
UID:10013915-1639180800-1639267199@staging.turismodecantpruebas.eurocastaliahost4.com
SUMMARY:El último refugio del misterio
DESCRIPTION:El Pozo Tremeo es la única laguna natural de la franja costera de Cantabria. Desvelaremos todo lo que se conoce sobre su origen geológico y su funcionamiento\, hasta donde la ciencia llega en la actualidad. Esta pequeña joya guarda aún muchos interrogantes \nMás información e inscripciones de esta ruta lineal para toda la familia\, en la web oficial \nDisfruta la naturaleza en Cantabria\, + x descubrir
URL:https://staging.turismodecantpruebas.eurocastaliahost4.com/proximamente-evento/el-ultimo-refugio-del-misterio/
LOCATION:Besaya
CATEGORIES:Naturaleza
ATTACH;FMTTYPE=image/png:https://staging.turismodecantpruebas.eurocastaliahost4.com/wp-content/uploads/2023/04/72ff352d-0af0-e533-b723-2bc1bb115edb-4ewym3.tmp-.png
END:VEVENT
BEGIN:VEVENT
DTSTART;VALUE=DATE:20211211
DTEND;VALUE=DATE:20220106
DTSTAMP:20260420T180444
CREATED:20231213T152408Z
LAST-MODIFIED:20240515T154702Z
UID:10013921-1639180800-1641427199@staging.turismodecantpruebas.eurocastaliahost4.com
SUMMARY:Mercado Navideño
DESCRIPTION:Puedes visitarlo de las 10:30 a las 14:30 horas y de las 16:30 a las 20:30 horas \nDisfruta la Navidad en Cantabria\, + x descubrir
URL:https://staging.turismodecantpruebas.eurocastaliahost4.com/proximamente-evento/mercado-navideno/
LOCATION:Besaya
CATEGORIES:Fiestas y ferias
ATTACH;FMTTYPE=image/jpeg:https://staging.turismodecantpruebas.eurocastaliahost4.com/wp-content/uploads/2023/04/1645531f-3c6e-0779-bd96-34d3464aa95f-h7dsqm.tmp-.jpg
END:VEVENT
BEGIN:VEVENT
DTSTART;VALUE=DATE:20211212
DTEND;VALUE=DATE:20211213
DTSTAMP:20260420T180444
CREATED:20231213T152555Z
LAST-MODIFIED:20240515T145928Z
UID:10013924-1639267200-1639353599@staging.turismodecantpruebas.eurocastaliahost4.com
SUMMARY:La caja mágica
DESCRIPTION:No te pierdas este espectáculo perfecto para toda la familia \nDisfruta la cultura en Cantabria\, + x descubrir
URL:https://staging.turismodecantpruebas.eurocastaliahost4.com/proximamente-evento/la-caja-magica/
LOCATION:Besaya
CATEGORIES:Actividades con niños,Espectáculos
ATTACH;FMTTYPE=image/jpeg:https://staging.turismodecantpruebas.eurocastaliahost4.com/wp-content/uploads/2023/04/5b97586a-7e8d-3628-4850-321fb523e189-rgurvh.tmp-.jpg
END:VEVENT
BEGIN:VEVENT
DTSTART;VALUE=DATE:20211214
DTEND;VALUE=DATE:20220106
DTSTAMP:20260420T180444
CREATED:20231213T152742Z
LAST-MODIFIED:20240515T145915Z
UID:10013929-1639440000-1641427199@staging.turismodecantpruebas.eurocastaliahost4.com
SUMMARY:Pista de hielo Torrelavega
DESCRIPTION:Puedes visitarla en los siguientes horarios: \n\nHasta el 23 de diciembre de las 16:00 a las 21:30 horas\nDel 23 de diciembre al 5 de enero:\nDe lunes a viernes de las 11:30 a las 14:00 horas y de las 16:00 a las 21:30 horas\nSábados\, domingos y festivos de las 11:30 a las 14:00 horas y de las 16:00 a las 22:00 horas\nEn Nochebuena\, Nochevieja y Reyes se cierra a las 18:00 horas\n\nDisfruta la Navidad en Cantabria\, + x descubrir
URL:https://staging.turismodecantpruebas.eurocastaliahost4.com/proximamente-evento/pista-de-hielo-torrelavega/
LOCATION:Besaya
CATEGORIES:Actividades con niños,Navidad
ATTACH;FMTTYPE=image/jpeg:https://staging.turismodecantpruebas.eurocastaliahost4.com/wp-content/uploads/2023/04/7e020130-c831-3273-0874-323912f7f629-sqw1ko.tmp-.jpg
END:VEVENT
BEGIN:VEVENT
DTSTART;VALUE=DATE:20211217
DTEND;VALUE=DATE:20220106
DTSTAMP:20260420T180444
CREATED:20231213T152957Z
LAST-MODIFIED:20240515T145915Z
UID:10013939-1639699200-1641427199@staging.turismodecantpruebas.eurocastaliahost4.com
SUMMARY:La Navidad más cerca
DESCRIPTION:Puedes descargarte el programa completo en el fichero adjunto \nEntradas en la web oficial \nDisfruta Torrelavega en Cantabria\, + x descubrir
URL:https://staging.turismodecantpruebas.eurocastaliahost4.com/proximamente-evento/la-navidad-mas-cerca/
LOCATION:Besaya
CATEGORIES:Actividades con niños,Navidad
ATTACH;FMTTYPE=image/jpeg:https://staging.turismodecantpruebas.eurocastaliahost4.com/wp-content/uploads/2023/04/68c7310e-3f78-315d-2858-e953af6d0ea3-y9j7cw.tmp-.jpg
END:VEVENT
BEGIN:VEVENT
DTSTART;VALUE=DATE:20211218
DTEND;VALUE=DATE:20211219
DTSTAMP:20260420T180444
CREATED:20231213T153158Z
LAST-MODIFIED:20240503T090936Z
UID:10013944-1639785600-1639871999@staging.turismodecantpruebas.eurocastaliahost4.com
SUMMARY:Rosa Navidad
DESCRIPTION:Llega una nueva edición de este evento solidario a favor de la asociación española contra el cáncer. \nPuedes ver el programa completo en el fichero adjunto \nMás información y entradas en la web oficial \nDisfruta la solidaridad en Cantabria\, + x descubrir
URL:https://staging.turismodecantpruebas.eurocastaliahost4.com/proximamente-evento/rosa-navidad/
LOCATION:Besaya
CATEGORIES:Espectáculos
ATTACH;FMTTYPE=image/jpeg:https://staging.turismodecantpruebas.eurocastaliahost4.com/wp-content/uploads/2023/04/ff141e5a-3e66-1a37-44ed-d2dd3b60260d-afepjq.tmp-.jpg
END:VEVENT
BEGIN:VEVENT
DTSTART;VALUE=DATE:20211219
DTEND;VALUE=DATE:20220103
DTSTAMP:20260420T180444
CREATED:20231213T153213Z
LAST-MODIFIED:20240515T145914Z
UID:10013952-1639872000-1641167999@staging.turismodecantpruebas.eurocastaliahost4.com
SUMMARY:Circo de Navidad
DESCRIPTION:Un circo de ensueño en el que Raúl Alegría junto algunos de los mejores artistas circenses del mundo te cuentan una bonita historia de navidad. Payasos\, acróbatas\, malabaristas y la magia más impactante llegaran a la pista de este bonito circo para el disfrute de toda la familia. \n¿Quieres ilusionarte y sentir la magia de la navidad? Pues ven al Circo de Torrelavega donde veras hasta nevar en directo. \nMás información y entradas en la web oficial \nDisfruta la cultura en Cantabria\, + x descubrir
URL:https://staging.turismodecantpruebas.eurocastaliahost4.com/proximamente-evento/circo-de-navidad/
LOCATION:Besaya
CATEGORIES:Actividades con niños,Navidad
ATTACH;FMTTYPE=image/jpeg:https://staging.turismodecantpruebas.eurocastaliahost4.com/wp-content/uploads/2023/04/db5ef492-426c-65ad-d5bb-06f0d4ed60d2-46g3bn.tmp-.jpg
END:VEVENT
BEGIN:VEVENT
DTSTART;VALUE=DATE:20211222
DTEND;VALUE=DATE:20211225
DTSTAMP:20260420T180444
CREATED:20231213T153231Z
LAST-MODIFIED:20240515T145913Z
UID:10013957-1640131200-1640390399@staging.turismodecantpruebas.eurocastaliahost4.com
SUMMARY:Navidad en Cartes
DESCRIPTION:Puedes ver la programación completa en el fichero adjunto \nDisfruta la Navidad en Cantabria\, + x descubrir
URL:https://staging.turismodecantpruebas.eurocastaliahost4.com/proximamente-evento/navidad-en-cartes/
LOCATION:Besaya
CATEGORIES:Actividades con niños,Navidad
ATTACH;FMTTYPE=image/jpeg:https://staging.turismodecantpruebas.eurocastaliahost4.com/wp-content/uploads/2023/04/32976493-ef7f-e815-c5c6-75b803964975-qltkye.tmp-.jpg
END:VEVENT
BEGIN:VEVENT
DTSTART;VALUE=DATE:20211223
DTEND;VALUE=DATE:20220109
DTSTAMP:20260420T180444
CREATED:20231213T153353Z
LAST-MODIFIED:20240509T112733Z
UID:10013965-1640217600-1641686399@staging.turismodecantpruebas.eurocastaliahost4.com
SUMMARY:Cabaret Tabú
DESCRIPTION:Este antiguo cabaret abre sus puertas en Torrelavega para adentrarte en un lugar prohibido de lujuria y desenfreno. \nMucho humor\, transformismo\, streapers\, canción en directo\, magia\, acrobacias y mucha barra caliente. Todo ello amenizado por el presentador y gran monologuista Raúl Massana\, regado con los cocteles de Oscar Solana y dirigido por Raúl Alegría. \nNo te pierdas la noche más caliente de estas navidades. Porque no todo lo tabú es malo… \nMás información y entradas en la web oficial \nDisfruta la cultura en Cantabria\, + x descubrir
URL:https://staging.turismodecantpruebas.eurocastaliahost4.com/proximamente-evento/cabaret-tabu/
LOCATION:Besaya
CATEGORIES:Espectáculos
ATTACH;FMTTYPE=image/jpeg:https://staging.turismodecantpruebas.eurocastaliahost4.com/wp-content/uploads/2023/04/d7c0d665-ee15-0ede-1798-ef7acdfbefc8-tkb5rp.tmp-.jpg
END:VEVENT
BEGIN:VEVENT
DTSTART;VALUE=DATE:20211226
DTEND;VALUE=DATE:20211227
DTSTAMP:20260420T180444
CREATED:20231213T153408Z
LAST-MODIFIED:20240503T104654Z
UID:10013980-1640476800-1640563199@staging.turismodecantpruebas.eurocastaliahost4.com
SUMMARY:Cantemos El Mesías
DESCRIPTION:Puedes ver el programa en el cartel adjunto \nDisfruta la cultura en Cantabria\, + x descubrir
URL:https://staging.turismodecantpruebas.eurocastaliahost4.com/proximamente-evento/cantemos-el-mesias/
LOCATION:Besaya
CATEGORIES:Navidad
ATTACH;FMTTYPE=image/jpeg:https://staging.turismodecantpruebas.eurocastaliahost4.com/wp-content/uploads/2023/04/4353b728-953d-504f-61d4-a5faf53fac6b-i5boyu.tmp-.jpg
END:VEVENT
BEGIN:VEVENT
DTSTART;VALUE=DATE:20211226
DTEND;VALUE=DATE:20211227
DTSTAMP:20260420T180444
CREATED:20231213T153405Z
LAST-MODIFIED:20240515T145912Z
UID:10013975-1640476800-1640563199@staging.turismodecantpruebas.eurocastaliahost4.com
SUMMARY:San Silvestre solidaria Torrelavega
DESCRIPTION:Las inscripciones se pueden realizar en el gimnasio Move&Go y lo que hay que hacer es donar alimentos que irán a Cruz Roja \nMás información en el cartel adjunto \nDisfruta el deporte y la solidaridad en Cantabria\, + x descubrir
URL:https://staging.turismodecantpruebas.eurocastaliahost4.com/proximamente-evento/san-silvestre-solidaria-torrelavega/
LOCATION:Besaya
CATEGORIES:Actividades con niños,Deportes
ATTACH;FMTTYPE=image/jpeg:https://staging.turismodecantpruebas.eurocastaliahost4.com/wp-content/uploads/2023/04/8c85136c-91ec-4e58-d8ab-02d90ab0c1d4-smqqkb.tmp-.jpg
END:VEVENT
BEGIN:VEVENT
DTSTART;VALUE=DATE:20211227
DTEND;VALUE=DATE:20220105
DTSTAMP:20260420T180444
CREATED:20231213T153426Z
LAST-MODIFIED:20240515T145912Z
UID:10013985-1640563200-1641340799@staging.turismodecantpruebas.eurocastaliahost4.com
SUMMARY:Cuentacuentos
DESCRIPTION:Las sesiones se celebrarán los días 27\, 28\, 29 y 30 de diciembre y 3\, 4 de enero a las 17:00 horas \nMás información e invitaciones en la web oficial \nDisfruta la cultura en Cantabria\, + x descubrir
URL:https://staging.turismodecantpruebas.eurocastaliahost4.com/proximamente-evento/cuentacuentos/
LOCATION:Besaya
CATEGORIES:Actividades con niños
ATTACH;FMTTYPE=image/jpeg:https://staging.turismodecantpruebas.eurocastaliahost4.com/wp-content/uploads/2023/04/48432cae-39c4-ff92-acd8-2726d7e7a81c-ojtndb.tmp-.jpg
END:VEVENT
BEGIN:VEVENT
DTSTART;VALUE=DATE:20211228
DTEND;VALUE=DATE:20211229
DTSTAMP:20260420T180444
CREATED:20231213T153426Z
LAST-MODIFIED:20240515T145911Z
UID:10013986-1640649600-1640735999@staging.turismodecantpruebas.eurocastaliahost4.com
SUMMARY:La flauta mágica
DESCRIPTION:Para acercar la Opera de una forma amena a los más pequeños. \nPuedes difrutarlo a las 19:00 horas \nEntradas en la web oficial \nDisfruta la cultura en Cantabria\, + x descubrir
URL:https://staging.turismodecantpruebas.eurocastaliahost4.com/proximamente-evento/la-flauta-magica/
LOCATION:Besaya
CATEGORIES:Actividades con niños
ATTACH;FMTTYPE=image/jpeg:https://staging.turismodecantpruebas.eurocastaliahost4.com/wp-content/uploads/2023/04/845647f2-e65e-1667-2a2f-1c18cd1a065d-nd6hlu.tmp-.jpg
END:VEVENT
BEGIN:VEVENT
DTSTART;VALUE=DATE:20211230
DTEND;VALUE=DATE:20211231
DTSTAMP:20260420T180444
CREATED:20231213T153449Z
LAST-MODIFIED:20240515T145911Z
UID:10013997-1640822400-1640908799@staging.turismodecantpruebas.eurocastaliahost4.com
SUMMARY:Ciclo de villancicos navideños
DESCRIPTION:No te pierdas Torrelavega con aire navideño gracias a este concierto único \nDisfruta la cultura en Cantabria\, + x descubrir
URL:https://staging.turismodecantpruebas.eurocastaliahost4.com/proximamente-evento/ciclo-de-villancicos-navidenos/
LOCATION:Besaya
CATEGORIES:Actividades con niños,Navidad
ATTACH;FMTTYPE=image/jpeg:https://staging.turismodecantpruebas.eurocastaliahost4.com/wp-content/uploads/2023/04/521bdb93-577a-6e5c-744f-2f493db9560c-w7oibn.tmp-.jpg
END:VEVENT
BEGIN:VEVENT
DTSTART;VALUE=DATE:20220102
DTEND;VALUE=DATE:20220103
DTSTAMP:20260420T180444
CREATED:20231213T153509Z
LAST-MODIFIED:20240515T145910Z
UID:10014004-1641081600-1641167999@staging.turismodecantpruebas.eurocastaliahost4.com
SUMMARY:I San Riocorvense
DESCRIPTION:Los fondos recaudados se entregarána a la asociación de Cartes «Cuestion de Aptitu» \nDisfruta el deporte en Cantabria\, + x descubrir
URL:https://staging.turismodecantpruebas.eurocastaliahost4.com/proximamente-evento/i-san-riocorvense/
LOCATION:Besaya
CATEGORIES:Actividades con niños,Deportes
ATTACH;FMTTYPE=image/jpeg:https://staging.turismodecantpruebas.eurocastaliahost4.com/wp-content/uploads/2023/04/d3b4e3d7-edbe-75c3-7a28-888df23ecb6c-mf0ylh.tmp-.jpg
END:VEVENT
BEGIN:VEVENT
DTSTART;VALUE=DATE:20220104
DTEND;VALUE=DATE:20220124
DTSTAMP:20260420T180444
CREATED:20231213T153528Z
LAST-MODIFIED:20240610T153835Z
UID:10014011-1641254400-1642982399@staging.turismodecantpruebas.eurocastaliahost4.com
SUMMARY:Luciano Demetrio Herrero Proigas
DESCRIPTION:Puedes visitar la muestra: \n\nDe martes a viernes de las 16:30 a las 20:30 horas\nSábados de 12:00 a 14:00 horas y de las 16:30 a las 20:30 horas\nDomingos y festivos de las 11:00 a las 14:00 horas\n\nDisfruta la cultura en Cantabria\, + x descubrir
URL:https://staging.turismodecantpruebas.eurocastaliahost4.com/proximamente-evento/luciano-demetrio-herrero-proigas/
LOCATION:Besaya
CATEGORIES:Actividades con niños,Exposiciones
ATTACH;FMTTYPE=image/jpeg:https://staging.turismodecantpruebas.eurocastaliahost4.com/wp-content/uploads/2023/04/d417e80c-1a0d-04f1-78c5-90618d9867c0-1vnibl.tmp-.jpg
END:VEVENT
BEGIN:VEVENT
DTSTART;VALUE=DATE:20220104
DTEND;VALUE=DATE:20220215
DTSTAMP:20260420T180444
CREATED:20231213T153511Z
LAST-MODIFIED:20240610T153834Z
UID:10014008-1641254400-1644883199@staging.turismodecantpruebas.eurocastaliahost4.com
SUMMARY:Elogio del paisaje
DESCRIPTION:Puede visitarse de lunes a sábado de las 10:00 a las 13:30 horas y de las 17:30 a las 21:00 horas \nDisfruta la cultura en Cantabria\, + x descubrir
URL:https://staging.turismodecantpruebas.eurocastaliahost4.com/proximamente-evento/elogio-del-paisaje/
LOCATION:Besaya
CATEGORIES:Exposiciones
ATTACH;FMTTYPE=image/jpeg:https://staging.turismodecantpruebas.eurocastaliahost4.com/wp-content/uploads/2023/04/5b54c696-6bce-e2f0-320d-994506f5f44f-dfebfv.tmp-.jpg
END:VEVENT
BEGIN:VEVENT
DTSTART;VALUE=DATE:20220128
DTEND;VALUE=DATE:20220228
DTSTAMP:20260420T180444
CREATED:20231213T153719Z
LAST-MODIFIED:20240610T153833Z
UID:10014068-1643328000-1646006399@staging.turismodecantpruebas.eurocastaliahost4.com
SUMMARY:Nuevos & Raros
DESCRIPTION:Una nueva entrega expositiva de creadores inéditos o poco conocidos que muestran sus trabajos artísticos en el CNFoto José Manuel Rotella de Torrelavega. Los valores estéticos aquí exhibidos por medio de la pintura y la fotografía recorren un desarrollo estilístico múltiple\, sensible con la visualidad híbrida del arte más contemporáneo. \n“Nuevos &Raros” reúne a ocho artistas de distintas edades (alguno de ellos apenas roza la veintena de años). En todos existe un deseo por encontrar modos de expresión capaces de señalar un trayecto diferencial y contrastado con la producción de otros artistas. Signos de identidad a través de obras elegidas para descifrar el testimonio de sus propias realidades vivenciales y los usos sociales en las cuales se desarrollan.  \nMás información en el dossier adjunto \nDisfruta la cultura en Cantabria\, + x descubrir
URL:https://staging.turismodecantpruebas.eurocastaliahost4.com/proximamente-evento/nuevos-raros/
LOCATION:Besaya
CATEGORIES:Exposiciones
ATTACH;FMTTYPE=image/jpeg:https://staging.turismodecantpruebas.eurocastaliahost4.com/wp-content/uploads/2023/04/d290afdb-1cec-349d-41d8-49c17f81baad-04fj0h.tmp-.jpg
END:VEVENT
BEGIN:VEVENT
DTSTART;VALUE=DATE:20220129
DTEND;VALUE=DATE:20230101
DTSTAMP:20260420T180444
CREATED:20240517T105605Z
LAST-MODIFIED:20240610T102412Z
UID:10017901-1643414400-1672531199@staging.turismodecantpruebas.eurocastaliahost4.com
SUMMARY:Ruta de los transbordadores
DESCRIPTION:La ruta se realiza de miércoles a domingo: de 10:00 a 14:00h. \nNecesario SIEMPRE reserva previa en el teléfono 646 564 591 \nMás información y reservas en la web oficial \nDisfruta la naturaleza en Cantabria\, + x descubrir \n 
URL:https://staging.turismodecantpruebas.eurocastaliahost4.com/proximamente-evento/ruta-de-los-transbordadores/
LOCATION:Besaya
CATEGORIES:Todo el año
ATTACH;FMTTYPE=image/jpeg:https://staging.turismodecantpruebas.eurocastaliahost4.com/wp-content/uploads/2023/12/46539ca9-989a-db0f-6db4-cc843a33031d.jpg
END:VEVENT
BEGIN:VEVENT
DTSTART;VALUE=DATE:20220203
DTEND;VALUE=DATE:20220301
DTSTAMP:20260420T180444
CREATED:20231213T153925Z
LAST-MODIFIED:20240610T153833Z
UID:10014086-1643846400-1646092799@staging.turismodecantpruebas.eurocastaliahost4.com
SUMMARY:La Mirada enferma
DESCRIPTION:La muestra la componen 20 imágenes tomadas por los propos profesionales que han estado al frente de la pandemia \nDisfruta la cultura en Cantabria\, + x descubrir
URL:https://staging.turismodecantpruebas.eurocastaliahost4.com/proximamente-evento/la-mirada-enferma/
LOCATION:Besaya
CATEGORIES:Actividades con niños,Exposiciones
ATTACH;FMTTYPE=image/jpeg:https://staging.turismodecantpruebas.eurocastaliahost4.com/wp-content/uploads/2023/04/7316fef3-49ac-ef07-d9a6-41af3d7e78b9-xpvfgk.tmp-.jpg
END:VEVENT
BEGIN:VEVENT
DTSTART;VALUE=DATE:20220212
DTEND;VALUE=DATE:20220213
DTSTAMP:20260420T180444
CREATED:20231213T154026Z
LAST-MODIFIED:20240513T095922Z
UID:10014108-1644624000-1644710399@staging.turismodecantpruebas.eurocastaliahost4.com
SUMMARY:Clásica circuito La Roca - Trofeo Unomatrícula
DESCRIPTION:Más información\, programa e inscripciones en la web oficial \nDisfruta el deporte en Cantabria\, + x descubrir
URL:https://staging.turismodecantpruebas.eurocastaliahost4.com/proximamente-evento/clasica-circuito-la-roca-trofeo-unomatricula/
LOCATION:Besaya
CATEGORIES:Deportes
ATTACH;FMTTYPE=image/jpeg:https://staging.turismodecantpruebas.eurocastaliahost4.com/wp-content/uploads/2023/04/10ed710d-f629-d088-130e-604026a66a02-nlpggp.tmp-.jpg
END:VEVENT
BEGIN:VEVENT
DTSTART;VALUE=DATE:20220222
DTEND;VALUE=DATE:20220223
DTSTAMP:20260420T180444
CREATED:20231213T154118Z
LAST-MODIFIED:20240515T145850Z
UID:10014140-1645488000-1645574399@staging.turismodecantpruebas.eurocastaliahost4.com
SUMMARY:La curandera de palabras
DESCRIPTION:Entrada libre hasta completar aforo \nDisfruta la cultura en Cantabria\, + x descubrir
URL:https://staging.turismodecantpruebas.eurocastaliahost4.com/proximamente-evento/la-curandera-de-palabras/
LOCATION:Besaya
CATEGORIES:Actividades con niños
ATTACH;FMTTYPE=image/jpeg:https://staging.turismodecantpruebas.eurocastaliahost4.com/wp-content/uploads/2023/04/ac7fe3ba-7661-8dd8-66e6-31b624683970-fnmrbv.tmp-.jpg
END:VEVENT
BEGIN:VEVENT
DTSTART;VALUE=DATE:20220224
DTEND;VALUE=DATE:20220227
DTSTAMP:20260420T180444
CREATED:20231213T154124Z
LAST-MODIFIED:20240515T145849Z
UID:10014146-1645660800-1645919999@staging.turismodecantpruebas.eurocastaliahost4.com
SUMMARY:Carnaval de Torrelavega
DESCRIPTION:Puedes ver la programación completa en el fichero adjutno \nDisfruta el carnaval en Cantabria\, + x descubrir
URL:https://staging.turismodecantpruebas.eurocastaliahost4.com/proximamente-evento/carnaval-de-torrelavega/
LOCATION:Besaya
CATEGORIES:Actividades con niños,Carnaval
ATTACH;FMTTYPE=image/jpeg:https://staging.turismodecantpruebas.eurocastaliahost4.com/wp-content/uploads/2023/04/e745eba0-e78e-bb35-7d7d-46f22dd915cf-oof9rk.tmp-.jpg
END:VEVENT
BEGIN:VEVENT
DTSTART;VALUE=DATE:20220225
DTEND;VALUE=DATE:20220226
DTSTAMP:20260420T180444
CREATED:20231213T154128Z
LAST-MODIFIED:20240515T145849Z
UID:10014151-1645747200-1645833599@staging.turismodecantpruebas.eurocastaliahost4.com
SUMMARY:Carnaval en Bárcena de Pie de Concha
DESCRIPTION:Concurso de disfraces\, juegos\, karaoke\, baile\, gymkana y mucho más desde las 16:30 horas  \nDisfruta Bárcena de Pie de Concha en Cantabria\, + x descubrir
URL:https://staging.turismodecantpruebas.eurocastaliahost4.com/proximamente-evento/carnaval-en-barcena-de-pie-de-concha/
LOCATION:Besaya
CATEGORIES:Actividades con niños,Carnaval
ATTACH;FMTTYPE=image/jpeg:https://staging.turismodecantpruebas.eurocastaliahost4.com/wp-content/uploads/2023/04/cb9f6d13-ded5-f628-5dd8-7b4b1c815d84-m0luup.tmp-.jpg
END:VEVENT
END:VCALENDAR