BEGIN:VCALENDAR
VERSION:2.0
PRODID:-//Turismo de Cantabria - ECPv6.15.17//NONSGML v1.0//EN
CALSCALE:GREGORIAN
METHOD:PUBLISH
X-WR-CALNAME:Turismo de Cantabria
X-ORIGINAL-URL:https://staging.turismodecantpruebas.eurocastaliahost4.com
X-WR-CALDESC:Eventos para Turismo de Cantabria
REFRESH-INTERVAL;VALUE=DURATION:PT1H
X-Robots-Tag:noindex
X-PUBLISHED-TTL:PT1H
BEGIN:VTIMEZONE
TZID:Europe/Madrid
BEGIN:DAYLIGHT
TZOFFSETFROM:+0100
TZOFFSETTO:+0200
TZNAME:CEST
DTSTART:20240331T010000
END:DAYLIGHT
BEGIN:STANDARD
TZOFFSETFROM:+0200
TZOFFSETTO:+0100
TZNAME:CET
DTSTART:20241027T010000
END:STANDARD
BEGIN:DAYLIGHT
TZOFFSETFROM:+0100
TZOFFSETTO:+0200
TZNAME:CEST
DTSTART:20250330T010000
END:DAYLIGHT
BEGIN:STANDARD
TZOFFSETFROM:+0200
TZOFFSETTO:+0100
TZNAME:CET
DTSTART:20251026T010000
END:STANDARD
BEGIN:DAYLIGHT
TZOFFSETFROM:+0100
TZOFFSETTO:+0200
TZNAME:CEST
DTSTART:20260329T010000
END:DAYLIGHT
BEGIN:STANDARD
TZOFFSETFROM:+0200
TZOFFSETTO:+0100
TZNAME:CET
DTSTART:20261025T010000
END:STANDARD
BEGIN:DAYLIGHT
TZOFFSETFROM:+0100
TZOFFSETTO:+0200
TZNAME:CEST
DTSTART:20270328T010000
END:DAYLIGHT
BEGIN:STANDARD
TZOFFSETFROM:+0200
TZOFFSETTO:+0100
TZNAME:CET
DTSTART:20271031T010000
END:STANDARD
END:VTIMEZONE
BEGIN:VEVENT
DTSTART;TZID=Europe/Madrid:20251115T080000
DTEND;TZID=Europe/Madrid:20260419T170000
DTSTAMP:20260421T175952
CREATED:20251112T080804Z
LAST-MODIFIED:20260129T125701Z
UID:10020611-1763193600-1776618000@staging.turismodecantpruebas.eurocastaliahost4.com
SUMMARY:Itinerarios XXX
DESCRIPTION:Desde 1993\, la Fundación Botín otorga cada año sus Becas de Arte como apoyo a artistas españoles e internacionales en la formación\, investigación y producción. La exposición anual Itinerarios es la culminación de esta beca y plasma una amplia gama de intereses y prácticas artísticas. \nMás información en la web oficial \nLa cultura en Cantabria\, Apetece
URL:https://staging.turismodecantpruebas.eurocastaliahost4.com/proximamente-evento/itinerarios-xxx/
LOCATION:Santander\, Santander
CATEGORIES:Cultura
ATTACH;FMTTYPE=image/png:https://staging.turismodecantpruebas.eurocastaliahost4.com/wp-content/uploads/2025/11/itinerarios-xxx-centro-botin.png
END:VEVENT
BEGIN:VEVENT
DTSTART;TZID=Europe/Madrid:20260410T183000
DTEND;TZID=Europe/Madrid:20260410T193000
DTSTAMP:20260421T175952
CREATED:20260129T142819Z
LAST-MODIFIED:20260313T072104Z
UID:10020771-1775845800-1775849400@staging.turismodecantpruebas.eurocastaliahost4.com
SUMMARY:Piedra\, flor\, océano. Visita experiencia en “Itinerarios XXX”
DESCRIPTION:Adentrarse en Itinerarios XXX es hacer un viaje por paisajes\, relatos\, archivos familiares\, vínculos con animales marinos o talismanes gigantes que conectan con tradiciones casi olvidadas. Esta visita experiencia es un recorrido azaroso en el que estos elementos se interconectarán para generar diálogo y aprendizajes colectivos de forma lúdica y experimental. Los 6 proyectos que componen esta exposición nos invitan a observar el mundo desde lugares sutiles y simbólicos y constituyen un espacio de juego único\, ¿te lo vas a perder? \nJugaremos y experimentaremos de la mano de Jara Blanco\, que se dedica a la mediación\, gestión e investigación cultural desde hace más de diez años.  Ha colaborado con instituciones como el Museo de Arte Reina Sofía\, Intermediae\, Matadero Madrid\, la Fundación Extremeña de la Cultura o el Centro de Arte Joven de Madrid y con colectivos como La Liminal y BajoTeja. Actualmente ejerce como gestora cultural en el CCCQS – Quinta del Sordo. Es coautora de investigaciones colaborativas sobre arte y ciudad\, artefactos móviles y metodologías de mediación cultural y forma parte del grupo motor de AMECUM\, donde impulsa y coordina actividades y formaciones orientadas a fortalecer y visibilizar la profesión de la mediación cultural. Desde 2021 es también asesora de cultura del Centro Botín. \nMás información en la web oficial \nLa cultura en Cantabria\, Apetece
URL:https://staging.turismodecantpruebas.eurocastaliahost4.com/proximamente-evento/piedra-flor-oceano-visita-experiencia-en-itinerarios-xxx-2/
LOCATION:Santander\, Santander
CATEGORIES:Cultura
ATTACH;FMTTYPE=image/jpeg:https://staging.turismodecantpruebas.eurocastaliahost4.com/wp-content/uploads/2026/01/21.02.2026.-visita-experiencia-itinerarios1200-e1769696756610.jpg
END:VEVENT
END:VCALENDAR