BEGIN:VCALENDAR
VERSION:2.0
PRODID:-//Turismo de Cantabria - ECPv6.15.17//NONSGML v1.0//EN
CALSCALE:GREGORIAN
METHOD:PUBLISH
X-WR-CALNAME:Turismo de Cantabria
X-ORIGINAL-URL:https://staging.turismodecantpruebas.eurocastaliahost4.com
X-WR-CALDESC:Eventos para Turismo de Cantabria
REFRESH-INTERVAL;VALUE=DURATION:PT1H
X-Robots-Tag:noindex
X-PUBLISHED-TTL:PT1H
BEGIN:VTIMEZONE
TZID:Europe/Madrid
BEGIN:DAYLIGHT
TZOFFSETFROM:+0100
TZOFFSETTO:+0200
TZNAME:CEST
DTSTART:20210328T010000
END:DAYLIGHT
BEGIN:STANDARD
TZOFFSETFROM:+0200
TZOFFSETTO:+0100
TZNAME:CET
DTSTART:20211031T010000
END:STANDARD
BEGIN:DAYLIGHT
TZOFFSETFROM:+0100
TZOFFSETTO:+0200
TZNAME:CEST
DTSTART:20220327T010000
END:DAYLIGHT
BEGIN:STANDARD
TZOFFSETFROM:+0200
TZOFFSETTO:+0100
TZNAME:CET
DTSTART:20221030T010000
END:STANDARD
BEGIN:DAYLIGHT
TZOFFSETFROM:+0100
TZOFFSETTO:+0200
TZNAME:CEST
DTSTART:20230326T010000
END:DAYLIGHT
BEGIN:STANDARD
TZOFFSETFROM:+0200
TZOFFSETTO:+0100
TZNAME:CET
DTSTART:20231029T010000
END:STANDARD
BEGIN:DAYLIGHT
TZOFFSETFROM:+0100
TZOFFSETTO:+0200
TZNAME:CEST
DTSTART:20240331T010000
END:DAYLIGHT
BEGIN:STANDARD
TZOFFSETFROM:+0200
TZOFFSETTO:+0100
TZNAME:CET
DTSTART:20241027T010000
END:STANDARD
END:VTIMEZONE
BEGIN:VEVENT
DTSTART;VALUE=DATE:20221027
DTEND;VALUE=DATE:20221031
DTSTAMP:20260421T132136
CREATED:20231213T161534Z
LAST-MODIFIED:20240503T104700Z
UID:10015050-1666828800-1667174399@staging.turismodecantpruebas.eurocastaliahost4.com
SUMMARY:Samhain en Torrelavega
DESCRIPTION:No te pierdas el ciclo de conferencias Enirgmas en el teatro \nPuedes ver la programación en el fichero adjunto \nDisfruta la cultura en Cantabria\, + x descubrir
URL:https://staging.turismodecantpruebas.eurocastaliahost4.com/proximamente-evento/samhain-en-torrelavega/
LOCATION:Santander
CATEGORIES:Halloween
ATTACH;FMTTYPE=image/jpeg:https://staging.turismodecantpruebas.eurocastaliahost4.com/wp-content/uploads/2023/04/9f7d7c80-9232-3eaf-f56c-08fcddc0d8f6-jpszij.tmp-.jpg
END:VEVENT
BEGIN:VEVENT
DTSTART;VALUE=DATE:20221028
DTEND;VALUE=DATE:20221029
DTSTAMP:20260421T132136
CREATED:20231213T161546Z
LAST-MODIFIED:20240515T145609Z
UID:10015056-1666915200-1667001599@staging.turismodecantpruebas.eurocastaliahost4.com
SUMMARY:Pánico radioactivo
DESCRIPTION:Desde las 19 hasta las 00 horas ininterrumpidamente en turnos de 30 min. Cada turno podrán asistir 10 personas. \nMás información y reservas en la web oficial \nDisfruta Colindres en Cantabria\, + x descubrir
URL:https://staging.turismodecantpruebas.eurocastaliahost4.com/proximamente-evento/panico-radioactivo/
LOCATION:Santander
CATEGORIES:Actividades con niños,Halloween
ATTACH;FMTTYPE=image/jpeg:https://staging.turismodecantpruebas.eurocastaliahost4.com/wp-content/uploads/2023/04/652148f3-1245-411b-b292-e8663ac25610-p6y2cf.tmp-.jpg
END:VEVENT
BEGIN:VEVENT
DTSTART;VALUE=DATE:20221028
DTEND;VALUE=DATE:20221029
DTSTAMP:20260421T132136
CREATED:20231213T161535Z
LAST-MODIFIED:20240515T145609Z
UID:10015052-1666915200-1667001599@staging.turismodecantpruebas.eurocastaliahost4.com
SUMMARY:En Busca de la Magosta
DESCRIPTION:La actuación\, abierta a todo el público\, tendrá lugar junto al colegio CEIP Trasmiera \nDisfruta la cultura en Cantabria\, + x descubrir
URL:https://staging.turismodecantpruebas.eurocastaliahost4.com/proximamente-evento/en-busca-de-la-magosta/
LOCATION:Santander
CATEGORIES:Actividades con niños,Halloween
ATTACH;FMTTYPE=image/jpeg:https://staging.turismodecantpruebas.eurocastaliahost4.com/wp-content/uploads/2023/04/c3cf6387-6de6-49d3-8b35-f0fbbd7fd75c-mgtk50.tmp-.jpg
END:VEVENT
BEGIN:VEVENT
DTSTART;VALUE=DATE:20221028
DTEND;VALUE=DATE:20221101
DTSTAMP:20260421T132136
CREATED:20231213T161547Z
LAST-MODIFIED:20240515T145608Z
UID:10015057-1666915200-1667260799@staging.turismodecantpruebas.eurocastaliahost4.com
SUMMARY:Pasadizo terrorífico
DESCRIPTION:El viernes 28 y el lunes 31 de octubre se organizarán diversas actividades tanto para pequeños como para mayores. El grueso de las actividades se concentrará el viernes 28 por la tarde\, día elegido para abrir el pasadizo terrorífico en el Paseo de la Orconera a partir de las 18:00 horas. A las 18:30 horas llegará el turno de la actuación infantil y\, posteriormente\, el concurso de disfraces\, este año con la novedad de que se amplia para los mayores. En concreto\, habrá tres categorías: hasta 12 años\, de 12 a 18 años y mayores de 18.  En él\, la creatividad y la originalidad del disfraz serán clave para llevarse alguno de los premios en juego. Una vez finalice el certamen de disfraces\, habrá clases de baile y sesión musical de salsa\, bachata\, merengue\, chachachá y kizomba hasta que el pasadizo cierre sus puertas. \nEl lunes 31\, día de Halloween\, las actividades se trasladarán a la Biblioteca Miguel Artigas\, donde habrá un cuentacuentos con títeres a las 18:00 horas bajo el título “Historias de la Bruja Raruja”. Posteriormente\, a las 20:00 horas en la Plaza de Abastos\, dará comienzo el espectáculo de la Escuela de Danza de Covadonga Viadero basado en la película Coco y el Día de Muertos. \nDisfruta El Astillero en Cantabria\, + x descubrir
URL:https://staging.turismodecantpruebas.eurocastaliahost4.com/proximamente-evento/pasadizo-terrorifico/
LOCATION:Santander
CATEGORIES:Actividades con niños,Halloween
ATTACH;FMTTYPE=image/jpeg:https://staging.turismodecantpruebas.eurocastaliahost4.com/wp-content/uploads/2023/04/32ff6984-4b69-f990-1009-be34b3230ce1-5ifzem.tmp-.jpg
END:VEVENT
BEGIN:VEVENT
DTSTART;VALUE=DATE:20221028
DTEND;VALUE=DATE:20221102
DTSTAMP:20260421T132136
CREATED:20231213T161546Z
LAST-MODIFIED:20240503T103341Z
UID:10015055-1666915200-1667347199@staging.turismodecantpruebas.eurocastaliahost4.com
SUMMARY:Halloween en Camino Real de Selores
DESCRIPTION:Podrás vivir la ya conocida ambientación de Halloween del Hotel y reservar para la Cena Especial del 31/10 con la actuación de Mariachis. \nMás información en info@caminorealdeselores.com o en el teléfono 942706171 \nDisfruta Selores en Cantabria\, + x descubrir
URL:https://staging.turismodecantpruebas.eurocastaliahost4.com/proximamente-evento/halloween-en-camino-real-de-selores/
LOCATION:Santander
CATEGORIES:Experiencias
ATTACH;FMTTYPE=image/jpeg:https://staging.turismodecantpruebas.eurocastaliahost4.com/wp-content/uploads/2023/04/e6890a1a-6190-17ff-03b9-2ff24c46ddd6-avoovh.tmp-.jpg
END:VEVENT
BEGIN:VEVENT
DTSTART;VALUE=DATE:20221029
DTEND;VALUE=DATE:20221030
DTSTAMP:20260421T132136
CREATED:20231213T161600Z
LAST-MODIFIED:20240515T145608Z
UID:10015069-1667001600-1667087999@staging.turismodecantpruebas.eurocastaliahost4.com
SUMMARY:Fiesta de Halloween en Loredo
DESCRIPTION:Concursos de disfraces y calabazas\, pintacaras\, talleres\, mini disco\, chocolatada y mucho más \nDisfruta Loredo en Cantabria\, + x descubrir
URL:https://staging.turismodecantpruebas.eurocastaliahost4.com/proximamente-evento/fiesta-de-halloween-en-loredo/
LOCATION:Santander
CATEGORIES:Actividades con niños,Halloween
ATTACH;FMTTYPE=image/jpeg:https://staging.turismodecantpruebas.eurocastaliahost4.com/wp-content/uploads/2023/04/b41af2c1-8c73-92fd-57e7-6a7473dd2b16-ngqqjn.tmp-.jpg
END:VEVENT
BEGIN:VEVENT
DTSTART;VALUE=DATE:20221029
DTEND;VALUE=DATE:20221031
DTSTAMP:20260421T132136
CREATED:20231213T161601Z
LAST-MODIFIED:20240515T145608Z
UID:10015070-1667001600-1667174399@staging.turismodecantpruebas.eurocastaliahost4.com
SUMMARY:Halloween contra Samuin
DESCRIPTION:Magosta\, scape room\, talleres y mucho más \nMás información en elc artel adjunto \nDisfruta Medio Cudeyo en Cantabria\, + x descubrir
URL:https://staging.turismodecantpruebas.eurocastaliahost4.com/proximamente-evento/halloween-contra-samuin/
LOCATION:Santander
CATEGORIES:Actividades con niños,Halloween
ATTACH;FMTTYPE=image/jpeg:https://staging.turismodecantpruebas.eurocastaliahost4.com/wp-content/uploads/2023/04/d5eadf2b-9c74-8cd0-5bf1-a8f2ee27e07b-pxip0b.tmp-.jpg
END:VEVENT
BEGIN:VEVENT
DTSTART;VALUE=DATE:20221029
DTEND;VALUE=DATE:20221101
DTSTAMP:20260421T132136
CREATED:20231213T161602Z
LAST-MODIFIED:20240515T145607Z
UID:10015072-1667001600-1667260799@staging.turismodecantpruebas.eurocastaliahost4.com
SUMMARY:Halloween en Piélagos
DESCRIPTION:Puedes ver la programación completa en el fichero adjunto \nDisfruta Piélagos en Cantabria\, + x descubrir
URL:https://staging.turismodecantpruebas.eurocastaliahost4.com/proximamente-evento/halloween-en-pielagos/
LOCATION:Santander
CATEGORIES:Actividades con niños,Halloween
ATTACH;FMTTYPE=image/jpeg:https://staging.turismodecantpruebas.eurocastaliahost4.com/wp-content/uploads/2023/04/c80b392b-1f5c-1182-5c76-64cec10920f8-d258hx.tmp-.jpg
END:VEVENT
BEGIN:VEVENT
DTSTART;VALUE=DATE:20221029
DTEND;VALUE=DATE:20221101
DTSTAMP:20260421T132136
CREATED:20231213T161556Z
LAST-MODIFIED:20240611T100049Z
UID:10015065-1667001600-1667260799@staging.turismodecantpruebas.eurocastaliahost4.com
SUMMARY:Halloween night market
DESCRIPTION:Talleres\, pintacaras\, truco o trato\, concurso de disfraces y mucho más \nDisfruta San Vicente de la Barquera en Cantabria\, + x descubrir
URL:https://staging.turismodecantpruebas.eurocastaliahost4.com/proximamente-evento/halloween-night-market/
LOCATION:Santander
CATEGORIES:Actividades con niños,Halloween
ATTACH;FMTTYPE=image/jpeg:https://staging.turismodecantpruebas.eurocastaliahost4.com/wp-content/uploads/2023/04/55398273-aa3d-a721-68d0-2ad19666e828-waenpx.tmp-.jpg
END:VEVENT
BEGIN:VEVENT
DTSTART;VALUE=DATE:20221029
DTEND;VALUE=DATE:20221101
DTSTAMP:20260421T132136
CREATED:20231213T161556Z
LAST-MODIFIED:20240515T145607Z
UID:10015067-1667001600-1667260799@staging.turismodecantpruebas.eurocastaliahost4.com
SUMMARY:Halloween en Santander
DESCRIPTION:Con la Plaza Porticada y los Jardines de Pereda como principales localizaciones terroríficas. El programa no deja lugar a dudas: habrá sustos y seres maléficos encantados de causar muchas pesadillas. Seguro que haréis muchas fotos\, nos gustaría verlas si las publicáis incluyendo el ‘hashtag’ oficial #SantanderHalloween. \nPuedes ver la programación completa en el fichero adjunto \nDisfruta Santander en Cantabria\, + x descubrir
URL:https://staging.turismodecantpruebas.eurocastaliahost4.com/proximamente-evento/halloween-en-santander/
LOCATION:Santander
CATEGORIES:Actividades con niños,Halloween
ATTACH;FMTTYPE=image/jpeg:https://staging.turismodecantpruebas.eurocastaliahost4.com/wp-content/uploads/2023/04/a85cf6db-b8ab-53fa-172f-67e3bd4abd55-fnrnho.tmp-.jpg
END:VEVENT
BEGIN:VEVENT
DTSTART;VALUE=DATE:20221029
DTEND;VALUE=DATE:20221102
DTSTAMP:20260421T132136
CREATED:20231213T161556Z
LAST-MODIFIED:20240515T145607Z
UID:10015066-1667001600-1667347199@staging.turismodecantpruebas.eurocastaliahost4.com
SUMMARY:Descubre el Capricho más misterioso
DESCRIPTION:Nosotras somos muy de celebrarlo todo: desde la tradición local a las modas venidas de allende los mares. Todo sea por pasarlo bien con grandes y pequeños. \nAmpliación de horarios en el puente y una visita especial: la visita nocturna donde sabrás como entrar pero ¿salir? \nMás información y reservas en la web oficial \nDisfruta la cultura en Cantabria\, + x descubrir
URL:https://staging.turismodecantpruebas.eurocastaliahost4.com/proximamente-evento/descubre-el-capricho-mas-misterioso/
LOCATION:Santander
CATEGORIES:Actividades con niños,Halloween
ATTACH;FMTTYPE=image/jpeg:https://staging.turismodecantpruebas.eurocastaliahost4.com/wp-content/uploads/2023/04/a9d2fc4f-0f41-2ab7-e098-807bb8095c84-ofbsrl.tmp-.jpg
END:VEVENT
BEGIN:VEVENT
DTSTART;VALUE=DATE:20221030
DTEND;VALUE=DATE:20221101
DTSTAMP:20260421T132136
CREATED:20231213T161604Z
LAST-MODIFIED:20240610T153423Z
UID:10015074-1667088000-1667260799@staging.turismodecantpruebas.eurocastaliahost4.com
SUMMARY:Samahin en Esles
DESCRIPTION:Puedes ver el programa completo en el cartel adjunto \nDisfruta Esles de Cayón en Cantabria\, + x descubrir
URL:https://staging.turismodecantpruebas.eurocastaliahost4.com/proximamente-evento/samahin-en-esles/
LOCATION:Santander
CATEGORIES:Actividades con niños,Halloween
ATTACH;FMTTYPE=image/jpeg:https://staging.turismodecantpruebas.eurocastaliahost4.com/wp-content/uploads/2023/04/0d95067e-3f07-6971-d474-cc18d8ca2214-cvj6mg.tmp-.jpg
END:VEVENT
BEGIN:VEVENT
DTSTART;VALUE=DATE:20221031
DTEND;VALUE=DATE:20221101
DTSTAMP:20260421T132136
CREATED:20231213T161621Z
LAST-MODIFIED:20240515T145606Z
UID:10015090-1667174400-1667260799@staging.turismodecantpruebas.eurocastaliahost4.com
SUMMARY:Samuin en Noja
DESCRIPTION:Puedes ver la programación completa en el fichero adjunto \nDisfruta Noja en Cantabria\, + x descubrir
URL:https://staging.turismodecantpruebas.eurocastaliahost4.com/proximamente-evento/samuin-en-noja/
LOCATION:Santander
CATEGORIES:Actividades con niños,Halloween
ATTACH;FMTTYPE=image/jpeg:https://staging.turismodecantpruebas.eurocastaliahost4.com/wp-content/uploads/2023/04/a766372a-b7a1-6227-8b61-c39189408f13-vtvlgz.tmp-.jpg
END:VEVENT
BEGIN:VEVENT
DTSTART;VALUE=DATE:20221031
DTEND;VALUE=DATE:20221101
DTSTAMP:20260421T132136
CREATED:20231213T161620Z
LAST-MODIFIED:20240515T135826Z
UID:10015089-1667174400-1667260799@staging.turismodecantpruebas.eurocastaliahost4.com
SUMMARY:Halloween en Santoña
DESCRIPTION:Puedes ver el programa completo en el fichero adjunto \nDisfruta Santoña en Cantabria\, + x descubrir
URL:https://staging.turismodecantpruebas.eurocastaliahost4.com/proximamente-evento/halloween-en-santona/
LOCATION:Santander
CATEGORIES:Actividades con niños,Halloween
ATTACH;FMTTYPE=image/jpeg:https://staging.turismodecantpruebas.eurocastaliahost4.com/wp-content/uploads/2023/04/dbf10e89-63f3-9167-d494-f4b9dcff71c8-lx16bn.tmp-.jpg
END:VEVENT
BEGIN:VEVENT
DTSTART;VALUE=DATE:20221031
DTEND;VALUE=DATE:20221101
DTSTAMP:20260421T132136
CREATED:20231213T161619Z
LAST-MODIFIED:20240515T145606Z
UID:10015088-1667174400-1667260799@staging.turismodecantpruebas.eurocastaliahost4.com
SUMMARY:Samhain Puente San Miguel
DESCRIPTION:Más información en el cartel adjunto \nDisfruta Puente San Miguel en Cantabria\, + x descubrir
URL:https://staging.turismodecantpruebas.eurocastaliahost4.com/proximamente-evento/samhain-puente-san-miguel/
LOCATION:Santander
CATEGORIES:Actividades con niños,Halloween
ATTACH;FMTTYPE=image/jpeg:https://staging.turismodecantpruebas.eurocastaliahost4.com/wp-content/uploads/2023/04/e06d3e5c-8edb-cca2-1910-2113020e00f6-v2f2ty.tmp-.jpg
END:VEVENT
BEGIN:VEVENT
DTSTART;VALUE=DATE:20221031
DTEND;VALUE=DATE:20221101
DTSTAMP:20260421T132136
CREATED:20231213T161618Z
LAST-MODIFIED:20240515T145606Z
UID:10015085-1667174400-1667260799@staging.turismodecantpruebas.eurocastaliahost4.com
SUMMARY:Halloween Elechas
DESCRIPTION:Puedes ver el programa completo en el fichero adjunto \nDisfruta Elechas en Cantabria\, + x descubrir
URL:https://staging.turismodecantpruebas.eurocastaliahost4.com/proximamente-evento/halloween-elechas/
LOCATION:Santander
CATEGORIES:Actividades con niños,Halloween
ATTACH;FMTTYPE=image/jpeg:https://staging.turismodecantpruebas.eurocastaliahost4.com/wp-content/uploads/2023/04/fe043c99-98f5-8a63-7197-c72007b05a5b-77tddu.tmp-.jpg
END:VEVENT
BEGIN:VEVENT
DTSTART;VALUE=DATE:20221031
DTEND;VALUE=DATE:20221101
DTSTAMP:20260421T132136
CREATED:20231213T161618Z
LAST-MODIFIED:20240515T145606Z
UID:10015086-1667174400-1667260799@staging.turismodecantpruebas.eurocastaliahost4.com
SUMMARY:Samuin en Limpias
DESCRIPTION:Puedes ver la programación completa en el fichero adjunto \nDisfruta Limpias en Cantabria\, + x descubrir
URL:https://staging.turismodecantpruebas.eurocastaliahost4.com/proximamente-evento/samuin-en-limpias/
LOCATION:Santander
CATEGORIES:Actividades con niños,Halloween
ATTACH;FMTTYPE=image/jpeg:https://staging.turismodecantpruebas.eurocastaliahost4.com/wp-content/uploads/2023/04/6fbade0a-80f9-5055-5a57-a1a1f70cf98e-zpeptw.tmp-.jpg
END:VEVENT
BEGIN:VEVENT
DTSTART;VALUE=DATE:20221031
DTEND;VALUE=DATE:20221101
DTSTAMP:20260421T132136
CREATED:20231213T161618Z
LAST-MODIFIED:20240515T145606Z
UID:10015087-1667174400-1667260799@staging.turismodecantpruebas.eurocastaliahost4.com
SUMMARY:El manicomio maldito
DESCRIPTION:Solo apto a aprtir de 12 años de las 20:30 a las 23:00 horas \nDisfruta Lloreda en Cantabria\, + x descubrir
URL:https://staging.turismodecantpruebas.eurocastaliahost4.com/proximamente-evento/el-manicomio-maldito/
LOCATION:Santander
CATEGORIES:Actividades con niños,Halloween
ATTACH;FMTTYPE=image/jpeg:https://staging.turismodecantpruebas.eurocastaliahost4.com/wp-content/uploads/2023/04/a9bd6a52-1c5f-4110-7802-03c5c51cc80a-0bqljs.tmp-.jpg
END:VEVENT
BEGIN:VEVENT
DTSTART;VALUE=DATE:20221031
DTEND;VALUE=DATE:20221101
DTSTAMP:20260421T132136
CREATED:20231213T161610Z
LAST-MODIFIED:20240515T145607Z
UID:10015083-1667174400-1667260799@staging.turismodecantpruebas.eurocastaliahost4.com
SUMMARY:Samuin en Comillas
DESCRIPTION:Casa del terror\, pasacalles\, concurso de calabazas\, chocolatada y muchas sorpresas más \nDisfruta Comillas en Cantabria\, + x descubrir
URL:https://staging.turismodecantpruebas.eurocastaliahost4.com/proximamente-evento/samuin-en-comillas/
LOCATION:Santander
CATEGORIES:Actividades con niños,Halloween
ATTACH;FMTTYPE=image/jpeg:https://staging.turismodecantpruebas.eurocastaliahost4.com/wp-content/uploads/2023/04/865a6b1b-10ad-da4d-ab37-f1d877b25387-iafc6l.tmp-.jpg
END:VEVENT
BEGIN:VEVENT
DTSTART;VALUE=DATE:20221031
DTEND;VALUE=DATE:20221101
DTSTAMP:20260421T132136
CREATED:20231213T161608Z
LAST-MODIFIED:20240515T145607Z
UID:10015079-1667174400-1667260799@staging.turismodecantpruebas.eurocastaliahost4.com
SUMMARY:Magosta de difuntos
DESCRIPTION:No te pierdas esta fiesta para toda la familia desde las 19:00 horas \nPasadizo\, hinchables\, brujas chocolateras\, castañas\, sobaos y mucho más \nDisfruta Maliaño en Cantabria\, + x descubrir
URL:https://staging.turismodecantpruebas.eurocastaliahost4.com/proximamente-evento/magosta-de-difuntos/
LOCATION:Santander
CATEGORIES:Actividades con niños,Halloween
ATTACH;FMTTYPE=image/jpeg:https://staging.turismodecantpruebas.eurocastaliahost4.com/wp-content/uploads/2023/04/6f3d4a8b-9275-f177-b012-c422b1334b6a-ocw0lr.tmp-.jpg
END:VEVENT
BEGIN:VEVENT
DTSTART;VALUE=DATE:20221031
DTEND;VALUE=DATE:20221101
DTSTAMP:20260421T132136
CREATED:20231213T161605Z
LAST-MODIFIED:20240515T145607Z
UID:10015077-1667174400-1667260799@staging.turismodecantpruebas.eurocastaliahost4.com
SUMMARY:Samuin en Santa María de Cayón
DESCRIPTION:Puedes ver la programación completa en el fichero adjunto \nDisfruta Sarón en Cantabria\, + x descubrir
URL:https://staging.turismodecantpruebas.eurocastaliahost4.com/proximamente-evento/samuin-en-santa-maria-de-cayon/
LOCATION:Santander
CATEGORIES:Actividades con niños,Halloween
ATTACH;FMTTYPE=image/jpeg:https://staging.turismodecantpruebas.eurocastaliahost4.com/wp-content/uploads/2023/04/bbda7767-89a4-e579-0fe1-8ff86618d110-w0jeqn.tmp-.jpg
END:VEVENT
BEGIN:VEVENT
DTSTART;VALUE=DATE:20221031
DTEND;VALUE=DATE:20221105
DTSTAMP:20260421T132136
CREATED:20231213T161617Z
LAST-MODIFIED:20240503T091015Z
UID:10015084-1667174400-1667606399@staging.turismodecantpruebas.eurocastaliahost4.com
SUMMARY:Halloween en Santa Cruz de Bezana
DESCRIPTION:Halloween toma las calles de Santa Cruz de Bezana ¿Te lo vas a perder? \nPuedes consultar la programación en el fichero adjunto \nDisfruta Santa Cruz de Bezana en Cantabria\, + x descubrir
URL:https://staging.turismodecantpruebas.eurocastaliahost4.com/proximamente-evento/halloween-en-santa-cruz-de-bezana/
LOCATION:Santander
CATEGORIES:Halloween
ATTACH;FMTTYPE=image/jpeg:https://staging.turismodecantpruebas.eurocastaliahost4.com/wp-content/uploads/2023/04/69082979-ca90-9958-6223-449333fce1a9-ebhn4l.tmp-.jpg
END:VEVENT
BEGIN:VEVENT
DTSTART;VALUE=DATE:20221031
DTEND;VALUE=DATE:20221105
DTSTAMP:20260421T132136
CREATED:20231213T161609Z
LAST-MODIFIED:20240515T145606Z
UID:10015082-1667174400-1667606399@staging.turismodecantpruebas.eurocastaliahost4.com
SUMMARY:Escenario Campus Market
DESCRIPTION:Más información e inscripciones en la web oficial \nDisfruta Halloween en Cantabria\, + x descubrir
URL:https://staging.turismodecantpruebas.eurocastaliahost4.com/proximamente-evento/escenario-campus-market/
LOCATION:Santander
CATEGORIES:Actividades con niños,Halloween
ATTACH;FMTTYPE=image/jpeg:https://staging.turismodecantpruebas.eurocastaliahost4.com/wp-content/uploads/2023/04/7c4e5b7c-a37e-a559-4906-ae69e410e7c4-b4nxny.tmp-.jpg
END:VEVENT
BEGIN:VEVENT
DTSTART;VALUE=DATE:20221031
DTEND;VALUE=DATE:20221105
DTSTAMP:20260421T132136
CREATED:20231213T161606Z
LAST-MODIFIED:20240515T145606Z
UID:10015078-1667174400-1667606399@staging.turismodecantpruebas.eurocastaliahost4.com
SUMMARY:Curso de cocina para niños
DESCRIPTION:De 10 de la mañana a 13.45 los niños podrán disfrutar del aprendizaje gastronómico en las cocinas de Las Carolinas. \nUna experiencia culinaria muy divertida en la que los requisitos son: venir disfrazados\, dar mucho miedo y ganas de pasarlo bien. \nPara las inscripciones pueden llamar al 942 36 70 30. \nDisfruta la gastronomía en Cantabria\, + x descubrir
URL:https://staging.turismodecantpruebas.eurocastaliahost4.com/proximamente-evento/curso-de-cocina-para-ninos/
LOCATION:Santander
CATEGORIES:Actividades con niños
ATTACH;FMTTYPE=image/jpeg:https://staging.turismodecantpruebas.eurocastaliahost4.com/wp-content/uploads/2023/04/5dc0fcd6-115d-10dc-6895-803ed941a51b-sj85bk.tmp-.jpg
END:VEVENT
BEGIN:VEVENT
DTSTART;VALUE=DATE:20231027
DTEND;VALUE=DATE:20231030
DTSTAMP:20260421T132136
CREATED:20231214T111727Z
LAST-MODIFIED:20240515T140808Z
UID:10016678-1698364800-1698623999@staging.turismodecantpruebas.eurocastaliahost4.com
SUMMARY:Halloween en Laredo
DESCRIPTION:Puedes ver el programa completo en el fichero adjunto \nDisfruta Laredo en Cantabria\, + x descubrir
URL:https://staging.turismodecantpruebas.eurocastaliahost4.com/proximamente-evento/halloween-en-laredo/
LOCATION:Santander
CATEGORIES:Actividades con niños,Halloween
ATTACH;FMTTYPE=image/jpeg:https://staging.turismodecantpruebas.eurocastaliahost4.com/wp-content/uploads/2023/12/4e4cc626-f065-7edc-99a8-1fd2729c8bea-3vrjy5.tmp-.jpg
END:VEVENT
BEGIN:VEVENT
DTSTART;VALUE=DATE:20231027
DTEND;VALUE=DATE:20231101
DTSTAMP:20260421T132136
CREATED:20231214T111723Z
LAST-MODIFIED:20240502T152041Z
UID:10016674-1698364800-1698796799@staging.turismodecantpruebas.eurocastaliahost4.com
SUMMARY:Halloween en Torrelavega
DESCRIPTION:Halloween 2023 comenzará el 27 de octubre con una de las principales novedades de esta edición\, el Survival Zombie que tendrá lugar por el entorno del Parque Manuel Barquín de 22 horas a cuatro de la madrugada. Las inscripciones se pueden realizar a través de la web: www.survivalzombie.es/survival/torrelavega-cantabria/ El precio es de 16\,50 euros para empadronados y de 33 euros para el resto. \nEl 28 y 29 de octubre\, a las 20 horas\, en el IES Marqués de Santillana\, tendrá lugar un Maratón de Cine de Terror dirigido a mayores de 16 años\, de acceso gratuito. Se proyectarán películas “de culto” de este género como ‘Viernes 13’\, ‘La matanza de Texas’… \nEl 30 de octubre\, para niños y niñas mayores de 10 años se ha programado la obra de teatro ‘Don Juanloween’ en la que no faltarán versos\, miedo y humor de la mano de fantasmas. \nY el 31 de octubre\, Noche de los Difuntos\, la Plaza Baldomero Iglesias se convierte en el escenario “principal” de Halloween con varias actividades que incluyen: un Taller de Repostería gratuito para niños y niñas a partir de 5 años\, las inscripciones se pueden realizar en el número 633887825; pasacalles con los espectáculos de “gran formato” ‘Mostruos’ y ‘Tutankamon’; y la verbena infantil\, a partir de las 20.30 horas. \nOtra de las novedades de esta edición es que el 31 de octubre la Zona de Vinos albergará diferentes actividades organizadas en colaboración de los hosteleros\, así por ejemplo\, a partir de las 18 horas pintacaras\, concurso de disfraces… y a las 22 horas actuaciones de DJ. \nDisfruta Torrelavega en Cantabria\, + x descubrir
URL:https://staging.turismodecantpruebas.eurocastaliahost4.com/proximamente-evento/halloween-en-torrelavega/
LOCATION:Santander
CATEGORIES:Halloween
ATTACH;FMTTYPE=image/jpeg:https://staging.turismodecantpruebas.eurocastaliahost4.com/wp-content/uploads/2023/12/4eabc3d4-f359-4fb1-1e85-99deedbf8458-lrwifw.tmp-.jpg
END:VEVENT
BEGIN:VEVENT
DTSTART;VALUE=DATE:20231028
DTEND;VALUE=DATE:20231029
DTSTAMP:20260421T132136
CREATED:20231214T111757Z
LAST-MODIFIED:20240515T140808Z
UID:10016694-1698451200-1698537599@staging.turismodecantpruebas.eurocastaliahost4.com
SUMMARY:Halloween en Ruente
DESCRIPTION:Puedes ver la programación completa en el fichero adjunto \nDisfruta Ruente en Cantabria\, + x descubrir
URL:https://staging.turismodecantpruebas.eurocastaliahost4.com/proximamente-evento/halloween-en-ruente/
LOCATION:Santander
CATEGORIES:Actividades con niños,Halloween
ATTACH;FMTTYPE=image/jpeg:https://staging.turismodecantpruebas.eurocastaliahost4.com/wp-content/uploads/2023/12/27cb6edd-142c-fb96-2ba3-9ac614e10604-rzgtnb.tmp-.jpg
END:VEVENT
BEGIN:VEVENT
DTSTART;VALUE=DATE:20231028
DTEND;VALUE=DATE:20231029
DTSTAMP:20260421T132136
CREATED:20231214T111744Z
LAST-MODIFIED:20240515T140808Z
UID:10016689-1698451200-1698537599@staging.turismodecantpruebas.eurocastaliahost4.com
SUMMARY:El Circo Maldito
DESCRIPTION:El pasaje del terror comenzará a las 20:30 horas \nDisfruta Lloreda de Cayón en Cantabria\, + x descubrir
URL:https://staging.turismodecantpruebas.eurocastaliahost4.com/proximamente-evento/el-circo-maldito/
LOCATION:Santander
CATEGORIES:Actividades con niños,Halloween
ATTACH;FMTTYPE=image/jpeg:https://staging.turismodecantpruebas.eurocastaliahost4.com/wp-content/uploads/2023/12/5b209f37-c615-7434-0269-4a8a6b885ee0-ngaxkw.tmp-.jpg
END:VEVENT
BEGIN:VEVENT
DTSTART;VALUE=DATE:20231028
DTEND;VALUE=DATE:20231029
DTSTAMP:20260421T132136
CREATED:20231214T111741Z
LAST-MODIFIED:20260227T104055Z
UID:10016688-1698451200-1698537599@staging.turismodecantpruebas.eurocastaliahost4.com
SUMMARY:Yincana terrorífica
DESCRIPTION:Más información y normas en el fichero adjunto y en la web oficial \nDisfruta Riaño en Cantabria\, + x descubrir
URL:https://staging.turismodecantpruebas.eurocastaliahost4.com/proximamente-evento/yincana-terrorifica/
LOCATION:Santander
CATEGORIES:Halloween
ATTACH;FMTTYPE=image/jpeg:https://staging.turismodecantpruebas.eurocastaliahost4.com/wp-content/uploads/2023/12/87752fa1-d5ca-76cb-80ee-4fd9d882097e-bksqls.tmp-.jpg
END:VEVENT
BEGIN:VEVENT
DTSTART;VALUE=DATE:20231028
DTEND;VALUE=DATE:20231029
DTSTAMP:20260421T132136
CREATED:20231214T111732Z
LAST-MODIFIED:20240515T140808Z
UID:10016683-1698451200-1698537599@staging.turismodecantpruebas.eurocastaliahost4.com
SUMMARY:Pasaje del terror de Cartes
DESCRIPTION:No te pierdas las séptima edición de esta fiesta de halloween que comenzará a las 19:30 horas \nDisfruta Cartes en Cantabria\, + x descubrir
URL:https://staging.turismodecantpruebas.eurocastaliahost4.com/proximamente-evento/pasaje-del-terror-de-cartes/
LOCATION:Santander
CATEGORIES:Actividades con niños,Halloween
ATTACH;FMTTYPE=image/jpeg:https://staging.turismodecantpruebas.eurocastaliahost4.com/wp-content/uploads/2023/12/981ea3d9-20bb-34d3-ffa5-80f47e6d1d86-fwcnih.tmp-.jpg
END:VEVENT
END:VCALENDAR