BEGIN:VCALENDAR
VERSION:2.0
PRODID:-//Turismo de Cantabria - ECPv6.15.17//NONSGML v1.0//EN
CALSCALE:GREGORIAN
METHOD:PUBLISH
X-ORIGINAL-URL:https://staging.turismodecantpruebas.eurocastaliahost4.com
X-WR-CALDESC:Eventos para Turismo de Cantabria
REFRESH-INTERVAL;VALUE=DURATION:PT1H
X-Robots-Tag:noindex
X-PUBLISHED-TTL:PT1H
BEGIN:VTIMEZONE
TZID:Europe/Madrid
BEGIN:DAYLIGHT
TZOFFSETFROM:+0100
TZOFFSETTO:+0200
TZNAME:CEST
DTSTART:20240331T010000
END:DAYLIGHT
BEGIN:STANDARD
TZOFFSETFROM:+0200
TZOFFSETTO:+0100
TZNAME:CET
DTSTART:20241027T010000
END:STANDARD
BEGIN:DAYLIGHT
TZOFFSETFROM:+0100
TZOFFSETTO:+0200
TZNAME:CEST
DTSTART:20250330T010000
END:DAYLIGHT
BEGIN:STANDARD
TZOFFSETFROM:+0200
TZOFFSETTO:+0100
TZNAME:CET
DTSTART:20251026T010000
END:STANDARD
BEGIN:DAYLIGHT
TZOFFSETFROM:+0100
TZOFFSETTO:+0200
TZNAME:CEST
DTSTART:20260329T010000
END:DAYLIGHT
BEGIN:STANDARD
TZOFFSETFROM:+0200
TZOFFSETTO:+0100
TZNAME:CET
DTSTART:20261025T010000
END:STANDARD
END:VTIMEZONE
BEGIN:VEVENT
DTSTART;TZID=Europe/Madrid:20250711T210000
DTEND;TZID=Europe/Madrid:20250711T223000
DTSTAMP:20260420T203741
CREATED:20250701T071217Z
LAST-MODIFIED:20260227T105642Z
UID:10020255-1752267600-1752273000@staging.turismodecantpruebas.eurocastaliahost4.com
SUMMARY:Homenaje a Antonino Herrera
DESCRIPTION:El Teatro Municipal Concha Espina (TMCE) de Torrelavega acogerá un emotivo homenaje a Antonino Herrera\, figura destacada del ámbito coral en Cantabria. \nEste evento gratuito reunirá a varias agrupaciones corales de la región en una velada cargada de emoción y tradición musical. \nAgrupaciones participantes:\n\n\nSociedad Coral de Torrelavega \n\n\nCoro Santa María de Solvay \n\n\nCoro Ronda Garcilaso \n\n\nCoral San Miguel (Puente San Miguel) \n\n\nCoro Ronda Besaya \n\n\nOrganizado por el Coro Ronda Besaya\, este homenaje es una oportunidad única para disfrutar del rico patrimonio coral cántabro y rendir tributo a una trayectoria musical de gran relevancia en la comunidad. \nLa entrada es gratuita hasta completar aforo\, y se pueden reservar localidades en la web del teatro o en taquilla. \nInformación de interés:\n\n\nLugar: Teatro Municipal Concha Espina\, Torrelavega \n\n\nFecha: Viernes 11 de julio \n\n\nHora: 21:00 \n\n\nEntrada gratuita (con reserva previa) \n\n\n \n 
URL:https://staging.turismodecantpruebas.eurocastaliahost4.com/proximamente-evento/homenaje-a-antonino-herrera/
LOCATION:Torrelavega\, Torrelavega\, Besaya
CATEGORIES:Cultura
ATTACH;FMTTYPE=image/jpeg:https://staging.turismodecantpruebas.eurocastaliahost4.com/wp-content/uploads/2025/07/homenaje-a-antonino-herrera-imagen.jpg
END:VEVENT
END:VCALENDAR