BEGIN:VCALENDAR
VERSION:2.0
PRODID:-//Turismo de Cantabria - ECPv6.15.17//NONSGML v1.0//EN
CALSCALE:GREGORIAN
METHOD:PUBLISH
X-WR-CALNAME:Turismo de Cantabria
X-ORIGINAL-URL:https://staging.turismodecantpruebas.eurocastaliahost4.com
X-WR-CALDESC:Eventos para Turismo de Cantabria
REFRESH-INTERVAL;VALUE=DURATION:PT1H
X-Robots-Tag:noindex
X-PUBLISHED-TTL:PT1H
BEGIN:VTIMEZONE
TZID:Europe/Madrid
BEGIN:DAYLIGHT
TZOFFSETFROM:+0100
TZOFFSETTO:+0200
TZNAME:CEST
DTSTART:20210328T010000
END:DAYLIGHT
BEGIN:STANDARD
TZOFFSETFROM:+0200
TZOFFSETTO:+0100
TZNAME:CET
DTSTART:20211031T010000
END:STANDARD
BEGIN:DAYLIGHT
TZOFFSETFROM:+0100
TZOFFSETTO:+0200
TZNAME:CEST
DTSTART:20220327T010000
END:DAYLIGHT
BEGIN:STANDARD
TZOFFSETFROM:+0200
TZOFFSETTO:+0100
TZNAME:CET
DTSTART:20221030T010000
END:STANDARD
BEGIN:DAYLIGHT
TZOFFSETFROM:+0100
TZOFFSETTO:+0200
TZNAME:CEST
DTSTART:20230326T010000
END:DAYLIGHT
BEGIN:STANDARD
TZOFFSETFROM:+0200
TZOFFSETTO:+0100
TZNAME:CET
DTSTART:20231029T010000
END:STANDARD
BEGIN:DAYLIGHT
TZOFFSETFROM:+0100
TZOFFSETTO:+0200
TZNAME:CEST
DTSTART:20240331T010000
END:DAYLIGHT
BEGIN:STANDARD
TZOFFSETFROM:+0200
TZOFFSETTO:+0100
TZNAME:CET
DTSTART:20241027T010000
END:STANDARD
BEGIN:DAYLIGHT
TZOFFSETFROM:+0100
TZOFFSETTO:+0200
TZNAME:CEST
DTSTART:20250330T010000
END:DAYLIGHT
BEGIN:STANDARD
TZOFFSETFROM:+0200
TZOFFSETTO:+0100
TZNAME:CET
DTSTART:20251026T010000
END:STANDARD
BEGIN:DAYLIGHT
TZOFFSETFROM:+0100
TZOFFSETTO:+0200
TZNAME:CEST
DTSTART:20260329T010000
END:DAYLIGHT
BEGIN:STANDARD
TZOFFSETFROM:+0200
TZOFFSETTO:+0100
TZNAME:CET
DTSTART:20261025T010000
END:STANDARD
END:VTIMEZONE
BEGIN:VEVENT
DTSTART;VALUE=DATE:20251017
DTEND;VALUE=DATE:20251117
DTSTAMP:20260420T093232
CREATED:20251009T151439Z
LAST-MODIFIED:20251014T063549Z
UID:10015003-1760659200-1763337599@staging.turismodecantpruebas.eurocastaliahost4.com
SUMMARY:Jornadas de la langosta
DESCRIPTION:El Hotel Astuy de Isla celebra sus 18ª Jornadas de la Langosta\, una cita que une gastronomía\, paisaje y tradición marinera en la costa oriental de Cantabria. \nDel 17 de octubre al 16 de noviembre\, los amantes del marisco podrán disfrutar de un menú degustación exclusivo y escapadas gastronómicas con alojamiento frente al mar. \nMás información en la web oficial \nLa gastronomía en Cantabria\, Apetece
URL:https://staging.turismodecantpruebas.eurocastaliahost4.com/proximamente-evento/jornadas-de-la-langosta/
LOCATION:Arnuero\, Arnuero\, Trasmiera
CATEGORIES:Gastronomía
ATTACH;FMTTYPE=image/jpeg:https://staging.turismodecantpruebas.eurocastaliahost4.com/wp-content/uploads/2025/10/banner-itm-langosta-2024-640x280px-e1760423469227.jpg
END:VEVENT
BEGIN:VEVENT
DTSTART;VALUE=DATE:20251004
DTEND;VALUE=DATE:20251019
DTSTAMP:20260420T093232
CREATED:20250921T100603Z
LAST-MODIFIED:20251010T065131Z
UID:10016409-1759536000-1760831999@staging.turismodecantpruebas.eurocastaliahost4.com
SUMMARY:Paseo marinero\, Isla y sus langostas
DESCRIPTION:Comenzamos el itinerario en la playa de Los Barcos\, donde visitaremos el primero de los antiguos viveros. A continuación paramos en la Ermita de San Sebastián\, donde se encontraba la desaparecida “Casa de Ballenas”\, seguiremos por el paseo marítimo y subiremos al mirador desde donde divisar la playa del Sable. Continuamos bordeando la playa hasta llegar al segundo de los viveros\, transformado en piscina de agua de mar. \nRegresamos con alguna parada más para finalizar el recorrido con la visita al vivero del restaurante Astuy\, donde explicaremos la conservación de la langosta en su ambiente natural y algunos detalles relacionados con la curiosa vida de este crustáceo. \nTanto las explicaciones de nuestro guía como la selección musical se podrán escuchar en alta calidad de sonido gracias a nuestros equipos Silent System. \nColabora el restaurante Astuy\, ofreciendo la visita a su vivero \nMás información en la web oficial \nEl Ecoparque de Trasmiera en Cantabria\, Apetece
URL:https://staging.turismodecantpruebas.eurocastaliahost4.com/proximamente-evento/paseo-marinero-isla-y-sus-langostas/
LOCATION:Arnuero\, Arnuero\, Trasmiera
CATEGORIES:Naturaleza
ATTACH;FMTTYPE=image/jpeg:https://staging.turismodecantpruebas.eurocastaliahost4.com/wp-content/uploads/2025/09/3-paseo-marinero-isla-y-sus-langostasjpg-e1759476025337.jpg
END:VEVENT
BEGIN:VEVENT
DTSTART;TZID=Europe/Madrid:20250731T080000
DTEND;TZID=Europe/Madrid:20250802T170000
DTSTAMP:20260420T093232
CREATED:20250716T070219Z
LAST-MODIFIED:20260227T123059Z
UID:10020305-1753948800-1754154000@staging.turismodecantpruebas.eurocastaliahost4.com
SUMMARY:Isla Jazz Festival
DESCRIPTION:El escenario principal\, ubicado en el Casco Histórico de Isla\, seguirá compartiendo protagonismo con nuevas experiencias ligadas al territorio y cultura locales. De este modo\, los conciertos principales\, que tendrán lugar del 31 de julio al 2 de agosto\, contarán con la participación de David Yanguas que presenta su primer trabajo de estudio\, ‘De norte a sur’\, con raíces en el flamenco jazz\, The Cherry Boppers Meet Patricia Reckless banda instrumental bilbaína\, de música negra con nuevos temas de corte soul-funk\, conformando un poderoso directo: baile\, sudor y Groove. \nMás información en la web oficial \nLa cultura en Cantabria\, Apetece
URL:https://staging.turismodecantpruebas.eurocastaliahost4.com/proximamente-evento/isla-jazz-festival/
LOCATION:Arnuero\, Arnuero\, Trasmiera
CATEGORIES:Cultura
ATTACH;FMTTYPE=image/jpeg:https://staging.turismodecantpruebas.eurocastaliahost4.com/wp-content/uploads/2025/07/isla-jazz-2025-e1753775772413.jpg
END:VEVENT
BEGIN:VEVENT
DTSTART;VALUE=DATE:20240920
DTEND;VALUE=DATE:20241007
DTSTAMP:20260420T093232
CREATED:20240814T100646Z
LAST-MODIFIED:20240927T072335Z
UID:10016421-1726790400-1728259199@staging.turismodecantpruebas.eurocastaliahost4.com
SUMMARY:Jornadas gastronómicas de Isla
DESCRIPTION:En estas jornadas participan diversos restaurantes de Isla con un menú de 35 Euros \nMás información en la web oficial \n Isla en Cantabria\, Apetece
URL:https://staging.turismodecantpruebas.eurocastaliahost4.com/proximamente-evento/jornadas-gastronomicas-de-isla/
LOCATION:Arnuero\, Arnuero\, Trasmiera
CATEGORIES:Actividades con niños,Gastronomía
ATTACH;FMTTYPE=image/jpeg:https://staging.turismodecantpruebas.eurocastaliahost4.com/wp-content/uploads/2023/12/jprnadas-gastronomicas-del-pimiento-de-isla.jpg
END:VEVENT
BEGIN:VEVENT
DTSTART;VALUE=DATE:20240912
DTEND;VALUE=DATE:20240915
DTSTAMP:20260420T093232
CREATED:20240911T073054Z
LAST-MODIFIED:20240911T073054Z
UID:10019392-1726099200-1726358399@staging.turismodecantpruebas.eurocastaliahost4.com
SUMMARY:Isla gastronómica
DESCRIPTION:Más información y programa en el fichero adjunto \nEl Ecoparque de Trasmiera en Cantabria\, Apetece \nExperiencias ecoparque gastro
URL:https://staging.turismodecantpruebas.eurocastaliahost4.com/proximamente-evento/isla-gastronomica/
LOCATION:Arnuero\, Arnuero\, Trasmiera
CATEGORIES:Gastronomía
ATTACH;FMTTYPE=image/jpeg:https://staging.turismodecantpruebas.eurocastaliahost4.com/wp-content/uploads/2024/09/isla-gastronomica.jpg
END:VEVENT
BEGIN:VEVENT
DTSTART;VALUE=DATE:20240907
DTEND;VALUE=DATE:20240909
DTSTAMP:20260420T093232
CREATED:20240802T101015Z
LAST-MODIFIED:20240920T073407Z
UID:10016493-1725667200-1725839999@staging.turismodecantpruebas.eurocastaliahost4.com
SUMMARY:Feria del pimiento de Isla
DESCRIPTION:Mercado\, danzas\, productos alimentarios y mucho más\, Como colofón al día siguiente tendrás la feria del vino \nPuedes ver la programación en el fichero adjunto \nIsla en Cantabria\, Apetece \nPrograma Feria del pimiento de isla  Feria del vino de Isla
URL:https://staging.turismodecantpruebas.eurocastaliahost4.com/proximamente-evento/feria-del-pimiento-de-isla/
LOCATION:Arnuero\, Arnuero\, Trasmiera
CATEGORIES:Fiestas y ferias
ATTACH;FMTTYPE=image/jpeg:https://staging.turismodecantpruebas.eurocastaliahost4.com/wp-content/uploads/2024/08/feria-del-pimiento-de-isla.jpg
END:VEVENT
BEGIN:VEVENT
DTSTART;VALUE=DATE:20240801
DTEND;VALUE=DATE:20240807
DTSTAMP:20260420T093232
CREATED:20240714T100124Z
LAST-MODIFIED:20260227T123046Z
UID:10016217-1722470400-1722988799@staging.turismodecantpruebas.eurocastaliahost4.com
SUMMARY:Isla Jazz
DESCRIPTION:Más información\, entradas y programa en el documento adjunto \nLa cultura en Cantabria\, Apetece \nPrograma Isla Jazz
URL:https://staging.turismodecantpruebas.eurocastaliahost4.com/proximamente-evento/isla-jazz-2/
LOCATION:Arnuero\, Arnuero\, Trasmiera
CATEGORIES:Espectáculos
ATTACH;FMTTYPE=image/jpeg:https://staging.turismodecantpruebas.eurocastaliahost4.com/wp-content/uploads/2023/12/isla-jazz-imagen.jpg
END:VEVENT
BEGIN:VEVENT
DTSTART;VALUE=DATE:20231006
DTEND;VALUE=DATE:20231007
DTSTAMP:20260420T093232
CREATED:20231214T111332Z
LAST-MODIFIED:20240611T104404Z
UID:10016575-1696550400-1696636799@staging.turismodecantpruebas.eurocastaliahost4.com
SUMMARY:Descubre el casco histórico de Isla
DESCRIPTION:El antiguo pueblo de Isla conserva perfectamente sus monumentos y su peculiar traza en la que en muy poco recorrido observaremos como se distribuían los tres poderes de la época medieval: el religioso representado por el conjunto de la Iglesia y el hospital de peregrinos\, el civil con el palacio de los Condes de Isla y el militar con la Torre de Cabrahigo. Una atalaya con impresionantes vistas al Mar Cantábrico y al Monte Cincho\, en la que recorreremos sus callejuelas y veremos sus espléndidas huertas donde crece el afamado pimiento de Isla. \nMás información y reservas en la web oficial \nDisfruta la cultura y la naturaleza en Cantabria\, + x descubrir
URL:https://staging.turismodecantpruebas.eurocastaliahost4.com/proximamente-evento/descubre-el-casco-historico-de-isla/
LOCATION:Trasmiera
CATEGORIES:Actividades con niños,Visitas guiadas
ATTACH;FMTTYPE=image/jpeg:https://staging.turismodecantpruebas.eurocastaliahost4.com/wp-content/uploads/2023/04/9d7e3ac2-a124-d980-f623-eeea71b62dac-jneyww.tmp-.jpg
END:VEVENT
BEGIN:VEVENT
DTSTART;VALUE=DATE:20230729
DTEND;VALUE=DATE:20230808
DTSTAMP:20260420T093232
CREATED:20231214T110121Z
LAST-MODIFIED:20240610T113158Z
UID:10016212-1690588800-1691452799@staging.turismodecantpruebas.eurocastaliahost4.com
SUMMARY:Isla Jazz
DESCRIPTION:Más información\, entradas y programa en la web oficial \nDisfruta la cultura en Cantabria\, + x descubrir
URL:https://staging.turismodecantpruebas.eurocastaliahost4.com/proximamente-evento/isla-jazz/
LOCATION:Trasmiera
CATEGORIES:Espectáculos
ATTACH;FMTTYPE=image/jpeg:https://staging.turismodecantpruebas.eurocastaliahost4.com/wp-content/uploads/2023/12/0f340a00-5b27-eac7-1da8-8dae4094a7b7-ujdoly.tmp-.jpg
END:VEVENT
BEGIN:VEVENT
DTSTART;VALUE=DATE:20230505
DTEND;VALUE=DATE:20230506
DTSTAMP:20260420T093232
CREATED:20231213T170844Z
LAST-MODIFIED:20240516T111652Z
UID:10015835-1683244800-1683331199@staging.turismodecantpruebas.eurocastaliahost4.com
SUMMARY:Georuta Cabo Quejo
DESCRIPTION:La ruta de dos horas y media de duración y dificultad baja comienza a las 9:30 en el parking del camping Playa de Isla \nActividad gratuita! Anímate e inscríbete: 942 627 008 //puntosinfo@municipiossostenibles.com \nDisfruta la naturaleza en Cantabria\, + x descubrir
URL:https://staging.turismodecantpruebas.eurocastaliahost4.com/proximamente-evento/georuta-cabo-quejo/
LOCATION:Trasmiera
CATEGORIES:Actividades con niños,Naturaleza
ATTACH;FMTTYPE=image/jpeg:https://staging.turismodecantpruebas.eurocastaliahost4.com/wp-content/uploads/2023/05/c9390133-f8fe-ee12-b993-fa1a7f1928d4-rxelrk.tmp-.jpg
END:VEVENT
BEGIN:VEVENT
DTSTART;VALUE=DATE:20221104
DTEND;VALUE=DATE:20221105
DTSTAMP:20260420T093232
CREATED:20231213T161621Z
LAST-MODIFIED:20240611T095853Z
UID:10015092-1667520000-1667606399@staging.turismodecantpruebas.eurocastaliahost4.com
SUMMARY:Georuta acantilados de Isla
DESCRIPTION:HORARIO: 9:30-13:30 h. \nDIFICULTAD: baja-moderada. \nPUNTO DE ENCUENTRO: 9:15 h. Camping Playa de Isla (Isla) \nCOSTE: actividad gratuita \nMás información y reservas en el Teléfono 942 627 011 o en el mail puntosinfo@municipiossostenibles.com \nDisfruta la naturaleza en Cantabria\, + x descubrir
URL:https://staging.turismodecantpruebas.eurocastaliahost4.com/proximamente-evento/georuta-acantilados-de-isla/
LOCATION:Trasmiera
CATEGORIES:Actividades con niños,Naturaleza
ATTACH;FMTTYPE=image/jpeg:https://staging.turismodecantpruebas.eurocastaliahost4.com/wp-content/uploads/2023/04/678d0efb-d0f9-a4e3-932e-c273f94aa6d5-visjbz.tmp-.jpg
END:VEVENT
BEGIN:VEVENT
DTSTART;VALUE=DATE:20220903
DTEND;VALUE=DATE:20220926
DTSTAMP:20260420T093232
CREATED:20231213T161119Z
LAST-MODIFIED:20240515T154648Z
UID:10014877-1662163200-1664150399@staging.turismodecantpruebas.eurocastaliahost4.com
SUMMARY:Jornadas gastronómicas de la huerta y el pimiento de Isla
DESCRIPTION:Más información\, menus y restaurantes participantes en este enlace \nDisfruta la gastronomía en Cantabria\, + x descubrir
URL:https://staging.turismodecantpruebas.eurocastaliahost4.com/proximamente-evento/jornadas-gastronomicas-de-la-huerta-y-el-pimiento-de-isla/
LOCATION:Trasmiera
CATEGORIES:Actividades con niños,Fiestas y ferias,Gastronomía
ATTACH;FMTTYPE=image/jpeg:https://staging.turismodecantpruebas.eurocastaliahost4.com/wp-content/uploads/2023/04/87209767-6ca5-e6b5-273e-e8b00d7589ca-exoijc.tmp-.jpg
END:VEVENT
BEGIN:VEVENT
DTSTART;VALUE=DATE:20220702
DTEND;VALUE=DATE:20220704
DTSTAMP:20260420T093232
CREATED:20231213T160620Z
LAST-MODIFIED:20240610T120235Z
UID:10014673-1656720000-1656892799@staging.turismodecantpruebas.eurocastaliahost4.com
SUMMARY:El piano de los mares
DESCRIPTION:Ananda Sukarlan es el primer pianista clásico de Asia que registra su trabajo en la NFT Piano Competition y se sube a bordo del pianO de los mares para ofrecer tan solo dos conciertos únicos en Europa. Con Ananda Sukarlan (piano). Y también con Xavier Nageotte (navegación)\, Léo Moreau (sonido)\, Voël Martin (dirección) y Mónica Cofiño (acogida). \nMás información y entradas en la web oficial \nDisfruta la cultura en Cantabria\, + x descubrir
URL:https://staging.turismodecantpruebas.eurocastaliahost4.com/proximamente-evento/el-piano-de-los-mares/
LOCATION:Trasmiera
CATEGORIES:Actividades con niños,Espectáculos
ATTACH;FMTTYPE=image/jpeg:https://staging.turismodecantpruebas.eurocastaliahost4.com/wp-content/uploads/2023/04/3c75fef7-298d-4f66-757a-eb6606b2c1f7-0vgd0h.tmp-.jpg
END:VEVENT
END:VCALENDAR