BEGIN:VCALENDAR
VERSION:2.0
PRODID:-//Turismo de Cantabria - ECPv6.15.17//NONSGML v1.0//EN
CALSCALE:GREGORIAN
METHOD:PUBLISH
X-WR-CALNAME:Turismo de Cantabria
X-ORIGINAL-URL:https://staging.turismodecantpruebas.eurocastaliahost4.com
X-WR-CALDESC:Eventos para Turismo de Cantabria
REFRESH-INTERVAL;VALUE=DURATION:PT1H
X-Robots-Tag:noindex
X-PUBLISHED-TTL:PT1H
BEGIN:VTIMEZONE
TZID:Europe/Madrid
BEGIN:DAYLIGHT
TZOFFSETFROM:+0100
TZOFFSETTO:+0200
TZNAME:CEST
DTSTART:20240331T010000
END:DAYLIGHT
BEGIN:STANDARD
TZOFFSETFROM:+0200
TZOFFSETTO:+0100
TZNAME:CET
DTSTART:20241027T010000
END:STANDARD
BEGIN:DAYLIGHT
TZOFFSETFROM:+0100
TZOFFSETTO:+0200
TZNAME:CEST
DTSTART:20250330T010000
END:DAYLIGHT
BEGIN:STANDARD
TZOFFSETFROM:+0200
TZOFFSETTO:+0100
TZNAME:CET
DTSTART:20251026T010000
END:STANDARD
BEGIN:DAYLIGHT
TZOFFSETFROM:+0100
TZOFFSETTO:+0200
TZNAME:CEST
DTSTART:20260329T010000
END:DAYLIGHT
BEGIN:STANDARD
TZOFFSETFROM:+0200
TZOFFSETTO:+0100
TZNAME:CET
DTSTART:20261025T010000
END:STANDARD
BEGIN:DAYLIGHT
TZOFFSETFROM:+0100
TZOFFSETTO:+0200
TZNAME:CEST
DTSTART:20270328T010000
END:DAYLIGHT
BEGIN:STANDARD
TZOFFSETFROM:+0200
TZOFFSETTO:+0100
TZNAME:CET
DTSTART:20271031T010000
END:STANDARD
END:VTIMEZONE
BEGIN:VEVENT
DTSTART;TZID=Europe/Madrid:20250301T163000
DTEND;TZID=Europe/Madrid:20250301T170000
DTSTAMP:20260420T031344
CREATED:20250214T122522Z
LAST-MODIFIED:20250307T073252Z
UID:10019812-1740846600-1740848400@staging.turismodecantpruebas.eurocastaliahost4.com
SUMMARY:Los Zamarrones de Lanchares
DESCRIPTION:Los zamarrones de Lanchares\, son una mascarada ancestral donde los zamarrones ataviados con pieles\, campanos y gorros\, con el zamarrón mayor a la cabeza\, procesionan por el pueblo pidiendo y recogiendo aguinaldos que se van cargando por el cestero con su burra comunal Rufa. \nAdemás de los zamarrones\, la comparsa está compuesta por los personajes del viejo\, la vieja\, el hombre y la mujer travestidos\, las pandereteras\, el médico\, el sacamuelas y sus ayudantes\, los curas y el clero\, los gitanos\, la gitana del Hoyo del Toju\, el maestro y sus alumnos\, los moros\, el afilador\, los peleles judas\, los militares y los guardias\, la tarasca y el giboso\, las madamas y el mancebo\, las pandereteras\, las amas de cría\, los labradores\, el pastor y los enramados\, entre otros participantes. \nA las 16\,30 horas comenzará los actos seguidos de la pedida de aguinaldo por todos los barrios del pueblo\, la procesión de la mascarada irá recogiendo por las casas los aguinaldos de chorizos\, patatas\, huevos\, dulces y demás productos de la tierra.  \nA partir de las 20 horas los zamarrones celebrarán la cena de hermandad\, donde los zamarrones y la vecindad degustarán los aguinaldos recibidos. \nLa cultura en Cantabria\, Apetece
URL:https://staging.turismodecantpruebas.eurocastaliahost4.com/proximamente-evento/los-zamarrones-de-lanchares-4/
LOCATION:Campoo
CATEGORIES:Carnaval
ATTACH;FMTTYPE=image/jpeg:https://staging.turismodecantpruebas.eurocastaliahost4.com/wp-content/uploads/2025/02/zamarrones-de-lanchares-e1739535877270.jpg
END:VEVENT
BEGIN:VEVENT
DTSTART;TZID=Europe/Madrid:20260214T163000
DTEND;TZID=Europe/Madrid:20260214T210000
DTSTAMP:20260420T031344
CREATED:20260202T091005Z
LAST-MODIFIED:20260225T124316Z
UID:10020775-1771086600-1771102800@staging.turismodecantpruebas.eurocastaliahost4.com
SUMMARY:Vuelven los Zamarrones de Lanchares
DESCRIPTION:¡Vuelven los Zamarrones de Lanchares este año 2026! \nLos Zamarrones de Lanchares regresan el sábado 14 de febrero de 2026 con una de las mascaradas tradicionales más singulares de Cantabria\, llena de ruido\, campanos\, coplas y máscaras. La comparsa recorrerá el pueblo en la tradicional pedida del aguinaldo\, manteniendo el itinerario habitual hasta llegar al teleclub\, donde se celebrará uno de los momentos centrales: la comunión simbólica y el recitado de coplas. \nLa edición de 2026 gira en torno a una trama de crecimiento y paso a la vida adulta\, representando en clave carnavalesca la incorporación de los más jóvenes a la comunidad. El programa comenzará a las 16:30 h con el aguinaldo y\, desde las 18:00 h\, la música y la palabra tomarán protagonismo con la participación de Mariú y Javichu y la Escuela de Pandereta de Reinosa. \nDeclarada Fiesta de Interés Turístico Regional de Cantabria desde 2022\, esta celebración es un rito comunitario de gran valor patrimonial\, mantenido de forma ininterrumpida durante el siglo XX. La mascarada se articula en torno a la interacción entre personajes blancos y negros\, con una amplia comparsa que parodia la autoridad y celebra la tradición viva del pueblo de Lanchares.
URL:https://staging.turismodecantpruebas.eurocastaliahost4.com/proximamente-evento/vuelven-los-zamarrones-de-lanchares/
LOCATION:Campoo de Yuso\, Campoo de Yuso\, Campoo
ATTACH;FMTTYPE=image/jpeg:https://staging.turismodecantpruebas.eurocastaliahost4.com/wp-content/uploads/2026/02/vuelven-los-zamarrones-de-lanchares-e1770881126995.jpg
END:VEVENT
END:VCALENDAR