BEGIN:VCALENDAR
VERSION:2.0
PRODID:-//Turismo de Cantabria - ECPv6.15.17//NONSGML v1.0//EN
CALSCALE:GREGORIAN
METHOD:PUBLISH
X-WR-CALNAME:Turismo de Cantabria
X-ORIGINAL-URL:https://staging.turismodecantpruebas.eurocastaliahost4.com
X-WR-CALDESC:Eventos para Turismo de Cantabria
REFRESH-INTERVAL;VALUE=DURATION:PT1H
X-Robots-Tag:noindex
X-PUBLISHED-TTL:PT1H
BEGIN:VTIMEZONE
TZID:Europe/Madrid
BEGIN:DAYLIGHT
TZOFFSETFROM:+0100
TZOFFSETTO:+0200
TZNAME:CEST
DTSTART:20210328T010000
END:DAYLIGHT
BEGIN:STANDARD
TZOFFSETFROM:+0200
TZOFFSETTO:+0100
TZNAME:CET
DTSTART:20211031T010000
END:STANDARD
BEGIN:DAYLIGHT
TZOFFSETFROM:+0100
TZOFFSETTO:+0200
TZNAME:CEST
DTSTART:20220327T010000
END:DAYLIGHT
BEGIN:STANDARD
TZOFFSETFROM:+0200
TZOFFSETTO:+0100
TZNAME:CET
DTSTART:20221030T010000
END:STANDARD
BEGIN:DAYLIGHT
TZOFFSETFROM:+0100
TZOFFSETTO:+0200
TZNAME:CEST
DTSTART:20230326T010000
END:DAYLIGHT
BEGIN:STANDARD
TZOFFSETFROM:+0200
TZOFFSETTO:+0100
TZNAME:CET
DTSTART:20231029T010000
END:STANDARD
BEGIN:DAYLIGHT
TZOFFSETFROM:+0100
TZOFFSETTO:+0200
TZNAME:CEST
DTSTART:20240331T010000
END:DAYLIGHT
BEGIN:STANDARD
TZOFFSETFROM:+0200
TZOFFSETTO:+0100
TZNAME:CET
DTSTART:20241027T010000
END:STANDARD
BEGIN:DAYLIGHT
TZOFFSETFROM:+0100
TZOFFSETTO:+0200
TZNAME:CEST
DTSTART:20250330T010000
END:DAYLIGHT
BEGIN:STANDARD
TZOFFSETFROM:+0200
TZOFFSETTO:+0100
TZNAME:CET
DTSTART:20251026T010000
END:STANDARD
BEGIN:DAYLIGHT
TZOFFSETFROM:+0100
TZOFFSETTO:+0200
TZNAME:CEST
DTSTART:20260329T010000
END:DAYLIGHT
BEGIN:STANDARD
TZOFFSETFROM:+0200
TZOFFSETTO:+0100
TZNAME:CET
DTSTART:20261025T010000
END:STANDARD
END:VTIMEZONE
BEGIN:VEVENT
DTSTART;VALUE=DATE:20220129
DTEND;VALUE=DATE:20230101
DTSTAMP:20260423T110503
CREATED:20240517T105605Z
LAST-MODIFIED:20240610T102412Z
UID:10017901-1643414400-1672531199@staging.turismodecantpruebas.eurocastaliahost4.com
SUMMARY:Ruta de los transbordadores
DESCRIPTION:La ruta se realiza de miércoles a domingo: de 10:00 a 14:00h. \nNecesario SIEMPRE reserva previa en el teléfono 646 564 591 \nMás información y reservas en la web oficial \nDisfruta la naturaleza en Cantabria\, + x descubrir \n 
URL:https://staging.turismodecantpruebas.eurocastaliahost4.com/proximamente-evento/ruta-de-los-transbordadores/
LOCATION:Besaya
CATEGORIES:Todo el año
ATTACH;FMTTYPE=image/jpeg:https://staging.turismodecantpruebas.eurocastaliahost4.com/wp-content/uploads/2023/12/46539ca9-989a-db0f-6db4-cc843a33031d.jpg
END:VEVENT
BEGIN:VEVENT
DTSTART;VALUE=DATE:20220305
DTEND;VALUE=DATE:20220306
DTSTAMP:20260423T110503
CREATED:20231213T154237Z
LAST-MODIFIED:20240515T145846Z
UID:10014197-1646438400-1646524799@staging.turismodecantpruebas.eurocastaliahost4.com
SUMMARY:Marcha día internacional de la mujer
DESCRIPTION:La salida se realizará a las 12:00 horas desde la bolera de Molledo y se llegará a la plaza de Bárcena de Pie de Concha \nTras ma larcha se celebrará una comida de hermanamiento entre pueblos vecinos \nDisfruta el deporte en Cantabria\, + x descubrir
URL:https://staging.turismodecantpruebas.eurocastaliahost4.com/proximamente-evento/marcha-dia-internacional-de-la-mujer/
LOCATION:Besaya
CATEGORIES:Actividades con niños,Deportes
ATTACH;FMTTYPE=image/jpeg:https://staging.turismodecantpruebas.eurocastaliahost4.com/wp-content/uploads/2023/04/eb9553d5-1d36-2f40-5ac7-32342e8b2b0a-wel3f1.tmp-.jpg
END:VEVENT
BEGIN:VEVENT
DTSTART;VALUE=DATE:20220710
DTEND;VALUE=DATE:20220711
DTSTAMP:20260423T110503
CREATED:20231213T160652Z
LAST-MODIFIED:20240503T085312Z
UID:10014695-1657411200-1657497599@staging.turismodecantpruebas.eurocastaliahost4.com
SUMMARY:Coco Land Festival 2022
DESCRIPTION:El Festival CocoLand 2022 es una completa jornada llena de actividades para todos los públicos. \nNo dejes de de acercarte a Santa Cruz de Iguña y disfrutar del extenso programa que ofrece este festival. \nEntrada solidaria: 2€ (niños gratis). \nConsulta el programa completo en la imagen adjunta.
URL:https://staging.turismodecantpruebas.eurocastaliahost4.com/proximamente-evento/coco-land-festival-2022/
LOCATION:Besaya
CATEGORIES:Fiestas y ferias
ATTACH;FMTTYPE=image/jpeg:https://staging.turismodecantpruebas.eurocastaliahost4.com/wp-content/uploads/2023/04/5419ab2f-0c70-a083-8f04-dcf71363c4a7-h8xotw.tmp-.jpg
END:VEVENT
BEGIN:VEVENT
DTSTART;VALUE=DATE:20221125
DTEND;VALUE=DATE:20221128
DTSTAMP:20260423T110503
CREATED:20231213T161717Z
LAST-MODIFIED:20240515T145603Z
UID:10015147-1669334400-1669593599@staging.turismodecantpruebas.eurocastaliahost4.com
SUMMARY:Feria de ganado de Silio
DESCRIPTION:La feria estará amenizada por piteros y tendrá disco móvil y romería \nDisfruta Silió en Cantabria\, + x descubrir
URL:https://staging.turismodecantpruebas.eurocastaliahost4.com/proximamente-evento/feria-de-ganado-de-silio/
LOCATION:Besaya
CATEGORIES:Actividades con niños,Fiestas y ferias
ATTACH;FMTTYPE=image/jpeg:https://staging.turismodecantpruebas.eurocastaliahost4.com/wp-content/uploads/2023/04/bc6e53a0-b36f-0887-4232-87d3c9c3b505-ipk2rl.tmp-.jpg
END:VEVENT
BEGIN:VEVENT
DTSTART;VALUE=DATE:20230108
DTEND;VALUE=DATE:20230109
DTSTAMP:20260423T110503
CREATED:20231213T162029Z
LAST-MODIFIED:20240610T114255Z
UID:10015327-1673136000-1673222399@staging.turismodecantpruebas.eurocastaliahost4.com
SUMMARY:La Vijanera
DESCRIPTION:Todo un día para disfrutar de los múltiples personajes que esta fiesta única ofrece. Molledo celebra esta fiesta que no te puedes perder. \nMás información de la fiesta en la página oficial \nDisfruta Silió en Cantabria\, + x descubrir
URL:https://staging.turismodecantpruebas.eurocastaliahost4.com/proximamente-evento/la-vijanera/
LOCATION:Besaya
CATEGORIES:Fiestas y ferias
ATTACH;FMTTYPE=image/jpeg:https://staging.turismodecantpruebas.eurocastaliahost4.com/wp-content/uploads/2023/04/fa620aa0-35aa-8432-378e-9e0f2c365342-sy4kox.tmp-.jpg
END:VEVENT
BEGIN:VEVENT
DTSTART;VALUE=DATE:20230212
DTEND;VALUE=DATE:20230213
DTSTAMP:20260423T110503
CREATED:20231213T163111Z
LAST-MODIFIED:20240515T145116Z
UID:10015454-1676160000-1676246399@staging.turismodecantpruebas.eurocastaliahost4.com
SUMMARY:Santa Eulalia en Molledo
DESCRIPTION:Puedes ver el programa completo en el fichero adjunto \nDisfruta Molledo en Cantabria\, + x descubrir
URL:https://staging.turismodecantpruebas.eurocastaliahost4.com/proximamente-evento/santa-eulalia-en-molledo/
LOCATION:Besaya
CATEGORIES:Actividades con niños,Fiestas y ferias
ATTACH;FMTTYPE=image/jpeg:https://staging.turismodecantpruebas.eurocastaliahost4.com/wp-content/uploads/2023/04/16e851ec-39aa-3ab8-6bab-efe098e5a9ab-i4w5uh.tmp-.jpg
END:VEVENT
BEGIN:VEVENT
DTSTART;VALUE=DATE:20230901
DTEND;VALUE=DATE:20230904
DTSTAMP:20260423T110503
CREATED:20231214T110553Z
LAST-MODIFIED:20240516T111302Z
UID:10016406-1693526400-1693785599@staging.turismodecantpruebas.eurocastaliahost4.com
SUMMARY:El sermón de la vieja
DESCRIPTION:Puedes ver el programa compelto en el fichero adjunto \nDisfruta las fiestas en Cantabria\, + x descubrir
URL:https://staging.turismodecantpruebas.eurocastaliahost4.com/proximamente-evento/el-sermon-de-la-vieja/
LOCATION:Besaya
CATEGORIES:Fiestas y ferias
ATTACH;FMTTYPE=image/jpeg:https://staging.turismodecantpruebas.eurocastaliahost4.com/wp-content/uploads/2023/12/95c33b40-97aa-e406-19bf-e2ed6c3ec3a5-mrzxhz.tmp-.jpg
END:VEVENT
BEGIN:VEVENT
DTSTART;VALUE=DATE:20240107
DTEND;VALUE=DATE:20240108
DTSTAMP:20260423T110503
CREATED:20240205T151016Z
LAST-MODIFIED:20240610T114255Z
UID:10017164-1704585600-1704671999@staging.turismodecantpruebas.eurocastaliahost4.com
SUMMARY:La Vijanera
DESCRIPTION:Todo un día para disfrutar de los múltiples personajes que esta fiesta única ofrece. Molledo celebra esta fiesta que no te puedes perder. \nMás información de la fiesta en la página oficial \nDisfruta Silió en Cantabria\, + x descubrir
URL:https://staging.turismodecantpruebas.eurocastaliahost4.com/proximamente-evento/la-vijanera-2/
LOCATION:Molledo\, Molledo\, Besaya
CATEGORIES:Fiestas y ferias
ATTACH;FMTTYPE=image/jpeg:https://staging.turismodecantpruebas.eurocastaliahost4.com/wp-content/uploads/2024/02/9dd3b61e-e1a1-3f74-66d8-4036d0de1ee3-wn2a9b.tmp-.jpg
END:VEVENT
BEGIN:VEVENT
DTSTART;VALUE=DATE:20240810
DTEND;VALUE=DATE:20240812
DTSTAMP:20260423T110503
CREATED:20240614T100308Z
LAST-MODIFIED:20240821T100319Z
UID:10016294-1723248000-1723420799@staging.turismodecantpruebas.eurocastaliahost4.com
SUMMARY:Un pueblo de leyendas
DESCRIPTION:Mercadillo de comida y productos típicos de Cantabria\, talleres\, exposiciones\, teatro de calle\, música en directo… ¡y mucha\, mucha magia! \nPuedes ver la programación completa en el fichero adjunto \nBarriopalacio de Anievas en Cantabria\, Apetece \nProgramación un pueblo de leyendas
URL:https://staging.turismodecantpruebas.eurocastaliahost4.com/proximamente-evento/un-pueblo-de-leyendas/
LOCATION:Molledo\, Molledo\, Besaya
CATEGORIES:Fiestas y ferias
ATTACH;FMTTYPE=image/jpeg:https://staging.turismodecantpruebas.eurocastaliahost4.com/wp-content/uploads/2023/12/barriopalacio-de-anievas.jpg
END:VEVENT
BEGIN:VEVENT
DTSTART;TZID=Europe/Madrid:20250308T193000
DTEND;TZID=Europe/Madrid:20250308T213000
DTSTAMP:20260423T110503
CREATED:20250228T090335Z
LAST-MODIFIED:20250228T090335Z
UID:10019891-1741462200-1741469400@staging.turismodecantpruebas.eurocastaliahost4.com
SUMMARY:Marzas en Silió
DESCRIPTION:Más información en el cartel adjunto \nLa cultura en Cantabria\, Apetece
URL:https://staging.turismodecantpruebas.eurocastaliahost4.com/proximamente-evento/marzas-en-silio/
LOCATION:Molledo\, Molledo\, Besaya
CATEGORIES:Marzas
ATTACH;FMTTYPE=image/jpeg:https://staging.turismodecantpruebas.eurocastaliahost4.com/wp-content/uploads/2025/02/marzas-en-silio-e1740733400784.jpg
END:VEVENT
BEGIN:VEVENT
DTSTART;VALUE=DATE:20250907
DTEND;VALUE=DATE:20250915
DTSTAMP:20260423T110503
CREATED:20250826T100706Z
LAST-MODIFIED:20250910T100559Z
UID:10016426-1757203200-1757894399@staging.turismodecantpruebas.eurocastaliahost4.com
SUMMARY:Fiestas La Virgen del Camino
DESCRIPTION:Puedes ver el programa completo de fiestas en el fichero adjunto \nMolledo en Cantabria\, Apetece \nvirgen del camino 2025
URL:https://staging.turismodecantpruebas.eurocastaliahost4.com/proximamente-evento/fiestas-la-virgen-del-camino/
LOCATION:Molledo\, Molledo\, Besaya
CATEGORIES:Fiestas y ferias
ATTACH;FMTTYPE=image/jpeg:https://staging.turismodecantpruebas.eurocastaliahost4.com/wp-content/uploads/2024/09/virgen-del-camino-2025-1-e1756981611492.jpg
END:VEVENT
END:VCALENDAR