BEGIN:VCALENDAR
VERSION:2.0
PRODID:-//Turismo de Cantabria - ECPv6.15.17//NONSGML v1.0//EN
CALSCALE:GREGORIAN
METHOD:PUBLISH
X-ORIGINAL-URL:https://staging.turismodecantpruebas.eurocastaliahost4.com
X-WR-CALDESC:Eventos para Turismo de Cantabria
REFRESH-INTERVAL;VALUE=DURATION:PT1H
X-Robots-Tag:noindex
X-PUBLISHED-TTL:PT1H
BEGIN:VTIMEZONE
TZID:Europe/Madrid
BEGIN:DAYLIGHT
TZOFFSETFROM:+0100
TZOFFSETTO:+0200
TZNAME:CEST
DTSTART:20210328T010000
END:DAYLIGHT
BEGIN:STANDARD
TZOFFSETFROM:+0200
TZOFFSETTO:+0100
TZNAME:CET
DTSTART:20211031T010000
END:STANDARD
BEGIN:DAYLIGHT
TZOFFSETFROM:+0100
TZOFFSETTO:+0200
TZNAME:CEST
DTSTART:20220327T010000
END:DAYLIGHT
BEGIN:STANDARD
TZOFFSETFROM:+0200
TZOFFSETTO:+0100
TZNAME:CET
DTSTART:20221030T010000
END:STANDARD
BEGIN:DAYLIGHT
TZOFFSETFROM:+0100
TZOFFSETTO:+0200
TZNAME:CEST
DTSTART:20230326T010000
END:DAYLIGHT
BEGIN:STANDARD
TZOFFSETFROM:+0200
TZOFFSETTO:+0100
TZNAME:CET
DTSTART:20231029T010000
END:STANDARD
BEGIN:DAYLIGHT
TZOFFSETFROM:+0100
TZOFFSETTO:+0200
TZNAME:CEST
DTSTART:20240331T010000
END:DAYLIGHT
BEGIN:STANDARD
TZOFFSETFROM:+0200
TZOFFSETTO:+0100
TZNAME:CET
DTSTART:20241027T010000
END:STANDARD
BEGIN:DAYLIGHT
TZOFFSETFROM:+0100
TZOFFSETTO:+0200
TZNAME:CEST
DTSTART:20250330T010000
END:DAYLIGHT
BEGIN:STANDARD
TZOFFSETFROM:+0200
TZOFFSETTO:+0100
TZNAME:CET
DTSTART:20251026T010000
END:STANDARD
BEGIN:DAYLIGHT
TZOFFSETFROM:+0100
TZOFFSETTO:+0200
TZNAME:CEST
DTSTART:20260329T010000
END:DAYLIGHT
BEGIN:STANDARD
TZOFFSETFROM:+0200
TZOFFSETTO:+0100
TZNAME:CET
DTSTART:20261025T010000
END:STANDARD
BEGIN:DAYLIGHT
TZOFFSETFROM:+0100
TZOFFSETTO:+0200
TZNAME:CEST
DTSTART:20270328T010000
END:DAYLIGHT
BEGIN:STANDARD
TZOFFSETFROM:+0200
TZOFFSETTO:+0100
TZNAME:CET
DTSTART:20271031T010000
END:STANDARD
END:VTIMEZONE
BEGIN:VEVENT
DTSTART;VALUE=DATE:20220201
DTEND;VALUE=DATE:20220202
DTSTAMP:20260422T051304
CREATED:20231213T153906Z
LAST-MODIFIED:20240610T113227Z
UID:10014078-1643673600-1643759999@staging.turismodecantpruebas.eurocastaliahost4.com
SUMMARY:Rutas musicales en el Palacio de la Magdalena
DESCRIPTION:El público podrá disfrutar de este concierto en distintas estancias del Palacio de la Magdalena\, en dos pases a las 11:00 y a las 12:00 horas \nLa entrada es gratuita pero hay que reservar en el teléfono 942203084  \nDisfruta la cultura en Cantabria\, + x descubrir
URL:https://staging.turismodecantpruebas.eurocastaliahost4.com/proximamente-evento/rutas-musicales-en-el-palacio-de-la-magdalena/
LOCATION:Santander
CATEGORIES:Espectáculos
ATTACH;FMTTYPE=image/jpeg:https://staging.turismodecantpruebas.eurocastaliahost4.com/wp-content/uploads/2023/04/cb26f943-d169-6d4b-237b-966de173dc47-l0ljou.tmp-.jpg
END:VEVENT
BEGIN:VEVENT
DTSTART;VALUE=DATE:20220401
DTEND;VALUE=DATE:20220613
DTSTAMP:20260422T051304
CREATED:20231213T154444Z
LAST-MODIFIED:20240611T104422Z
UID:10014291-1648771200-1655078399@staging.turismodecantpruebas.eurocastaliahost4.com
SUMMARY:Visitas guiadas Palacio de la Magdalena
DESCRIPTION:Las visitas se hacen a las horas en punto en las siguientes franjas horarias \n\nLunes a viernes: 11:00\, 12:00\,13:00\, 17:00 y 18:00\nSábados: 10:00\, 11:00\, 12:00\, 16:00 y 17:00\nDomingos: 11:00\, 12:00 y13:00\nFestivos: 10:00\, 11:00\, 12:00 y 13:00\n\nMás información y reservas en el folleto adjunto \nDisfruta la cultura en Cantabria\, + x descubrir
URL:https://staging.turismodecantpruebas.eurocastaliahost4.com/proximamente-evento/visitas-guiadas-palacio-de-la-magdalena/
LOCATION:Santander
CATEGORIES:Actividades con niños,Visitas guiadas
ATTACH;FMTTYPE=image/jpeg:https://staging.turismodecantpruebas.eurocastaliahost4.com/wp-content/uploads/2023/04/f6eb5d6d-7895-2983-b947-2ab3ed3aa48b-ujwq1k.tmp-.jpg
END:VEVENT
BEGIN:VEVENT
DTSTART;VALUE=DATE:20220404
DTEND;VALUE=DATE:20220405
DTSTAMP:20260422T051304
CREATED:20231213T154505Z
LAST-MODIFIED:20240515T155029Z
UID:10014308-1649030400-1649116799@staging.turismodecantpruebas.eurocastaliahost4.com
SUMMARY:Jándalos de ida y vuelta
DESCRIPTION:Un viaje en el que el flamenco y el estilo montañés se hermanan como hicieron los antepasados montañeses en su búsqueda de una vida mejor. \nInvitaciones en la web oficial \nDisfruta la cultura en Cantabria\, + x descubrir
URL:https://staging.turismodecantpruebas.eurocastaliahost4.com/proximamente-evento/jandalos-de-ida-y-vuelta/
LOCATION:Santander
CATEGORIES:Espectáculos
ATTACH;FMTTYPE=image/jpeg:https://staging.turismodecantpruebas.eurocastaliahost4.com/wp-content/uploads/2023/04/d80c1c91-7c39-17fa-a29e-eb86efbf2dd9-biu7px.tmp-.jpg
END:VEVENT
BEGIN:VEVENT
DTSTART;VALUE=DATE:20220606
DTEND;VALUE=DATE:20220608
DTSTAMP:20260422T051304
CREATED:20231213T160323Z
LAST-MODIFIED:20240508T155159Z
UID:10014577-1654473600-1654646399@staging.turismodecantpruebas.eurocastaliahost4.com
SUMMARY:Jornadas de Patrimonio Geológico
DESCRIPTION:La inscripción es gratuita hasta completar aforo. La jornada se divide en dos sesiones\, de mañana y tarde\, con una pausa libre para comer. \nSe ruega confirmación de asistencia en este enlace\, que podéis compartir con aquellas personas que consideréis puedan estar interesadas en asistir. \nPuedes ver el programa completo en el fichero adjunto \nDisfruta la cultura en Cantabria\, + x descubrir
URL:https://staging.turismodecantpruebas.eurocastaliahost4.com/proximamente-evento/jornadas-de-patrimonio-geologico/
LOCATION:Santander
CATEGORIES:Cultura
ATTACH;FMTTYPE=image/jpeg:https://staging.turismodecantpruebas.eurocastaliahost4.com/wp-content/uploads/2023/04/b63a6a7e-ee41-7ebb-ae19-c681cbffb64d-dgtacn.tmp-.jpg
END:VEVENT
BEGIN:VEVENT
DTSTART;VALUE=DATE:20220720
DTEND;VALUE=DATE:20220903
DTSTAMP:20260422T051304
CREATED:20231213T160735Z
LAST-MODIFIED:20240610T153817Z
UID:10014734-1658275200-1662163199@staging.turismodecantpruebas.eurocastaliahost4.com
SUMMARY:La Barraca
DESCRIPTION:El Teatro Universitario que dirigiera Federico García Lorca\, fue sin duda una de las grandes empresas culturales de la Segunda República. Su propósito fue llevar a los rincones más apartados de España el teatro de nuestros clásicos del Siglo de Oro: Cervantes\, Lope\, Tirso\, Calderón… en el proyecto intervinieron jóvenes entusiastas\, la mayoría reclutados en la Universidad de Madrid. Durante cuatro años supieron llevar\, como remozados cómicos de la lengua\, las obras clásicas.\nUn día aquel sueño terminó con el estallido de la Guerra Civil. Varios componentes de La Barraca\, empezando por quien había sido su director\, murieron en trágicas circunstancias\, tanto en una como en otra trinchera. Algunos marcharon al exilio y otros permanecieron en España con el recuerdo siempre vivo de lo que fue aquella aventura luminosa que esta Exposición quiere ahora rememorar.\n \nHorario de visitas:\n\nMartes: 16:00h-20:00h\nMiércoles-Viernes: 10:00h-14:00h\, 16:00h-20:00h\nSábado: 10:00h-18:00h\nDomingo: 10:00h-14:00h\n\nDisfruta la cultura en Cantabria\, + x descubrir
URL:https://staging.turismodecantpruebas.eurocastaliahost4.com/proximamente-evento/la-barraca/
LOCATION:Santander
CATEGORIES:Actividades con niños,Exposiciones
ATTACH;FMTTYPE=image/jpeg:https://staging.turismodecantpruebas.eurocastaliahost4.com/wp-content/uploads/2023/04/4213dc7d-eeb2-cf27-dde9-dfdb72571937-lx1bab.tmp-.jpg
END:VEVENT
BEGIN:VEVENT
DTSTART;VALUE=DATE:20220823
DTEND;VALUE=DATE:20220825
DTSTAMP:20260422T051304
CREATED:20231213T161030Z
LAST-MODIFIED:20240503T100610Z
UID:10014845-1661212800-1661385599@staging.turismodecantpruebas.eurocastaliahost4.com
SUMMARY:90 Aniversario de la UIMP
DESCRIPTION:Este importante aniversario se celebra con dos espectáculos de entrada libre y gratuita que dejarán sin palabras a todos los asistentes. \nEl martes\, 23 de agosto a las 21:00 horas tendrá lugar el estreno absoluto de la obra «Alma Mater»\, de la mano de la Orquesta Sinfónica Juvenil «Ataulfo Argenta». Ese mismo día a las 22:00 horas se realizará un espectacular videomapping en la fachada del Palacio de La Magdalena\, proyección que se repetirá el miércoles 24 a la misma hora. \nAmbos espectáculos son de entrada libre y para todos los públicos. \nVen a celebrar el 90 Aniversario de la UIMP en Cantabria\, + x Descubrir.
URL:https://staging.turismodecantpruebas.eurocastaliahost4.com/proximamente-evento/90-aniversario-de-la-uimp/
LOCATION:Santander
CATEGORIES:Espectáculos
ATTACH;FMTTYPE=image/png:https://staging.turismodecantpruebas.eurocastaliahost4.com/wp-content/uploads/2023/04/edd534cd-1c8d-2b8d-335c-d5d966742aa5-zttkcw.tmp-.png
END:VEVENT
BEGIN:VEVENT
DTSTART;VALUE=DATE:20230410
DTEND;VALUE=DATE:20230411
DTSTAMP:20260422T051304
CREATED:20231213T170535Z
LAST-MODIFIED:20240611T104406Z
UID:10015736-1681084800-1681171199@staging.turismodecantpruebas.eurocastaliahost4.com
SUMMARY:Especial pascua en el Palacio de la Magdalena
DESCRIPTION:El día 10 de abril\, a las 12:30 y 16:30 horas\, se realizará una visita especial al Palacio de la Magdalena\, a modo de gymkana\, de forma que mientras se explora cada rincón del palacio se deberán encontrar\, siguiendo las indicaciones y pistas\, los escondidos huevos de Pascua escondidos. \nSu precio será de 6€ por persona y los menores de 3 años podrán acceder de forma gratuita. \nMás información en la web oficial \nDisfruta Santander en Cantabria\, + x descubrir
URL:https://staging.turismodecantpruebas.eurocastaliahost4.com/proximamente-evento/especial-pascua-en-el-palacio-de-la-magdalena/
LOCATION:Santander
CATEGORIES:Actividades con niños,Visitas guiadas
ATTACH;FMTTYPE=image/jpeg:https://staging.turismodecantpruebas.eurocastaliahost4.com/wp-content/uploads/2023/04/9bd6fc14-5efa-9f1c-b2c9-626e41b90360-y0ldvd.tmp-.jpg
END:VEVENT
BEGIN:VEVENT
DTSTART;VALUE=DATE:20230625
DTEND;VALUE=DATE:20230911
DTSTAMP:20260422T051304
CREATED:20231214T104910Z
LAST-MODIFIED:20240515T145004Z
UID:10016040-1687651200-1694390399@staging.turismodecantpruebas.eurocastaliahost4.com
SUMMARY:Visitas teatralizadas Palacio de la Magdalena
DESCRIPTION:Se harán dos versiones de visita: \n“Érase una vez… El Palacio” \n\nRecorrido interactivo que hará viajar en el tiempo a los participantes. Se tomará como protagonistas y narradores en primera persona a personajes ficticios\, que acercarán la historia a los visitantes de una manera lúdica y desenfadada\, pero con una base histórica rigurosa y veraz.\n\n\n“La Evocación de Ena y Una Conversación Real” \n\n\n“Teatralización de las visitas del Palacio de la Magdalena. La propuesta escénica\, es mostrar el elemento más humano de la reina Victoria Eugenia y del rey Alfonso en el Palacio de la Magdalena y su relación con la ciudad de Santander y Cantabria. El visitante tendrá la oportunidad de sentirse como un espectador privilegiado de lo cotidiano y lo íntimo de la familia real\, en sus propios espacios” \n\n\n\nLas visitas se realizan los domingos 25 de junio\, 9 y 23 de julio\, 13 y 27 de agosto y 10 de septiembre a las 12:15 y a las 13:15 horas \nMás información y entradas en https://entradas.santander.es/  \nDisfruta la cultura en Cantabria\, + x descubrir
URL:https://staging.turismodecantpruebas.eurocastaliahost4.com/proximamente-evento/visitas-teatralizadas-palacio-de-la-magdalena/
LOCATION:Santander
CATEGORIES:Actividades con niños,Cultura
ATTACH;FMTTYPE=image/jpeg:https://staging.turismodecantpruebas.eurocastaliahost4.com/wp-content/uploads/2023/12/3fdc94a4-668e-2459-e851-dfe3a91fb304-kax9hj.tmp-.jpg
END:VEVENT
BEGIN:VEVENT
DTSTART;VALUE=DATE:20240112
DTEND;VALUE=DATE:20240201
DTSTAMP:20260422T051304
CREATED:20240205T151038Z
LAST-MODIFIED:20240611T104357Z
UID:10017170-1705017600-1706745599@staging.turismodecantpruebas.eurocastaliahost4.com
SUMMARY:Visitas guiadas Palacio de la Magdalena
DESCRIPTION:Las visitas se hacen a las horas en punto en las siguientes franjas horarias \n\nLunes a viernes: 11:00\, 12:00\,16:00 y 17:00\nSábados: 10:00\, 11:00\, 12:00\, 16:00 y 17:00\nDomingos: 11:00\, 12:00 y13:00\nFestivos: 10:00\, 11:00\, 12:00 y 13:00\n\nDel 16 al 18 de enero el Palacio permanecerá cerrado \nMás información en la web oficial \nDisfruta la cultura en Cantabria\, + x descubrir
URL:https://staging.turismodecantpruebas.eurocastaliahost4.com/proximamente-evento/visitas-guiadas-palacio-de-la-magdalena-2/
LOCATION:Santander
CATEGORIES:Actividades con niños,Cultura,Visitas guiadas
ATTACH;FMTTYPE=image/jpeg:https://staging.turismodecantpruebas.eurocastaliahost4.com/wp-content/uploads/2023/04/f6eb5d6d-7895-2983-b947-2ab3ed3aa48b-ujwq1k.tmp-.jpg
END:VEVENT
BEGIN:VEVENT
DTSTART;VALUE=DATE:20240202
DTEND;VALUE=DATE:20240219
DTSTAMP:20260422T051304
CREATED:20240205T151704Z
LAST-MODIFIED:20240611T104357Z
UID:10017214-1706832000-1708300799@staging.turismodecantpruebas.eurocastaliahost4.com
SUMMARY:Visitas guiadas Palacio de la Magdalena
DESCRIPTION:Las visitas se hacen a las horas en punto en las siguientes franjas horarias \n\nLunes a viernes: 11:00\, 12:00\,16:00 y 17:00\nSábados: 10:00\, 11:00\, 12:00\, 16:00 y 17:00\nDomingos: 11:00\, 12:00 y13:00\nFestivos: 10:00\, 11:00\, 12:00 y 13:00\n\nMás información y reservas en la web oficial \nDisfruta la cultura en Cantabria\, + x descubrir
URL:https://staging.turismodecantpruebas.eurocastaliahost4.com/proximamente-evento/visitas-guiadas-palacio-de-la-magdalena-3/
LOCATION:Santander
CATEGORIES:Actividades con niños,Cultura,Visitas guiadas
ATTACH;FMTTYPE=image/jpeg:https://staging.turismodecantpruebas.eurocastaliahost4.com/wp-content/uploads/2024/02/87a3e100-3afa-6613-8e81-7b1328d11ffd-xkzzf2.tmp-.jpg
END:VEVENT
BEGIN:VEVENT
DTSTART;VALUE=DATE:20240314
DTEND;VALUE=DATE:20240317
DTSTAMP:20260422T051304
CREATED:20240212T080345Z
LAST-MODIFIED:20240613T095717Z
UID:10017259-1710374400-1710633599@staging.turismodecantpruebas.eurocastaliahost4.com
SUMMARY:Encuentro de ecoturismo en Santander. Naturwatch
DESCRIPTION:No te pierdas este encuentro donde la naturaleza es protagonista \nEn el programa\, dividido en 2 bloques se incluye: \n\nGEOTURISMO\, en el que participa tanto Asociación de Costa Quebrada\, presentando su proyecto de Geoparque Aspirante\, como Geoparques ya reconocidos Geoparques Mundiales UNESCO (Geoparkea-Costa Vasca y Cabo Ortegal)\nEXPERIENCIAS DE ECOTURISMO. Participan diversas empresas de Cantabria\, que ya están ofertando y comercializando experiencias de ecoturismo\, tanto de zona Santander\, como Liebana\, como Saja Nansa\, etc…\n\nToda la información y formularios de inscripción en https://www.encuentronaturewatch.com/ \nPrograma completo en este archivo \nPrograma Naturewatch \nDisfruta Santander en Cantabria\, + x descubrir
URL:https://staging.turismodecantpruebas.eurocastaliahost4.com/proximamente-evento/encuentro-de-ecoturismo-en-santander-naturwatch/
LOCATION:Santander\, Santander
CATEGORIES:Naturaleza
ATTACH;FMTTYPE=image/jpeg:https://staging.turismodecantpruebas.eurocastaliahost4.com/wp-content/uploads/2024/02/nature-watch.jpg
END:VEVENT
BEGIN:VEVENT
DTSTART;VALUE=DATE:20240825
DTEND;VALUE=DATE:20240909
DTSTAMP:20260422T051304
CREATED:20240819T102758Z
LAST-MODIFIED:20240823T080812Z
UID:10018360-1724544000-1725839999@staging.turismodecantpruebas.eurocastaliahost4.com
SUMMARY:La vida en Palacio
DESCRIPTION:Las visitas tendrán lugar los días 25 de agosto y 1\, y 8 de septiembre \nMás información y entradas en la web oficial \nLa cultura en Cantabria\, Apetece
URL:https://staging.turismodecantpruebas.eurocastaliahost4.com/proximamente-evento/la-vida-en-palacio/
LOCATION:Santander\, Santander
CATEGORIES:Cultura
ATTACH;FMTTYPE=image/jpeg:https://staging.turismodecantpruebas.eurocastaliahost4.com/wp-content/uploads/2024/06/la-vida-en-palacio.jpg
END:VEVENT
BEGIN:VEVENT
DTSTART;TZID=Europe/Madrid:20241030T170000
DTEND;TZID=Europe/Madrid:20241030T210000
DTSTAMP:20260422T051304
CREATED:20241025T132812Z
LAST-MODIFIED:20241025T132812Z
UID:10019497-1730307600-1730322000@staging.turismodecantpruebas.eurocastaliahost4.com
SUMMARY:El Palacio encuentado. Pesadilla en el Palacio
DESCRIPTION:Las visitas serán en el siguiente horario: 17:00\, 18:00\, 19:00 y 20:00 horas \nMás información y reservas en la web oficial \nSantander en Cantabria\, Apetece
URL:https://staging.turismodecantpruebas.eurocastaliahost4.com/proximamente-evento/el-palacio-encuentado-pesadilla-en-el-palacio/
LOCATION:Santander\, Santander
CATEGORIES:Halloween
ATTACH;FMTTYPE=image/jpeg:https://staging.turismodecantpruebas.eurocastaliahost4.com/wp-content/uploads/2024/10/pesadilla-palacio.jpeg
END:VEVENT
BEGIN:VEVENT
DTSTART;TZID=Europe/Madrid:20250215T060000
DTEND;TZID=Europe/Madrid:20250215T060000
DTSTAMP:20260422T051304
CREATED:20250210T092700Z
LAST-MODIFIED:20260227T114444Z
UID:10019794-1739599200-1739599200@staging.turismodecantpruebas.eurocastaliahost4.com
SUMMARY:Concierto a la luz de las velas
DESCRIPTION:Disfruta de un único «Concierto de Cuarteto de Cuerda»\, iluminado por la calidez de cientos de velas\, que creará un ambiente verdaderamente encantador. A veces\, resulta complicado encontrar las palabras perfectas para expresar lo que sentimos. En lugar de eso\, ¿por qué no dejas que la música hable por ti? \nImagina la armonía de dos violines\, una viola y un violonchelo fusionándose para crear una atmósfera íntima y romántica. Este concierto es la oportunidad ideal para vivir una experiencia que tocará tu corazón y te permitirá expresar tus sentimientos de amor y pasión a través de la música. \nNo te pierdas esta ocasión única de sumergirte en un repertorio romántico\, donde las melodías evocarán los momentos más hermosos del amor. ¡Ven y celebra con nosotros el verdadero espíritu de San Valentín!\nMás información y entradas en la web oficial\nSantander en Cantabria\, Apetece
URL:https://staging.turismodecantpruebas.eurocastaliahost4.com/proximamente-evento/concierto-a-la-luz-de-las-velas-2/
LOCATION:Santander\, Santander
CATEGORIES:Cultura
ATTACH;FMTTYPE=image/jpeg:https://staging.turismodecantpruebas.eurocastaliahost4.com/wp-content/uploads/2025/02/velas-y-candelas-e1739529618870.jpg
END:VEVENT
BEGIN:VEVENT
DTSTART;VALUE=DATE:20250417
DTEND;VALUE=DATE:20250421
DTSTAMP:20260422T051304
CREATED:20250326T143010Z
LAST-MODIFIED:20250422T083427Z
UID:10015720-1744848000-1745193599@staging.turismodecantpruebas.eurocastaliahost4.com
SUMMARY:Visitas Semana Santa Palacio de la Magdalena
DESCRIPTION:El Palacio de La Magdalena modifica sus horarios de cara a las visitas de Semana Santa\, quedando éstos como aparece en el cartel adjunto \nCompra de entradas en la web oficial \nSantander en Cantabria\, Apetece \nsemana santa palacio \n 
URL:https://staging.turismodecantpruebas.eurocastaliahost4.com/proximamente-evento/visitas-semana-santa-palacio-de-la-magdalena/
LOCATION:Santander\, Santander
CATEGORIES:Cultura,Visitas guiadas
ATTACH;FMTTYPE=image/jpeg:https://staging.turismodecantpruebas.eurocastaliahost4.com/wp-content/uploads/2025/03/semana-santa-palacio-magdalena.jpg
END:VEVENT
BEGIN:VEVENT
DTSTART;TZID=Europe/Madrid:20251115T200000
DTEND;TZID=Europe/Madrid:20251115T220000
DTSTAMP:20260422T051304
CREATED:20251107T082606Z
LAST-MODIFIED:20251120T131435Z
UID:10020592-1763236800-1763244000@staging.turismodecantpruebas.eurocastaliahost4.com
SUMMARY:30 Años Palacio de la Magdalena. Jornada gastronómica
DESCRIPTION:El próximo 15 de noviembre a las 20:00 h tendrá lugar la primera jornada gastronómica\, con motivo del 30º aniversario de la reforma del Palacio de La Magdalena: una cena temática inspirada en los años 20. \nReserva tu mesa en la web oficial \nMás información en el cartel adjunto: CENA AÑOS 20- 30 AÑOS PALACIO \nSantander en Cantabria\, Apetece \n 
URL:https://staging.turismodecantpruebas.eurocastaliahost4.com/proximamente-evento/30-anos-palacio-de-la-magdalena-jornada-gastronomica/
LOCATION:Santander\, Santander
CATEGORIES:Fiestas y ferias
ATTACH;FMTTYPE=image/png:https://staging.turismodecantpruebas.eurocastaliahost4.com/wp-content/uploads/2025/11/30-anos-palacio-magdalena.png
END:VEVENT
BEGIN:VEVENT
DTSTART;TZID=Europe/Madrid:20251223T080000
DTEND;TZID=Europe/Madrid:20251230T170000
DTSTAMP:20260422T051304
CREATED:20251212T090834Z
LAST-MODIFIED:20251219T084424Z
UID:10019648-1766476800-1767114000@staging.turismodecantpruebas.eurocastaliahost4.com
SUMMARY:"Una Navidad de Cuento" en el Palacio de la Magdalena
DESCRIPTION:Llegan las visitas mágicas al Palacio de la Magdalena. Los días 23\, 26\, 27\, 28 y 30 a las 17:00 y a las 18:00h tendrá lugar la visita especial “Una Navidad de Cuento”. \nLas entradas se pueden adquirir en la web oficial \nLos menores de 2 años tienen entrada gratuita\, con inscripción previa. \nSantander en Cantabria\, Apetece
URL:https://staging.turismodecantpruebas.eurocastaliahost4.com/proximamente-evento/una-navidad-de-cuento-en-el-palacio-de-la-magdalena/
LOCATION:Santander\, Santander
CATEGORIES:Navidad
ATTACH;FMTTYPE=image/jpeg:https://staging.turismodecantpruebas.eurocastaliahost4.com/wp-content/uploads/2024/12/cuento-e1766133841398.jpg
END:VEVENT
BEGIN:VEVENT
DTSTART;VALUE=DATE:20260125
DTEND;VALUE=DATE:20260126
DTSTAMP:20260422T051304
CREATED:20260120T141635Z
LAST-MODIFIED:20260129T125615Z
UID:10020757-1769299200-1769385599@staging.turismodecantpruebas.eurocastaliahost4.com
SUMMARY:Segundas jornadas de puertas abiertas para conocer el Palacio de La Magdalena
DESCRIPTION:El domingo 25 de enero tendrán lugar las segundas jornadas de puertas abiertas para conocer el Palacio Real de La Magdalena. Las jornadas tendrán lugar a las 11\, 12 y 13 horas \nEsta actividad se encuentra dentro de la programación del 30 Aniversario de la reforma integral del Palacio. \nA partir del jueves 22 de enero\, a las 20:00h.\, en la página web https://www.palaciomagdalena.com/ se podrán conseguir las entradas. \nEs necesario acudir con entradas para acceder\, ya que el aforo es limitado. \nMás información en la web oficial \nLa cultura en Cantabria\, Apetece
URL:https://staging.turismodecantpruebas.eurocastaliahost4.com/proximamente-evento/segundas-jornadas-de-puertas-abiertas-para-conocer-el-palacio-de-la-magdalena/
LOCATION:Santander\, Santander
CATEGORIES:Cultura
ATTACH;FMTTYPE=image/jpeg:https://staging.turismodecantpruebas.eurocastaliahost4.com/wp-content/uploads/2026/01/jornadas-de-puertas-abiertas-palacio-de-la-magdalena-e1769160299906.jpg
END:VEVENT
END:VCALENDAR