BEGIN:VCALENDAR
VERSION:2.0
PRODID:-//Turismo de Cantabria - ECPv6.15.17//NONSGML v1.0//EN
CALSCALE:GREGORIAN
METHOD:PUBLISH
X-WR-CALNAME:Turismo de Cantabria
X-ORIGINAL-URL:https://staging.turismodecantpruebas.eurocastaliahost4.com
X-WR-CALDESC:Eventos para Turismo de Cantabria
REFRESH-INTERVAL;VALUE=DURATION:PT1H
X-Robots-Tag:noindex
X-PUBLISHED-TTL:PT1H
BEGIN:VTIMEZONE
TZID:Europe/Madrid
BEGIN:DAYLIGHT
TZOFFSETFROM:+0100
TZOFFSETTO:+0200
TZNAME:CEST
DTSTART:20190331T010000
END:DAYLIGHT
BEGIN:STANDARD
TZOFFSETFROM:+0200
TZOFFSETTO:+0100
TZNAME:CET
DTSTART:20191027T010000
END:STANDARD
BEGIN:DAYLIGHT
TZOFFSETFROM:+0100
TZOFFSETTO:+0200
TZNAME:CEST
DTSTART:20200329T010000
END:DAYLIGHT
BEGIN:STANDARD
TZOFFSETFROM:+0200
TZOFFSETTO:+0100
TZNAME:CET
DTSTART:20201025T010000
END:STANDARD
BEGIN:DAYLIGHT
TZOFFSETFROM:+0100
TZOFFSETTO:+0200
TZNAME:CEST
DTSTART:20210328T010000
END:DAYLIGHT
BEGIN:STANDARD
TZOFFSETFROM:+0200
TZOFFSETTO:+0100
TZNAME:CET
DTSTART:20211031T010000
END:STANDARD
BEGIN:DAYLIGHT
TZOFFSETFROM:+0100
TZOFFSETTO:+0200
TZNAME:CEST
DTSTART:20220327T010000
END:DAYLIGHT
BEGIN:STANDARD
TZOFFSETFROM:+0200
TZOFFSETTO:+0100
TZNAME:CET
DTSTART:20221030T010000
END:STANDARD
BEGIN:DAYLIGHT
TZOFFSETFROM:+0100
TZOFFSETTO:+0200
TZNAME:CEST
DTSTART:20230326T010000
END:DAYLIGHT
BEGIN:STANDARD
TZOFFSETFROM:+0200
TZOFFSETTO:+0100
TZNAME:CET
DTSTART:20231029T010000
END:STANDARD
BEGIN:DAYLIGHT
TZOFFSETFROM:+0100
TZOFFSETTO:+0200
TZNAME:CEST
DTSTART:20240331T010000
END:DAYLIGHT
BEGIN:STANDARD
TZOFFSETFROM:+0200
TZOFFSETTO:+0100
TZNAME:CET
DTSTART:20241027T010000
END:STANDARD
BEGIN:DAYLIGHT
TZOFFSETFROM:+0100
TZOFFSETTO:+0200
TZNAME:CEST
DTSTART:20250330T010000
END:DAYLIGHT
BEGIN:STANDARD
TZOFFSETFROM:+0200
TZOFFSETTO:+0100
TZNAME:CET
DTSTART:20251026T010000
END:STANDARD
END:VTIMEZONE
BEGIN:VEVENT
DTSTART;VALUE=DATE:20201223
DTEND;VALUE=DATE:20220101
DTSTAMP:20260420T173241
CREATED:20240517T105630Z
LAST-MODIFIED:20260227T101737Z
UID:10017852-1608681600-1640995199@staging.turismodecantpruebas.eurocastaliahost4.com
SUMMARY:Café Bar Marcos
DESCRIPTION:Puedes descargarte la carta en los ficheros adjuntos \nMás información y reservas en la web oficial y en el teléfono 942 646988 \nDisfruta la gastronomia en Cantabria\, sin ir más lejos \n 
URL:https://staging.turismodecantpruebas.eurocastaliahost4.com/proximamente-evento/cafe-bar-marcos/
LOCATION:Asón-Agüera
CATEGORIES:Todo el año
ATTACH;FMTTYPE=image/jpeg:https://staging.turismodecantpruebas.eurocastaliahost4.com/wp-content/uploads/2024/02/3de7ac7a-02ca-dcbf-913c-e98c7a4ccd4c.jpg
END:VEVENT
BEGIN:VEVENT
DTSTART;VALUE=DATE:20201223
DTEND;VALUE=DATE:20220101
DTSTAMP:20260420T173241
CREATED:20240517T105630Z
LAST-MODIFIED:20260227T102421Z
UID:10017850-1608681600-1640995199@staging.turismodecantpruebas.eurocastaliahost4.com
SUMMARY:Taberna Nashville
DESCRIPTION:Puedes ver la carta en los ficheros adjuntos \nMás información y reservas en la web oficial y en el teléfono 942 173962 \nDisfruta la gastronomía en Cantabria\, sin ir más lejos \n 
URL:https://staging.turismodecantpruebas.eurocastaliahost4.com/proximamente-evento/taberna-nashville/
LOCATION:Asón-Agüera
ATTACH;FMTTYPE=image/jpeg:https://staging.turismodecantpruebas.eurocastaliahost4.com/wp-content/uploads/2024/02/9add05ee-d7f3-59f6-d483-5b74d52059c4.jpg
END:VEVENT
BEGIN:VEVENT
DTSTART;VALUE=DATE:20220312
DTEND;VALUE=DATE:20220313
DTSTAMP:20260420T173241
CREATED:20231213T154317Z
LAST-MODIFIED:20240502T150943Z
UID:10014219-1647043200-1647129599@staging.turismodecantpruebas.eurocastaliahost4.com
SUMMARY:Plantación forestal en la Mies de Utero
DESCRIPTION:Esta actividad tiene como objetivo ayudar en el proceso de «reconstrucción» del bosque autóctono próximo al municipio de Ramales de la Victoria. Es una zona que ha sufrido incendio hace unos años\, en la que pondremos nuestro granito de arena en su regeneración gracias a la actividad de voluntariado de plantación forestal. \nContaremos siempre con especies de árboles y arbustos autóctonos propios de la zona\, que convivan con el porte arbustivo existente. Además\, aprovecharemos para enseñar otras técnicas de revegetación\, como es el lanzamiento de bombas de semillas\, que son especialmente interesantes para superficies de trabajo como ésta\, pues contamos con cierto desnivel y ¡a los más pequeños les encanta! \nSiempre terminamos nuestras actividades de voluntariado con un piscolabis responsable (sin plásticos de un solo uso y con productos típicos de la zona). \nMás información y reservas en la web oficial \nDisfruta la naturaleza en Cantabria\, + x descubrir
URL:https://staging.turismodecantpruebas.eurocastaliahost4.com/proximamente-evento/plantacion-forestal-en-la-mies-de-utero/
LOCATION:Asón-Agüera
CATEGORIES:Naturaleza
ATTACH;FMTTYPE=image/jpeg:https://staging.turismodecantpruebas.eurocastaliahost4.com/wp-content/uploads/2023/04/83c76c1d-6bec-a553-ecc6-450ae9c45934-dubxpi.tmp-.jpg
END:VEVENT
BEGIN:VEVENT
DTSTART;VALUE=DATE:20220318
DTEND;VALUE=DATE:20220320
DTSTAMP:20260420T173241
CREATED:20231213T154337Z
LAST-MODIFIED:20260227T122154Z
UID:10014240-1647561600-1647734399@staging.turismodecantpruebas.eurocastaliahost4.com
SUMMARY:Jornadas de espeleología
DESCRIPTION:Puedes ver la programación completa en el fichero adjunto \nDisfruta Ramales de la Victoria en Cantabria\, + x descubrir
URL:https://staging.turismodecantpruebas.eurocastaliahost4.com/proximamente-evento/jornadas-de-espeleologia/
LOCATION:Asón-Agüera
CATEGORIES:Deportes
ATTACH;FMTTYPE=image/jpeg:https://staging.turismodecantpruebas.eurocastaliahost4.com/wp-content/uploads/2023/04/fb8bbe4e-8543-c1a8-92fe-025d3c9aedb4-lihupl.tmp-.jpg
END:VEVENT
BEGIN:VEVENT
DTSTART;VALUE=DATE:20220414
DTEND;VALUE=DATE:20220417
DTSTAMP:20260420T173241
CREATED:20231213T154718Z
LAST-MODIFIED:20240515T154702Z
UID:10014354-1649894400-1650153599@staging.turismodecantpruebas.eurocastaliahost4.com
SUMMARY:Mercado artesanal
DESCRIPTION:Puedes visitar la feria desde las 10:00 horas \nDisfruta Ramales de la Victoria en Cantabria\, + x descubrir
URL:https://staging.turismodecantpruebas.eurocastaliahost4.com/proximamente-evento/mercado-artesanal/
LOCATION:Asón-Agüera
CATEGORIES:Actividades con niños,Fiestas y ferias
ATTACH;FMTTYPE=image/jpeg:https://staging.turismodecantpruebas.eurocastaliahost4.com/wp-content/uploads/2023/04/0e79b2da-2f74-08ae-5dae-73af90dbd00f-t91bal.tmp-.jpg
END:VEVENT
BEGIN:VEVENT
DTSTART;VALUE=DATE:20220414
DTEND;VALUE=DATE:20220418
DTSTAMP:20260420T173241
CREATED:20231213T154719Z
LAST-MODIFIED:20240515T145826Z
UID:10014355-1649894400-1650239999@staging.turismodecantpruebas.eurocastaliahost4.com
SUMMARY:Paseos primaverales
DESCRIPTION:Más información en el fichero adjunto \nDisfruta Ramales de la Victoria en Cantabria\, + x descubrir
URL:https://staging.turismodecantpruebas.eurocastaliahost4.com/proximamente-evento/paseos-primaverales/
LOCATION:Asón-Agüera
CATEGORIES:Actividades con niños,Naturaleza
ATTACH;FMTTYPE=image/jpeg:https://staging.turismodecantpruebas.eurocastaliahost4.com/wp-content/uploads/2023/04/bdd5b50e-17d6-5ed4-1819-bc1b008d3ebb-op40he.tmp-.jpg
END:VEVENT
BEGIN:VEVENT
DTSTART;VALUE=DATE:20220421
DTEND;VALUE=DATE:20220501
DTSTAMP:20260420T173241
CREATED:20231213T154815Z
LAST-MODIFIED:20240515T154522Z
UID:10014391-1650499200-1651363199@staging.turismodecantpruebas.eurocastaliahost4.com
SUMMARY:La cultura contraataca territorio 2022
DESCRIPTION:El ciclo comienza mañana viernes 22 de abril a las 11:00 horas con ‘La magia de los libros’ de Mago Xuso en la Antigua Cooperativa del Campo en Arenas de Iguña. Este mismo espectáculo se celebrará a las 19:00 horas en el Salón de actos Fundación Orense de Ramales de la Victoria. En esta jornada también tendrá lugar ‘Baldomero\, el lector viajero’ en la Biblioteca municipal Elena Soriano en Suances\, a las 18:00 horas; y ‘El viaje de Alicia’ en la Casa de Cultura de Villaescusa\, a las 18:30 horas. \nLa oferta cultural aterrizará el sábado 23 de abril en Polanco con ‘El arriero de los juegos’ en el CEIP Pérez Galdós\, a las 13:00 horas y ‘Zoorprendente’ en el mismo lugar a las 16:00 horas. \nReinosa arrancará las jornadas de la próxima semana en la Biblioteca pública La casona con ‘Kikiricuentos’ a las 18:30 horas del lunes 25 de abril y ‘La magia de los libros’ a las 18:30 del miércoles 27 de abril. \nEl espectáculo ‘Casa palabra’ tendrá lugar el viernes 29 de abril en el Salón de Actos de la Casa Cultura de Colindres a las 18:30 horas. \nEl ciclo de esta oferta concluirá el sábado 30 de abril en la Escuela de Pámanes de Liérganes con ‘Baldometo\, el lector viajero’ a las 18:00 horas y en la Plaza de Rucoba de Limpias con ‘Viva la montaña’ a las 18:00 horas. \nDisfruta la cultura en Cantabria + x descubrir
URL:https://staging.turismodecantpruebas.eurocastaliahost4.com/proximamente-evento/la-cultura-contraataca-territorio-2022/
LOCATION:Asón-Agüera
CATEGORIES:Cultura,Espectáculos
ATTACH;FMTTYPE=image/jpeg:https://staging.turismodecantpruebas.eurocastaliahost4.com/wp-content/uploads/2023/04/fb4a87eb-5f9d-39b6-5fd4-2f14bcdb2db1-7mve5u.tmp-.jpg
END:VEVENT
BEGIN:VEVENT
DTSTART;VALUE=DATE:20220430
DTEND;VALUE=DATE:20220501
DTSTAMP:20260420T173241
CREATED:20231213T154928Z
LAST-MODIFIED:20240508T120743Z
UID:10014432-1651276800-1651363199@staging.turismodecantpruebas.eurocastaliahost4.com
SUMMARY:Plantación de orla forestal en el Parque de la Naturaleza de Cabárceno
DESCRIPTION:Plantación de árboles y arbustos autóctonos en el parque de la naturaleza de Cabárceno para crear una orla forestal que contribuya a naturalizar el paisaje en este entorno tan alterado por el hombre. Complementariamente\, realización de un recorrido interpretativo para mostrar las especies de flora que crecen\, de manera natural\, en las proximidades de la zona de actuación\, como consecuencia de su relación con el medio físico y las alteraciones de origen antrópico que éste ha sufrido a lo largo de la historia. \nMás información en la web oficial \nDisfruta la naturaleza en Cantabria\, + x descubrir
URL:https://staging.turismodecantpruebas.eurocastaliahost4.com/proximamente-evento/plantacion-de-orla-forestal-en-el-parque-de-la-naturaleza-de-cabarceno/
LOCATION:Asón-Agüera
CATEGORIES:Naturaleza
ATTACH;FMTTYPE=image/jpeg:https://staging.turismodecantpruebas.eurocastaliahost4.com/wp-content/uploads/2023/04/44a5dc53-bed8-0810-122a-4e6c41a4af2e-xmfpfs.tmp-.jpg
END:VEVENT
BEGIN:VEVENT
DTSTART;VALUE=DATE:20220620
DTEND;VALUE=DATE:20220628
DTSTAMP:20260420T173241
CREATED:20231213T160514Z
LAST-MODIFIED:20240515T154522Z
UID:10014627-1655683200-1656374399@staging.turismodecantpruebas.eurocastaliahost4.com
SUMMARY:Exposición fotográfica Gigantes y Cabezudos
DESCRIPTION:Ramales de la Victoria será la sede de esta curiosa exposición durante una semana\, en la que se podrá visitar en los siguientes horarios: \n– Lunes a viernes\, de 9.30h a 15.30h y de 17.00h a 20.00h. \n– Sábado\, de 9.30h a 14.00h y de 16.00h a 20.00h. \n– Domingo\, de 9.30h a 14.00h.
URL:https://staging.turismodecantpruebas.eurocastaliahost4.com/proximamente-evento/exposicion-fotografica-gigantes-y-cabezudos/
LOCATION:Asón-Agüera
CATEGORIES:Cultura,Exposiciones
ATTACH;FMTTYPE=image/jpeg:https://staging.turismodecantpruebas.eurocastaliahost4.com/wp-content/uploads/2023/04/14074bbe-2c36-b4d8-c59d-ac04e276ae00-bmrhqv.tmp-.jpg
END:VEVENT
BEGIN:VEVENT
DTSTART;VALUE=DATE:20220621
DTEND;VALUE=DATE:20221211
DTSTAMP:20260420T173241
CREATED:20240517T105605Z
LAST-MODIFIED:20240610T112901Z
UID:10017782-1655769600-1670716799@staging.turismodecantpruebas.eurocastaliahost4.com
SUMMARY:Fiestas en Ramales de la Victoria
DESCRIPTION:Puedes ver la programación completa en el fichero adjunto \nDisfruta Ramales de la Victoria en Cantabria\, + x descubrir \n 
URL:https://staging.turismodecantpruebas.eurocastaliahost4.com/proximamente-evento/fiestas-en-ramales-de-la-victoria/
LOCATION:Ramales de la Victoria\, Ramales de la Victoria\, Asón-Agüera
CATEGORIES:Actividades con niños,Fiestas y ferias,Todo el año
ATTACH;FMTTYPE=image/jpeg:https://staging.turismodecantpruebas.eurocastaliahost4.com/wp-content/uploads/2023/12/64fdc4cd-bf39-7fc5-a048-d28746346c75.jpg
END:VEVENT
BEGIN:VEVENT
DTSTART;VALUE=DATE:20220628
DTEND;VALUE=DATE:20220703
DTSTAMP:20260420T173241
CREATED:20231213T160602Z
LAST-MODIFIED:20231214T090514Z
UID:10014657-1656374400-1656806399@staging.turismodecantpruebas.eurocastaliahost4.com
SUMMARY:San Pedro y San Valentín
DESCRIPTION:Puedes ver el programa completo en el fichero adjunto \nDisfruta Ramales de la Victoria en Cantabria\, + x descubrir
URL:https://staging.turismodecantpruebas.eurocastaliahost4.com/proximamente-evento/san-pedro-y-san-valentin/
LOCATION:Asón-Agüera
CATEGORIES:Fiestas y ferias
ATTACH;FMTTYPE=image/jpeg:https://staging.turismodecantpruebas.eurocastaliahost4.com/wp-content/uploads/2023/04/0b7303a1-7dbd-2a63-e2e1-7fa89366115b-5doh9w.tmp-.jpg
END:VEVENT
BEGIN:VEVENT
DTSTART;VALUE=DATE:20220716
DTEND;VALUE=DATE:20220717
DTSTAMP:20260420T173241
CREATED:20231213T160728Z
LAST-MODIFIED:20240515T145733Z
UID:10014726-1657929600-1658015999@staging.turismodecantpruebas.eurocastaliahost4.com
SUMMARY:Fiestas de la Virgen del Carmen en Ramales de la Victoria
DESCRIPTION:Puedes ver la programación de estas fiestas en el fichero adjunto \nDisfruta Ranales de la Victoria en Cantabria\, + x descubrir
URL:https://staging.turismodecantpruebas.eurocastaliahost4.com/proximamente-evento/fiestas-de-la-virgen-del-carmen-en-ramales-de-la-victoria/
LOCATION:Asón-Agüera
CATEGORIES:Actividades con niños,Fiestas y ferias
ATTACH;FMTTYPE=image/jpeg:https://staging.turismodecantpruebas.eurocastaliahost4.com/wp-content/uploads/2023/04/8b8db635-dab3-68e1-8577-906b894346ce-z0yqvr.tmp-.jpg
END:VEVENT
BEGIN:VEVENT
DTSTART;VALUE=DATE:20220905
DTEND;VALUE=DATE:20220909
DTSTAMP:20260420T173241
CREATED:20231213T161137Z
LAST-MODIFIED:20240502T151042Z
UID:10014880-1662336000-1662681599@staging.turismodecantpruebas.eurocastaliahost4.com
SUMMARY:Espeleoforum
DESCRIPTION:En Ramales de la Victoria se van a ofrecer una gran cantidad de actividades a los asistentes\, tanto charlas y exposiciones como visitas a cavidades tanto turísticas como aquellas destinadas a la práctica de la espeleología deportiva. \nMás información en la web oficial \nDisfruta el deporte en Cantabria\, + x descubrir
URL:https://staging.turismodecantpruebas.eurocastaliahost4.com/proximamente-evento/espeleoforum/
LOCATION:Asón-Agüera
CATEGORIES:Deportes
ATTACH;FMTTYPE=image/jpeg:https://staging.turismodecantpruebas.eurocastaliahost4.com/wp-content/uploads/2023/04/6efbb1b2-fa60-bec5-27d5-1d79997e1691-xiuzbl.tmp-.jpg
END:VEVENT
BEGIN:VEVENT
DTSTART;VALUE=DATE:20220917
DTEND;VALUE=DATE:20220918
DTSTAMP:20260420T173241
CREATED:20231213T161224Z
LAST-MODIFIED:20240515T145706Z
UID:10014908-1663372800-1663459199@staging.turismodecantpruebas.eurocastaliahost4.com
SUMMARY:Repoblación forestal con especies autóctonas
DESCRIPTION:Repoblación forestal con arbolado especies autóctonas en una parcela municipal de la Sierra de Ramales de la Victoria y realización de un itinerario interpretativo para observar la evolución del monte por la interacción entre las condiciones ambientales de la zona y la influencia humana. \nMás información en la web oficial \nDisfruta la naturaleza en Cantabria\, + x descubrir
URL:https://staging.turismodecantpruebas.eurocastaliahost4.com/proximamente-evento/repoblacion-forestal-con-especies-autoctonas/
LOCATION:Asón-Agüera
CATEGORIES:Actividades con niños,Naturaleza
ATTACH;FMTTYPE=image/jpeg:https://staging.turismodecantpruebas.eurocastaliahost4.com/wp-content/uploads/2023/04/a675c0b5-28eb-ff23-a4f1-58690684b6bd-1eog0o.tmp-.jpg
END:VEVENT
BEGIN:VEVENT
DTSTART;VALUE=DATE:20221001
DTEND;VALUE=DATE:20221002
DTSTAMP:20260420T173241
CREATED:20231213T161346Z
LAST-MODIFIED:20240503T104118Z
UID:10014959-1664582400-1664668799@staging.turismodecantpruebas.eurocastaliahost4.com
SUMMARY:Encuentro de rabelistas
DESCRIPTION:Por la mañana el encuentro será en la Plaza de la Victoria y tras la comida se trasladará a la Fudación Orense \nPuedes ver el programa en en el fichero adjunto \nDisfruta la cultura en Cantabria\, + x descubrir
URL:https://staging.turismodecantpruebas.eurocastaliahost4.com/proximamente-evento/encuentro-de-rabelistas/
LOCATION:Asón-Agüera
CATEGORIES:Cultura
ATTACH;FMTTYPE=image/jpeg:https://staging.turismodecantpruebas.eurocastaliahost4.com/wp-content/uploads/2023/04/3171f965-9b15-aeac-bcd8-2f091fb3cef1-2zvsgo.tmp-.jpg
END:VEVENT
BEGIN:VEVENT
DTSTART;VALUE=DATE:20221009
DTEND;VALUE=DATE:20221010
DTSTAMP:20260420T173241
CREATED:20231213T161424Z
LAST-MODIFIED:20240515T145700Z
UID:10014993-1665273600-1665359999@staging.turismodecantpruebas.eurocastaliahost4.com
SUMMARY:Cuentacuentos teatralizado del Arte Rupestre
DESCRIPTION:El Arte en las Cuevas\, contado por la exploradora Miranda Cuenta\, para que conozcas la historia de Cullalvera y Covalanas \nDisfruta la cultura en Cantabria\, + x descubrir
URL:https://staging.turismodecantpruebas.eurocastaliahost4.com/proximamente-evento/cuentacuentos-teatralizado-del-arte-rupestre/
LOCATION:Asón-Agüera
CATEGORIES:Actividades con niños,Espectáculos
ATTACH;FMTTYPE=image/jpeg:https://staging.turismodecantpruebas.eurocastaliahost4.com/wp-content/uploads/2023/04/ebb4152e-72e5-730b-0b6b-91d1b1c44ebc-ynzper.tmp-.jpg
END:VEVENT
BEGIN:VEVENT
DTSTART;VALUE=DATE:20221203
DTEND;VALUE=DATE:20221204
DTSTAMP:20260420T173241
CREATED:20231213T161750Z
LAST-MODIFIED:20240516T111428Z
UID:10015181-1670025600-1670111999@staging.turismodecantpruebas.eurocastaliahost4.com
SUMMARY:Concentración ollas ferroviarias
DESCRIPTION:La plaza de La Quintana en Gibaja es el lugar elegido para esta celebración \nPuedes ver el programa completo en el fichero adjunto \nDisfruta Ramales de la Victoria en Cantabria\, + x descubrir
URL:https://staging.turismodecantpruebas.eurocastaliahost4.com/proximamente-evento/concentracion-ollas-ferroviarias/
LOCATION:Asón-Agüera
CATEGORIES:Actividades con niños,Gastronomía
ATTACH;FMTTYPE=image/jpeg:https://staging.turismodecantpruebas.eurocastaliahost4.com/wp-content/uploads/2023/04/547e7a75-dc04-707b-dcda-f4b897041cc9-fmob1j.tmp-.jpg
END:VEVENT
BEGIN:VEVENT
DTSTART;VALUE=DATE:20221208
DTEND;VALUE=DATE:20230206
DTSTAMP:20260420T173241
CREATED:20231213T161808Z
LAST-MODIFIED:20240502T072005Z
UID:10015196-1670457600-1675641599@staging.turismodecantpruebas.eurocastaliahost4.com
SUMMARY:Belén artesanal Ramales de la Victoria
DESCRIPTION:Pudes visitarlo\, de lunes a domingo\, en horario de las 12:00 a las 14:00 horas y de las 19:30 a las 21:00 horas \nDisfruta la Navidad en Cantabria\, + x descubrir
URL:https://staging.turismodecantpruebas.eurocastaliahost4.com/proximamente-evento/belen-artesanal-ramales-de-la-victoria/
LOCATION:Asón-Agüera
CATEGORIES:Navidad
ATTACH;FMTTYPE=image/jpeg:https://staging.turismodecantpruebas.eurocastaliahost4.com/wp-content/uploads/2023/04/28377602-e659-743d-e5d3-abc585d3ff24-b012jo.tmp-.jpg
END:VEVENT
BEGIN:VEVENT
DTSTART;VALUE=DATE:20230105
DTEND;VALUE=DATE:20230106
DTSTAMP:20260420T173241
CREATED:20231213T162020Z
LAST-MODIFIED:20240515T145123Z
UID:10015317-1672876800-1672963199@staging.turismodecantpruebas.eurocastaliahost4.com
SUMMARY:Cabalgata de Reyes Magos de Ramales de la Victoria y Gibaja
DESCRIPTION:GIBAJA \n\n18:30 horas\, Plaza La Quintana\n\nRAMALES \n\n19:00 horas\, Plaza Duques de la Victoria\n\nDisfruta Ramales de la Victoria en Cantabria\, + x descubrir
URL:https://staging.turismodecantpruebas.eurocastaliahost4.com/proximamente-evento/cabalgata-de-reyes-magos-de-ramales-de-la-victoria-y-gibaja/
LOCATION:Asón-Agüera
CATEGORIES:Actividades con niños,Navidad
ATTACH;FMTTYPE=image/jpeg:https://staging.turismodecantpruebas.eurocastaliahost4.com/wp-content/uploads/2023/04/7c09e241-4b21-5c51-e794-ef7d41dd3d9e-7hupth.tmp-.jpg
END:VEVENT
BEGIN:VEVENT
DTSTART;VALUE=DATE:20230114
DTEND;VALUE=DATE:20230115
DTSTAMP:20260420T173241
CREATED:20231213T162053Z
LAST-MODIFIED:20240610T113220Z
UID:10015339-1673654400-1673740799@staging.turismodecantpruebas.eurocastaliahost4.com
SUMMARY:Coral Salvé de Laredo
DESCRIPTION:Dirigida por Jose Luis Ocejo y con Raquel MArcosd e la Rúa al piano\, no te lo puedes perder \nDisfruta la cultura en Cantabria\, + x descubrir
URL:https://staging.turismodecantpruebas.eurocastaliahost4.com/proximamente-evento/coral-salve-de-laredo-2/
LOCATION:Asón-Agüera
CATEGORIES:Espectáculos
ATTACH;FMTTYPE=image/jpeg:https://staging.turismodecantpruebas.eurocastaliahost4.com/wp-content/uploads/2023/04/be7ef56c-4042-58a0-aa76-cfb12d232fb4-ojhfgl.tmp-.jpg
END:VEVENT
BEGIN:VEVENT
DTSTART;VALUE=DATE:20230329
DTEND;VALUE=DATE:20230402
DTSTAMP:20260420T173241
CREATED:20231213T170351Z
LAST-MODIFIED:20240503T104135Z
UID:10015683-1680048000-1680393599@staging.turismodecantpruebas.eurocastaliahost4.com
SUMMARY:Jornadas del paleolítico
DESCRIPTION:Más información y programa en el fichero adjunto \nDisfruta la cultura en Cantabria\, + x descubrir
URL:https://staging.turismodecantpruebas.eurocastaliahost4.com/proximamente-evento/jornadas-del-paleolitico/
LOCATION:Asón-Agüera
CATEGORIES:Cultura
ATTACH;FMTTYPE=image/jpeg:https://staging.turismodecantpruebas.eurocastaliahost4.com/wp-content/uploads/2023/04/b9b324c9-a90b-11d8-66fa-897b13bab433-zzqkay.tmp-.jpg
END:VEVENT
BEGIN:VEVENT
DTSTART;VALUE=DATE:20230609
DTEND;VALUE=DATE:20230612
DTSTAMP:20260420T173241
CREATED:20231214T103131Z
LAST-MODIFIED:20240516T110710Z
UID:10015964-1686268800-1686527999@staging.turismodecantpruebas.eurocastaliahost4.com
SUMMARY:IV Concentración de Ferratas
DESCRIPTION:El mundo vertical es una fiesta en Ramales de la Victoria \nMás información e inscripciones en la web oficial \nDisfruta el deporte en Cantabria\, + x descubrir
URL:https://staging.turismodecantpruebas.eurocastaliahost4.com/proximamente-evento/iv-concentracion-de-ferratas/
LOCATION:Asón-Agüera
CATEGORIES:Deportes
ATTACH;FMTTYPE=image/jpeg:https://staging.turismodecantpruebas.eurocastaliahost4.com/wp-content/uploads/2023/04/2ecc13b2-61de-df50-1b24-651ab86983af-qgcznw.tmp-.jpg
END:VEVENT
BEGIN:VEVENT
DTSTART;VALUE=DATE:20230610
DTEND;VALUE=DATE:20230614
DTSTAMP:20260420T173241
CREATED:20231214T103216Z
LAST-MODIFIED:20240515T145007Z
UID:10015973-1686355200-1686700799@staging.turismodecantpruebas.eurocastaliahost4.com
SUMMARY:Fiestas de San Antonio en Gibaja
DESCRIPTION:Puedes ver la programación completa en el fichero adjunto \nDisfruta Gibaja en Cantabria\, + x descubrir
URL:https://staging.turismodecantpruebas.eurocastaliahost4.com/proximamente-evento/fiestas-de-san-antonio-en-gibaja/
LOCATION:Asón-Agüera
CATEGORIES:Actividades con niños,Fiestas y ferias
ATTACH;FMTTYPE=image/jpeg:https://staging.turismodecantpruebas.eurocastaliahost4.com/wp-content/uploads/2023/12/50c6c81e-f52c-1c13-581e-4ca3042fb322-lsyiqp.tmp-.jpg
END:VEVENT
BEGIN:VEVENT
DTSTART;VALUE=DATE:20230618
DTEND;VALUE=DATE:20230619
DTSTAMP:20260420T173241
CREATED:20231214T104557Z
LAST-MODIFIED:20240516T110710Z
UID:10016009-1687046400-1687132799@staging.turismodecantpruebas.eurocastaliahost4.com
SUMMARY:Desafío Dama Roma
DESCRIPTION:Desafío Dama Roja es un evento que nace de la pasión por el deporte y está enfocado en la satisfacción final de los participantes\, donde sin duda serán los verdaderos protagonistas. \nTras el descubrimiento de la Dama Roja en la cueva del Mirón \, uno de los restos humanos más antiguos encontrados hasta la fecha\, decidimos dar nombre a este evento deportivo en honor a semejante hallazgo. \nMás información e inscripciones: www.desafiodamaroja.com \nDisfruta Ramales de la Victoria en Cantabria\, + x descubrir
URL:https://staging.turismodecantpruebas.eurocastaliahost4.com/proximamente-evento/desafio-dama-roma/
LOCATION:Asón-Agüera
CATEGORIES:Deportes
ATTACH;FMTTYPE=image/jpeg:https://staging.turismodecantpruebas.eurocastaliahost4.com/wp-content/uploads/2023/12/b90b28e4-f315-761e-0c2d-9646338ea4dc-fehyt0.tmp-.jpg
END:VEVENT
BEGIN:VEVENT
DTSTART;VALUE=DATE:20230623
DTEND;VALUE=DATE:20230626
DTSTAMP:20260420T173241
CREATED:20231214T104840Z
LAST-MODIFIED:20240515T145005Z
UID:10016031-1687478400-1687737599@staging.turismodecantpruebas.eurocastaliahost4.com
SUMMARY:Fiestas de San Juan en Riancho
DESCRIPTION:Puedes ver el programa completo en el fichero adjunto \nDisfruta Riancho en Cantabria\, + x descubrir
URL:https://staging.turismodecantpruebas.eurocastaliahost4.com/proximamente-evento/fiestas-de-san-juan-en-riancho/
LOCATION:Asón-Agüera
CATEGORIES:Actividades con niños,Fiestas y ferias
ATTACH;FMTTYPE=image/jpeg:https://staging.turismodecantpruebas.eurocastaliahost4.com/wp-content/uploads/2023/12/e2e85ad8-fb10-3ef3-fa08-e1926bd65cb8-hhpjbd.tmp-.jpg
END:VEVENT
BEGIN:VEVENT
DTSTART;VALUE=DATE:20230710
DTEND;VALUE=DATE:20230711
DTSTAMP:20260420T173241
CREATED:20231214T105817Z
LAST-MODIFIED:20240611T095852Z
UID:10016115-1688947200-1689033599@staging.turismodecantpruebas.eurocastaliahost4.com
SUMMARY:Ruta guiada el Pando
DESCRIPTION:La ruta que comienza a las 9:15 horas tiene inscripción previa imprescindible en el mail escuelataller@municipiossostenibles.com \nMás información en el cartel adjunto \nDisfruta la naturaleza en Cantabria\, + x descubrir
URL:https://staging.turismodecantpruebas.eurocastaliahost4.com/proximamente-evento/ruta-guiada-el-pando/
LOCATION:Asón-Agüera
CATEGORIES:Actividades con niños,Naturaleza
ATTACH;FMTTYPE=image/jpeg:https://staging.turismodecantpruebas.eurocastaliahost4.com/wp-content/uploads/2023/12/7d99a5ed-992e-4fad-b230-96f2122b8282-9tytdw.tmp-.jpg
END:VEVENT
BEGIN:VEVENT
DTSTART;VALUE=DATE:20231021
DTEND;VALUE=DATE:20231022
DTSTAMP:20260420T173241
CREATED:20231214T111645Z
LAST-MODIFIED:20240515T140810Z
UID:10016653-1697846400-1697932799@staging.turismodecantpruebas.eurocastaliahost4.com
SUMMARY:Magosta de Ramales
DESCRIPTION:Mercado\, animación callejera\, masgota y mucho más \nPuedes ver el rpograma completo en el fichero adjunto \nDisfruta Ramales de la Victoria en Cantabria\, + x descubrir
URL:https://staging.turismodecantpruebas.eurocastaliahost4.com/proximamente-evento/magosta-de-ramales/
LOCATION:Asón-Agüera
CATEGORIES:Actividades con niños,Gastronomía
ATTACH;FMTTYPE=image/jpeg:https://staging.turismodecantpruebas.eurocastaliahost4.com/wp-content/uploads/2023/12/c8927506-3656-c034-253d-1a00a3103273-7anr1x.tmp-.jpg
END:VEVENT
BEGIN:VEVENT
DTSTART;VALUE=DATE:20240101
DTEND;VALUE=DATE:20250101
DTSTAMP:20260420T173241
CREATED:20240517T105545Z
LAST-MODIFIED:20240529T141010Z
UID:10017936-1704067200-1735689599@staging.turismodecantpruebas.eurocastaliahost4.com
SUMMARY:Espeleo paseos y vía ferrata
DESCRIPTION:Más información y reservas en martin@decuevas.es y en el teléfono 673012747 \nDisfruta las cuevas y las vías ferratas en Cantabria\, + x descubrir \n 
URL:https://staging.turismodecantpruebas.eurocastaliahost4.com/proximamente-evento/espeleo-paseos-y-via-ferrata/
LOCATION:Ramales de la Victoria\, Ramales de la Victoria\, Asón-Agüera
CATEGORIES:Actividades con niños,Experiencias,Todo el año
ATTACH;FMTTYPE=image/jpeg:https://staging.turismodecantpruebas.eurocastaliahost4.com/wp-content/uploads/2023/12/85192906-0cfc-35d0-c3ed-7bbbdf87882f.jpg
END:VEVENT
BEGIN:VEVENT
DTSTART;VALUE=DATE:20240606
DTEND;VALUE=DATE:20240610
DTSTAMP:20260420T173241
CREATED:20240603T104258Z
LAST-MODIFIED:20240619T095322Z
UID:10018226-1717632000-1717977599@staging.turismodecantpruebas.eurocastaliahost4.com
SUMMARY:Conferencias espeleología
DESCRIPTION:Un evento internacional en el que ya han confirmado más de 15 países de todo el mundo y más de 100 participantes. El Alto Asón se convierte en la Capital del Mundo del Espeleosocorro durante la primera semana de junio \nMás información en la web oficial \nLa naturaleza en Cantabria\, Apetece \nRamales de la Victoria. Conferencias 14 international cave rescue. Junio 2024
URL:https://staging.turismodecantpruebas.eurocastaliahost4.com/proximamente-evento/conferencias-espeleologia/
LOCATION:Ramales de la Victoria\, Ramales de la Victoria\, Asón-Agüera
CATEGORIES:Naturaleza
ATTACH;FMTTYPE=image/jpeg:https://staging.turismodecantpruebas.eurocastaliahost4.com/wp-content/uploads/2024/06/internactional-cave-rescue.jpg
END:VEVENT
BEGIN:VEVENT
DTSTART;VALUE=DATE:20240622
DTEND;VALUE=DATE:20240625
DTSTAMP:20260420T173241
CREATED:20240617T094400Z
LAST-MODIFIED:20240619T092354Z
UID:10018347-1719014400-1719273599@staging.turismodecantpruebas.eurocastaliahost4.com
SUMMARY:San Juan en Ramales de la Victoria
DESCRIPTION:Puedes ver el programa completo en el fichero adjunto \nRamales de la Victoria en Cantabria\, Apetece \nPrograma de San Juan en Riancho \n 
URL:https://staging.turismodecantpruebas.eurocastaliahost4.com/proximamente-evento/san-juan-en-ramales-de-la-victoria/
LOCATION:Ramales de la Victoria\, Ramales de la Victoria\, Asón-Agüera
CATEGORIES:Fiestas y ferias
ATTACH;FMTTYPE=image/jpeg:https://staging.turismodecantpruebas.eurocastaliahost4.com/wp-content/uploads/2024/06/san-juan-riancho.jpg
END:VEVENT
END:VCALENDAR