BEGIN:VCALENDAR
VERSION:2.0
PRODID:-//Turismo de Cantabria - ECPv6.15.17//NONSGML v1.0//EN
CALSCALE:GREGORIAN
METHOD:PUBLISH
X-WR-CALNAME:Turismo de Cantabria
X-ORIGINAL-URL:https://staging.turismodecantpruebas.eurocastaliahost4.com
X-WR-CALDESC:Eventos para Turismo de Cantabria
REFRESH-INTERVAL;VALUE=DURATION:PT1H
X-Robots-Tag:noindex
X-PUBLISHED-TTL:PT1H
BEGIN:VTIMEZONE
TZID:Europe/Madrid
BEGIN:DAYLIGHT
TZOFFSETFROM:+0100
TZOFFSETTO:+0200
TZNAME:CEST
DTSTART:20240331T010000
END:DAYLIGHT
BEGIN:STANDARD
TZOFFSETFROM:+0200
TZOFFSETTO:+0100
TZNAME:CET
DTSTART:20241027T010000
END:STANDARD
BEGIN:DAYLIGHT
TZOFFSETFROM:+0100
TZOFFSETTO:+0200
TZNAME:CEST
DTSTART:20250330T010000
END:DAYLIGHT
BEGIN:STANDARD
TZOFFSETFROM:+0200
TZOFFSETTO:+0100
TZNAME:CET
DTSTART:20251026T010000
END:STANDARD
BEGIN:DAYLIGHT
TZOFFSETFROM:+0100
TZOFFSETTO:+0200
TZNAME:CEST
DTSTART:20260329T010000
END:DAYLIGHT
BEGIN:STANDARD
TZOFFSETFROM:+0200
TZOFFSETTO:+0100
TZNAME:CET
DTSTART:20261025T010000
END:STANDARD
END:VTIMEZONE
BEGIN:VEVENT
DTSTART;VALUE=DATE:20250117
DTEND;VALUE=DATE:20250301
DTSTAMP:20260423T111716
CREATED:20250117T111231Z
LAST-MODIFIED:20250117T111231Z
UID:10019722-1737072000-1740787199@staging.turismodecantpruebas.eurocastaliahost4.com
SUMMARY:Es tiempo de Bienestar Termal
DESCRIPTION:Durante los meses de enero y febrero de 2025\, es tiempo de Bienestar Termal en el Gran Hotel Balneario de Puente Viesgo. \nEl Balneario de Puente Viesgo ofrece una promoción exclusiva para disfrutar de una experiencia termal única en Cantabria. Esta oferta incluye alojamiento con desayuno buffet y un acceso por persona y noche al «Templo del Agua»\, un espacio termolúdico que cuenta con una gran piscina dinámica\, saunas y baños de contraste. \nDetalles de la promoción: \n\nFechas válidas: Enero y febrero de 2025\, excepto sábados\, festivos y los días 13 y 14 de febrero.\nPrecio por habitación doble: Desde 138 € por noche.\nPrecio por habitación individual: Desde 99 € por noche.\nCondiciones: Cancelación gratuita hasta 48 horas antes de la llegada. Plazas sujetas a disponibilidad. Precios especiales válidos únicamente para reservas directas con el hotel y no acumulables a otros descuentos.\n\nReservas e información adicional: \n\nTeléfono: (+34) 942 598 061 (extensión 1)\nCorreo electrónico: info@balneariodepuenteviesgo.com\n\nAproveche esta oportunidad para relajarse y disfrutar de los beneficios de las aguas termales en un entorno natural incomparable. \nEste invierno\, relajarse en un balneario de Cantabria\, apetece.
URL:https://staging.turismodecantpruebas.eurocastaliahost4.com/proximamente-evento/es-tiempo-de-bienestar-termal/
LOCATION:Puente Viesgo\, Puente Viesgo\, Puente Viesgo\, Valles pasiegos
CATEGORIES:Balnearios y Spa en Cantabria
ATTACH;FMTTYPE=image/jpeg:https://staging.turismodecantpruebas.eurocastaliahost4.com/wp-content/uploads/2025/01/tiempo-de-bienestar-termal.jpg
END:VEVENT
END:VCALENDAR