BEGIN:VCALENDAR
VERSION:2.0
PRODID:-//Turismo de Cantabria - ECPv6.15.17//NONSGML v1.0//EN
CALSCALE:GREGORIAN
METHOD:PUBLISH
X-ORIGINAL-URL:https://staging.turismodecantpruebas.eurocastaliahost4.com
X-WR-CALDESC:Eventos para Turismo de Cantabria
REFRESH-INTERVAL;VALUE=DURATION:PT1H
X-Robots-Tag:noindex
X-PUBLISHED-TTL:PT1H
BEGIN:VTIMEZONE
TZID:Europe/Madrid
BEGIN:DAYLIGHT
TZOFFSETFROM:+0100
TZOFFSETTO:+0200
TZNAME:CEST
DTSTART:20210328T010000
END:DAYLIGHT
BEGIN:STANDARD
TZOFFSETFROM:+0200
TZOFFSETTO:+0100
TZNAME:CET
DTSTART:20211031T010000
END:STANDARD
BEGIN:DAYLIGHT
TZOFFSETFROM:+0100
TZOFFSETTO:+0200
TZNAME:CEST
DTSTART:20220327T010000
END:DAYLIGHT
BEGIN:STANDARD
TZOFFSETFROM:+0200
TZOFFSETTO:+0100
TZNAME:CET
DTSTART:20221030T010000
END:STANDARD
BEGIN:DAYLIGHT
TZOFFSETFROM:+0100
TZOFFSETTO:+0200
TZNAME:CEST
DTSTART:20230326T010000
END:DAYLIGHT
BEGIN:STANDARD
TZOFFSETFROM:+0200
TZOFFSETTO:+0100
TZNAME:CET
DTSTART:20231029T010000
END:STANDARD
BEGIN:DAYLIGHT
TZOFFSETFROM:+0100
TZOFFSETTO:+0200
TZNAME:CEST
DTSTART:20240331T010000
END:DAYLIGHT
BEGIN:STANDARD
TZOFFSETFROM:+0200
TZOFFSETTO:+0100
TZNAME:CET
DTSTART:20241027T010000
END:STANDARD
BEGIN:DAYLIGHT
TZOFFSETFROM:+0100
TZOFFSETTO:+0200
TZNAME:CEST
DTSTART:20250330T010000
END:DAYLIGHT
BEGIN:STANDARD
TZOFFSETFROM:+0200
TZOFFSETTO:+0100
TZNAME:CET
DTSTART:20251026T010000
END:STANDARD
BEGIN:DAYLIGHT
TZOFFSETFROM:+0100
TZOFFSETTO:+0200
TZNAME:CEST
DTSTART:20260329T010000
END:DAYLIGHT
BEGIN:STANDARD
TZOFFSETFROM:+0200
TZOFFSETTO:+0100
TZNAME:CET
DTSTART:20261025T010000
END:STANDARD
BEGIN:DAYLIGHT
TZOFFSETFROM:+0100
TZOFFSETTO:+0200
TZNAME:CEST
DTSTART:20270328T010000
END:DAYLIGHT
BEGIN:STANDARD
TZOFFSETFROM:+0200
TZOFFSETTO:+0100
TZNAME:CET
DTSTART:20271031T010000
END:STANDARD
END:VTIMEZONE
BEGIN:VEVENT
DTSTART;VALUE=DATE:20220105
DTEND;VALUE=DATE:20220106
DTSTAMP:20260420T081715
CREATED:20231213T153546Z
LAST-MODIFIED:20240515T154941Z
UID:10014020-1641340800-1641427199@staging.turismodecantpruebas.eurocastaliahost4.com
SUMMARY:Recepción Reyes Magos en Suances
DESCRIPTION:Melchor\, Gaspar y Baltasar estarán en la Plaza Viares en horario de 18.00 a 20.30 horas\, aunque en caso de lluvia se trasladarán al pabellón municipal (manteniendo el mismo horario). \nPero además\, como sus Majestades son conscientes de que hay muchos niños y niñas que no podrán acudir a la recepción al estar confinados\, han querido tener un pequeño detalle con ellos. Así\, todo aquel que lo solicite recibirá un vídeo para que ningún peque se quede sin recibir un mensaje de los Reyes Magos. Las personas interesadas pueden solicitarlo por whatsapp a través del teléfono 699 951 976 (el plazo de solicitud concluye e 5 de enero a las 15.00 horas). \nDisfruta la Navidad en Cantabria\, + x descubrir
URL:https://staging.turismodecantpruebas.eurocastaliahost4.com/proximamente-evento/recepcion-reyes-magos-en-suances/
LOCATION:Trasmiera
CATEGORIES:Actividades con niños,Navidad
ATTACH;FMTTYPE=image/jpeg:https://staging.turismodecantpruebas.eurocastaliahost4.com/wp-content/uploads/2023/04/cad69541-ca4d-340e-17ea-00a19a969e8d-dov534.tmp-.jpg
END:VEVENT
BEGIN:VEVENT
DTSTART;VALUE=DATE:20220105
DTEND;VALUE=DATE:20220106
DTSTAMP:20260420T081715
CREATED:20231213T153545Z
LAST-MODIFIED:20240515T145909Z
UID:10014019-1641340800-1641427199@staging.turismodecantpruebas.eurocastaliahost4.com
SUMMARY:Cabalgata estática de Santander
DESCRIPTION:Los Reyes estarán disponibles desde las 9:00 hasta las 21:00 horas\, previa reserva en la web oficial \nDisfruta la Navidad en Cantabria\, + x descubrir
URL:https://staging.turismodecantpruebas.eurocastaliahost4.com/proximamente-evento/cabalgata-estatica-de-santander/
LOCATION:Trasmiera
CATEGORIES:Actividades con niños,Navidad
ATTACH;FMTTYPE=image/jpeg:https://staging.turismodecantpruebas.eurocastaliahost4.com/wp-content/uploads/2023/04/484bc59e-243f-1894-6eb8-9f940fa31ac7-poipwv.tmp-.jpg
END:VEVENT
BEGIN:VEVENT
DTSTART;VALUE=DATE:20220105
DTEND;VALUE=DATE:20220106
DTSTAMP:20260420T081715
CREATED:20231213T153536Z
LAST-MODIFIED:20240515T154941Z
UID:10014017-1641340800-1641427199@staging.turismodecantpruebas.eurocastaliahost4.com
SUMMARY:Gran recepción de los Reyes Magos en Santoña
DESCRIPTION:La recepción será de las 18:00 a las 21:00 horas \nDisfruta la Navidad en Cantabria\, + x descubrir
URL:https://staging.turismodecantpruebas.eurocastaliahost4.com/proximamente-evento/gran-recepcion-de-los-reyes-magos-en-santona/
LOCATION:Trasmiera
CATEGORIES:Actividades con niños,Navidad
ATTACH;FMTTYPE=image/jpeg:https://staging.turismodecantpruebas.eurocastaliahost4.com/wp-content/uploads/2023/04/00319065-469f-7f7a-99e7-c5e73bf5b79e-fkwdhl.tmp-.jpg
END:VEVENT
BEGIN:VEVENT
DTSTART;VALUE=DATE:20220105
DTEND;VALUE=DATE:20220106
DTSTAMP:20260420T081715
CREATED:20231213T153536Z
LAST-MODIFIED:20240515T154941Z
UID:10014018-1641340800-1641427199@staging.turismodecantpruebas.eurocastaliahost4.com
SUMMARY:Reyes Magos en Sierra de Ibio
DESCRIPTION:La recepción con posterior chocolatada y animada con música será de las 19:00 a las 21:00 horas \nDisfruta la Navidad en Cantabria\, + x descubrir
URL:https://staging.turismodecantpruebas.eurocastaliahost4.com/proximamente-evento/reyes-magos-en-sierra-de-ibio/
LOCATION:Trasmiera
CATEGORIES:Actividades con niños,Navidad
ATTACH;FMTTYPE=image/jpeg:https://staging.turismodecantpruebas.eurocastaliahost4.com/wp-content/uploads/2023/04/1cca8113-df86-ac09-2839-55f27795153f-m41zlp.tmp-.jpg
END:VEVENT
BEGIN:VEVENT
DTSTART;VALUE=DATE:20220105
DTEND;VALUE=DATE:20220106
DTSTAMP:20260420T081715
CREATED:20231213T153535Z
LAST-MODIFIED:20240515T154942Z
UID:10014016-1641340800-1641427199@staging.turismodecantpruebas.eurocastaliahost4.com
SUMMARY:Recepción Reyes Magos en Treto
DESCRIPTION:La recepción será a partir de las 18:00 horas previa reserva en el teléfono 629691811\, vía whatsapp \nDisfruta la Navidad en Cantabria\, + x descubrir
URL:https://staging.turismodecantpruebas.eurocastaliahost4.com/proximamente-evento/recepcion-reyes-magos-en-treto/
LOCATION:Trasmiera
CATEGORIES:Actividades con niños,Navidad
ATTACH;FMTTYPE=image/jpeg:https://staging.turismodecantpruebas.eurocastaliahost4.com/wp-content/uploads/2023/04/1b3c5d20-ee9c-64e8-e24d-a9d857286b05-dliguh.tmp-.jpg
END:VEVENT
BEGIN:VEVENT
DTSTART;VALUE=DATE:20220105
DTEND;VALUE=DATE:20220106
DTSTAMP:20260420T081715
CREATED:20231213T153534Z
LAST-MODIFIED:20240515T145910Z
UID:10014014-1641340800-1641427199@staging.turismodecantpruebas.eurocastaliahost4.com
SUMMARY:Cabalgata estática de Laredo
DESCRIPTION:Más información en el fichero adjunto \nDisfruta la Navidad en Cantabria\, + x descubrir
URL:https://staging.turismodecantpruebas.eurocastaliahost4.com/proximamente-evento/cabalgata-estatica-de-laredo/
LOCATION:Trasmiera
CATEGORIES:Actividades con niños,Navidad
ATTACH;FMTTYPE=image/jpeg:https://staging.turismodecantpruebas.eurocastaliahost4.com/wp-content/uploads/2023/04/50a5209b-e7a7-a09c-2b61-149c53ac8f52-rf0z9o.tmp-.jpg
END:VEVENT
BEGIN:VEVENT
DTSTART;VALUE=DATE:20230105
DTEND;VALUE=DATE:20230106
DTSTAMP:20260420T081715
CREATED:20231213T162010Z
LAST-MODIFIED:20240515T145124Z
UID:10015305-1672876800-1672963199@staging.turismodecantpruebas.eurocastaliahost4.com
SUMMARY:Cabalgata de El Astillero
DESCRIPTION:La cabalgata tiene con salida desde el Polígono de Tirso y recorriendo la calle Industria\, la Avenida de España y la Plaza de la Constitución. Como es tradición en la cabalgata municipal\, la travesía finalizará en la Calle San José. \nEste año\, la principal novedad será la gran fiesta de recepción de los Reyes Magos en un único punto de encuentro. Los distintos espacios que hasta ahora venían siendo escenario de las actividades complementarias a la cabalgata\, se unirán en un mismo rincón: el Parque de la Orconera. \nAllí se realizará a partir de las 19:30 horas la llegada de Sus Majestades de Oriente\, la adoración al Niño y\, posteriormente\, se repartirán los tradicionales conos de golosinas para los más pequeños\, quienes podrán trasladarles a Melchor\, Gaspar y Baltasar sus últimos deseos. \nDisfruta El Astillero en Cantabria\, + x descubrir
URL:https://staging.turismodecantpruebas.eurocastaliahost4.com/proximamente-evento/cabalgata-de-el-astillero/
LOCATION:Trasmiera
CATEGORIES:Actividades con niños,Navidad
ATTACH;FMTTYPE=image/jpeg:https://staging.turismodecantpruebas.eurocastaliahost4.com/wp-content/uploads/2023/04/a02ec29f-0f1b-8f3d-ba29-637c917de636-vmozvk.tmp-.jpg
END:VEVENT
BEGIN:VEVENT
DTSTART;VALUE=DATE:20230105
DTEND;VALUE=DATE:20230106
DTSTAMP:20260420T081715
CREATED:20231213T161945Z
LAST-MODIFIED:20240515T154940Z
UID:10015286-1672876800-1672963199@staging.turismodecantpruebas.eurocastaliahost4.com
SUMMARY:Cabalgata de Reyes de Castanedo\, Carriazo y Galizano
DESCRIPTION:Vive la ilusión de una de las noches mas bonitas del año en familia en esta cabalgata perfecta para toda la familia\, que comenzará a las 19:00 horas en Castanedo y concluirá en la Iglesia de Galizano \nDisfruta Castanedo\, Carriazo y Galizano en Cantabria\, + x descubrir
URL:https://staging.turismodecantpruebas.eurocastaliahost4.com/proximamente-evento/cabalgata-de-reyes-de-castanedo-carriazo-y-galizano/
LOCATION:Trasmiera
CATEGORIES:Actividades con niños,Navidad
ATTACH;FMTTYPE=image/jpeg:https://staging.turismodecantpruebas.eurocastaliahost4.com/wp-content/uploads/2023/04/d65d9429-b631-2ff5-61b9-abcf81588c57-ous3ic.tmp-.jpg
END:VEVENT
BEGIN:VEVENT
DTSTART;TZID=Europe/Madrid:20240105T000000
DTEND;TZID=Europe/Madrid:20240105T000000
DTSTAMP:20260420T081715
CREATED:20240111T102218Z
LAST-MODIFIED:20240515T154937Z
UID:10017049-1704412800-1704412800@staging.turismodecantpruebas.eurocastaliahost4.com
SUMMARY:Cabalgata de Guriezo
DESCRIPTION:Puedes ver el recorrido de Sus Majestades en el cartel adjunto \nDisfruta Guriezo en Cantabria\, + x descubrir
URL:https://staging.turismodecantpruebas.eurocastaliahost4.com/proximamente-evento/cabalgata-de-guriezo/
LOCATION:Trasmiera
CATEGORIES:Actividades con niños,Navidad
ATTACH;FMTTYPE=image/jpeg:https://staging.turismodecantpruebas.eurocastaliahost4.com/wp-content/uploads/2024/01/ab9c38bf-7bc1-cceb-a506-169bf0d96c60-cps5xq.tmp-.jpg
END:VEVENT
BEGIN:VEVENT
DTSTART;TZID=Europe/Madrid:20240105T000000
DTEND;TZID=Europe/Madrid:20240105T000000
DTSTAMP:20260420T081715
CREATED:20240111T102204Z
LAST-MODIFIED:20240605T091750Z
UID:10017044-1704412800-1704412800@staging.turismodecantpruebas.eurocastaliahost4.com
SUMMARY:Cabalgata de Reyes en Villaescusa
DESCRIPTION:Puedes evr horarios y apradas en la imagen adjunta \nDisfruta Villaescusa en Cantabria\, + x descubrir
URL:https://staging.turismodecantpruebas.eurocastaliahost4.com/proximamente-evento/cabalgata-de-reyes-en-villaescusa/
LOCATION:Trasmiera
CATEGORIES:Actividades con niños,Navidad
ATTACH;FMTTYPE=image/jpeg:https://staging.turismodecantpruebas.eurocastaliahost4.com/wp-content/uploads/2024/01/ac6a2649-775c-5a0e-1c68-72f3672ef839-guen9s.tmp-.jpg
END:VEVENT
BEGIN:VEVENT
DTSTART;VALUE=DATE:20240105
DTEND;VALUE=DATE:20240106
DTSTAMP:20260420T081715
CREATED:20240205T150957Z
LAST-MODIFIED:20240515T154936Z
UID:10017159-1704412800-1704499199@staging.turismodecantpruebas.eurocastaliahost4.com
SUMMARY:Cabalgata de Guriezo
DESCRIPTION:Puedes ver el recorrido de Sus Majestades en el cartel adjunto \nDisfruta Guriezo en Cantabria\, + x descubrir
URL:https://staging.turismodecantpruebas.eurocastaliahost4.com/proximamente-evento/cabalgata-de-guriezo-2/
LOCATION:Trasmiera
CATEGORIES:Actividades con niños,Navidad
ATTACH;FMTTYPE=image/jpeg:https://staging.turismodecantpruebas.eurocastaliahost4.com/wp-content/uploads/2024/01/ab9c38bf-7bc1-cceb-a506-169bf0d96c60-cps5xq.tmp-.jpg
END:VEVENT
BEGIN:VEVENT
DTSTART;VALUE=DATE:20240105
DTEND;VALUE=DATE:20240106
DTSTAMP:20260420T081715
CREATED:20240205T150955Z
LAST-MODIFIED:20240605T091815Z
UID:10017158-1704412800-1704499199@staging.turismodecantpruebas.eurocastaliahost4.com
SUMMARY:Cabalgata de Reyes en Villaescusa
DESCRIPTION:Puedes evr horarios y apradas en la imagen adjunta \nDisfruta Villaescusa en Cantabria\, + x descubrir
URL:https://staging.turismodecantpruebas.eurocastaliahost4.com/proximamente-evento/cabalgata-de-reyes-en-villaescusa-2/
LOCATION:Trasmiera
CATEGORIES:Actividades con niños,Navidad
ATTACH;FMTTYPE=image/jpeg:https://staging.turismodecantpruebas.eurocastaliahost4.com/wp-content/uploads/2024/01/ac6a2649-775c-5a0e-1c68-72f3672ef839-guen9s.tmp-.jpg
END:VEVENT
BEGIN:VEVENT
DTSTART;VALUE=DATE:20240105
DTEND;VALUE=DATE:20240106
DTSTAMP:20260420T081715
CREATED:20240205T150916Z
LAST-MODIFIED:20240515T140556Z
UID:10017149-1704412800-1704499199@staging.turismodecantpruebas.eurocastaliahost4.com
SUMMARY:Cabalgata de El Astillero
DESCRIPTION:Con salida a las 18:00 horas desde el Polígono de Tirso y recorriendo la calle Industria\, la Avenida de España y la Plaza de la Constitución. Como es tradición en la cabalgata municipal\, la travesía finalizará en la Calle San José. Además\, este año se repetirá en el Paseo de Orconera la gran fiesta de recepción de los Reyes Magos. \nAllí se realizará a partir de las 19:30 horas la llegada de Sus Majestades de Oriente\, la adoración al Niño y\, posteriormente\, se repartirán los tradicionales conos de golosinas para los más pequeños\, quienes podrán trasladarles a Melchor\, Gaspar y Baltasar sus últimos deseos. En caso de lluvia\, la recepción será en el Pabellón de la Cantábrica pero el recorrido se mantiene. \nDisfruta El Astillero en Cantabria\, + x descubrir
URL:https://staging.turismodecantpruebas.eurocastaliahost4.com/proximamente-evento/cabalgata-de-el-astillero-2/
LOCATION:Trasmiera
CATEGORIES:Actividades con niños,Navidad
ATTACH;FMTTYPE=image/jpeg:https://staging.turismodecantpruebas.eurocastaliahost4.com/wp-content/uploads/2024/02/8af5af96-d517-a021-6c7b-1d977ccfcb5a-t3sriz.tmp-.jpg
END:VEVENT
BEGIN:VEVENT
DTSTART;VALUE=DATE:20250105
DTEND;VALUE=DATE:20250106
DTSTAMP:20260420T081715
CREATED:20241225T150932Z
LAST-MODIFIED:20250102T122635Z
UID:10017154-1736035200-1736121599@staging.turismodecantpruebas.eurocastaliahost4.com
SUMMARY:Cabalgata de Reyes Magos de Ramales de la Victoria y Gibaja
DESCRIPTION:GIBAJA \n\n19:00 horas\, Plaza La Quintana\n\nRAMALES \n\n19:30 horas\, Plaza Duques de la Victoria\n\nRamales de la Victoria en Cantabria\, Apetece
URL:https://staging.turismodecantpruebas.eurocastaliahost4.com/proximamente-evento/cabalgata-de-reyes-magos-de-ramales-de-la-victoria-y-gibaja-2/
LOCATION:Ramales de la Victoria\, Ramales de la Victoria\, Asón-Agüera
CATEGORIES:Navidad
ATTACH;FMTTYPE=image/jpeg:https://staging.turismodecantpruebas.eurocastaliahost4.com/wp-content/uploads/2024/02/cabalgata-ramales.jpg
END:VEVENT
BEGIN:VEVENT
DTSTART;VALUE=DATE:20250105
DTEND;VALUE=DATE:20250106
DTSTAMP:20260420T081715
CREATED:20241213T162012Z
LAST-MODIFIED:20250102T122608Z
UID:10015309-1736035200-1736121599@staging.turismodecantpruebas.eurocastaliahost4.com
SUMMARY:Cabalgata Colindres
DESCRIPTION:En el ayuntamiento las autoridades municipales recibirán a SSMMRRMM y saludarán desde el balcón para posteriormente salir en cabalgata que finalizará en la Iglesia del Carmen donde los niños saludarán a sus majestades. \nDesde las 18:00 horas \nColindres en Cantabria\, Apetece
URL:https://staging.turismodecantpruebas.eurocastaliahost4.com/proximamente-evento/cabalgata-colindres/
LOCATION:Colindres\, Colindres\, Asón-Agüera
CATEGORIES:Navidad
ATTACH;FMTTYPE=image/jpeg:https://staging.turismodecantpruebas.eurocastaliahost4.com/wp-content/uploads/2024/12/cabalgata-colindres.jpg
END:VEVENT
BEGIN:VEVENT
DTSTART;VALUE=DATE:20260105
DTEND;VALUE=DATE:20260106
DTSTAMP:20260420T081715
CREATED:20251127T150835Z
LAST-MODIFIED:20260108T101204Z
UID:10017136-1767571200-1767657599@staging.turismodecantpruebas.eurocastaliahost4.com
SUMMARY:Cabalgata de Reyes de Castanedo\, Carriazo y Galizano
DESCRIPTION:Vive la ilusión de una de las noches mas bonitas del año en familia en esta cabalgata perfecta para toda la familia\, que comenzará a las 19:00 horas en Castanedo y concluirá en la Iglesia de Galizano \nMás información en el cartel adjunto \nCastanedo\, Carriazo y Galizano en Cantabria\, Apetecen \n 
URL:https://staging.turismodecantpruebas.eurocastaliahost4.com/proximamente-evento/cabalgata-de-reyes-de-castanedo-carriazo-y-galizano-2/
LOCATION:Ribamontán al Mar\, Ribamontán al Mar\, Ribamontán al Mar\, Trasmiera
CATEGORIES:Navidad
ATTACH;FMTTYPE=image/jpeg:https://staging.turismodecantpruebas.eurocastaliahost4.com/wp-content/uploads/2024/02/cabalgata-ribamontan.jpg
END:VEVENT
END:VCALENDAR