BEGIN:VCALENDAR
VERSION:2.0
PRODID:-//Turismo de Cantabria - ECPv6.15.17//NONSGML v1.0//EN
CALSCALE:GREGORIAN
METHOD:PUBLISH
X-ORIGINAL-URL:https://staging.turismodecantpruebas.eurocastaliahost4.com
X-WR-CALDESC:Eventos para Turismo de Cantabria
REFRESH-INTERVAL;VALUE=DURATION:PT1H
X-Robots-Tag:noindex
X-PUBLISHED-TTL:PT1H
BEGIN:VTIMEZONE
TZID:Europe/Madrid
BEGIN:DAYLIGHT
TZOFFSETFROM:+0100
TZOFFSETTO:+0200
TZNAME:CEST
DTSTART:20200329T010000
END:DAYLIGHT
BEGIN:STANDARD
TZOFFSETFROM:+0200
TZOFFSETTO:+0100
TZNAME:CET
DTSTART:20201025T010000
END:STANDARD
BEGIN:DAYLIGHT
TZOFFSETFROM:+0100
TZOFFSETTO:+0200
TZNAME:CEST
DTSTART:20210328T010000
END:DAYLIGHT
BEGIN:STANDARD
TZOFFSETFROM:+0200
TZOFFSETTO:+0100
TZNAME:CET
DTSTART:20211031T010000
END:STANDARD
BEGIN:DAYLIGHT
TZOFFSETFROM:+0100
TZOFFSETTO:+0200
TZNAME:CEST
DTSTART:20220327T010000
END:DAYLIGHT
BEGIN:STANDARD
TZOFFSETFROM:+0200
TZOFFSETTO:+0100
TZNAME:CET
DTSTART:20221030T010000
END:STANDARD
BEGIN:DAYLIGHT
TZOFFSETFROM:+0100
TZOFFSETTO:+0200
TZNAME:CEST
DTSTART:20230326T010000
END:DAYLIGHT
BEGIN:STANDARD
TZOFFSETFROM:+0200
TZOFFSETTO:+0100
TZNAME:CET
DTSTART:20231029T010000
END:STANDARD
BEGIN:DAYLIGHT
TZOFFSETFROM:+0100
TZOFFSETTO:+0200
TZNAME:CEST
DTSTART:20240331T010000
END:DAYLIGHT
BEGIN:STANDARD
TZOFFSETFROM:+0200
TZOFFSETTO:+0100
TZNAME:CET
DTSTART:20241027T010000
END:STANDARD
BEGIN:DAYLIGHT
TZOFFSETFROM:+0100
TZOFFSETTO:+0200
TZNAME:CEST
DTSTART:20250330T010000
END:DAYLIGHT
BEGIN:STANDARD
TZOFFSETFROM:+0200
TZOFFSETTO:+0100
TZNAME:CET
DTSTART:20251026T010000
END:STANDARD
BEGIN:DAYLIGHT
TZOFFSETFROM:+0100
TZOFFSETTO:+0200
TZNAME:CEST
DTSTART:20260329T010000
END:DAYLIGHT
BEGIN:STANDARD
TZOFFSETFROM:+0200
TZOFFSETTO:+0100
TZNAME:CET
DTSTART:20261025T010000
END:STANDARD
END:VTIMEZONE
BEGIN:VEVENT
DTSTART;VALUE=DATE:20211211
DTEND;VALUE=DATE:20211212
DTSTAMP:20260424T090009
CREATED:20231213T152344Z
LAST-MODIFIED:20240503T090848Z
UID:10013911-1639180800-1639267199@staging.turismodecantpruebas.eurocastaliahost4.com
SUMMARY:Taller de Iniciación a la Observación de Aves acuáticas
DESCRIPTION:Empezaremos con un poquito de teoría sobre la biología de las aves y luego recorreremos diferentes lugares de la Bahía de Santander para ir identificando un buen número de especies. \nPrecio: Adulto 8€. – Niño 5€. \nParticipando en estas actividades\, contribuyes a la conservación de la biodiversidad\, ya que un 10% de lo recaudado se destinará al Proyecto de Recuperación del Águila Pescadora en la Bahía de Santander. \nInformación y reservas: \n\nemail: info@bahiasantander.es\nTeléfono: 630 258 513\n\nDisfrutala naturaleza en Cantabria\, + x descubrir
URL:https://staging.turismodecantpruebas.eurocastaliahost4.com/proximamente-evento/taller-de-iniciacion-a-la-observacion-de-aves-acuaticas/
LOCATION:Trasmiera
CATEGORIES:Naturaleza
ATTACH;FMTTYPE=image/jpeg:https://staging.turismodecantpruebas.eurocastaliahost4.com/wp-content/uploads/2023/04/af69d386-89d7-66d3-3c17-a06a28c524cd-5jke5w.tmp-.jpg
END:VEVENT
BEGIN:VEVENT
DTSTART;VALUE=DATE:20220521
DTEND;VALUE=DATE:20220522
DTSTAMP:20260424T090009
CREATED:20231213T155741Z
LAST-MODIFIED:20240516T110915Z
UID:10014512-1653091200-1653177599@staging.turismodecantpruebas.eurocastaliahost4.com
SUMMARY:Ruta a pie a La mies del pico
DESCRIPTION:Visita guiada a pie que recorre la campiña atlántica de Rubayo\, con praderías y manchas de vegetación bien conservadas propias del encinar cantábrico y posterior visita el territorio de las Águilas pescadoras en la Marisma del Conde \nLugar de encuentro: Colegio Público Marina de Cudeyo. Rubayo. https://goo.gl/maps/J89ht2nmMpzkmjRu7 \nReservas online en https://www.bahiasantander.es/ruta-a-pie-de-la-mies-al-pico/ Tarifa: 8 € adulto\, 5 € niños menores de 12 años \nDisfruta la naturaleza en Cantabria\, + x descubrir
URL:https://staging.turismodecantpruebas.eurocastaliahost4.com/proximamente-evento/ruta-a-pie-a-la-mies-del-pico/
LOCATION:Trasmiera
CATEGORIES:Excursiones,Experiencias
ATTACH;FMTTYPE=image/jpeg:https://staging.turismodecantpruebas.eurocastaliahost4.com/wp-content/uploads/2023/04/b6fff7b0-dca7-03fd-9498-d335fe3f6219-baecqp.tmp-.jpg
END:VEVENT
BEGIN:VEVENT
DTSTART;VALUE=DATE:20220604
DTEND;VALUE=DATE:20220605
DTSTAMP:20260424T090009
CREATED:20231213T160246Z
LAST-MODIFIED:20240516T110915Z
UID:10014566-1654300800-1654387199@staging.turismodecantpruebas.eurocastaliahost4.com
SUMMARY:Ruta a las Marismas del Conde
DESCRIPTION:Visita guiada a pie que recorre la campiña atlántica de Rubayo\, con praderías y manchas de vegetación bien conservadas propias del encinar cantábrico y posterior visita el territorio de las Águilas pescadoras en la Marisma del Conde \nReservas online en https://www.bahiasantander.es/ruta-a-pie-de-la-mies-al-pico/Tarifa: 8 € adulto\, 5 € niños menores de 12 años \nDisfruta la naturaleza en Cantabria\, + x descubrir
URL:https://staging.turismodecantpruebas.eurocastaliahost4.com/proximamente-evento/ruta-a-las-marismas-del-conde/
LOCATION:Trasmiera
CATEGORIES:Experiencias,Naturaleza
ATTACH;FMTTYPE=image/jpeg:https://staging.turismodecantpruebas.eurocastaliahost4.com/wp-content/uploads/2023/04/dbf93b16-7e0b-96cc-d9da-85de5242705e-jzaszi.tmp-.jpg
END:VEVENT
BEGIN:VEVENT
DTSTART;VALUE=DATE:20220704
DTEND;VALUE=DATE:20221001
DTSTAMP:20260424T090009
CREATED:20231213T160624Z
LAST-MODIFIED:20240503T090837Z
UID:10014675-1656892800-1664582399@staging.turismodecantpruebas.eurocastaliahost4.com
SUMMARY:Voluntariado águila pescadora
DESCRIPTION:Este programa se centra en el estudio de la abundancia y diversidad de las aves\, fundamentalmente las presentes en el estuario del Miera y la Marisma del Conde\, mediante técnicas de censo directo desde puestos de observación\, que se complementan con transeptos. \nLos censos de las águilas pescadoras se realizan diariamente desde los puntos de observación de Rastrillas y El Pico\, en la localidad de Rubayo (Marina de Cudeyo)\, en turnos de mañana o de tarde. \nConsulta toda la información en el documento adjunto y ayuda al seguimiento de esta especie en Cantabria\, + x Descubrir.
URL:https://staging.turismodecantpruebas.eurocastaliahost4.com/proximamente-evento/voluntariado-aguila-pescadora/
LOCATION:Trasmiera
CATEGORIES:Naturaleza
ATTACH;FMTTYPE=image/jpeg:https://staging.turismodecantpruebas.eurocastaliahost4.com/wp-content/uploads/2023/04/a35e37d4-1344-6c16-1833-b1abfa2bd81a-t2bogk.tmp-.jpg
END:VEVENT
BEGIN:VEVENT
DTSTART;VALUE=DATE:20220915
DTEND;VALUE=DATE:20220919
DTSTAMP:20260424T090009
CREATED:20231213T161223Z
LAST-MODIFIED:20240515T154751Z
UID:10014905-1663200000-1663545599@staging.turismodecantpruebas.eurocastaliahost4.com
SUMMARY:Rubayo fest and market
DESCRIPTION:Markte\, talleres\, atracciones\, concierto\, zona de acampada y mucho más \nDisfruta Rubayo en Cantabria\, + x descubrir
URL:https://staging.turismodecantpruebas.eurocastaliahost4.com/proximamente-evento/rubayo-fest-and-market/
LOCATION:Trasmiera
CATEGORIES:Actividades con niños,Fiestas y ferias
ATTACH;FMTTYPE=image/jpeg:https://staging.turismodecantpruebas.eurocastaliahost4.com/wp-content/uploads/2023/04/404c6e9a-88de-29b1-0c34-32e9b406e620-ym17le.tmp-.jpg
END:VEVENT
BEGIN:VEVENT
DTSTART;VALUE=DATE:20221111
DTEND;VALUE=DATE:20221114
DTSTAMP:20260424T090009
CREATED:20231213T161646Z
LAST-MODIFIED:20240515T154750Z
UID:10015110-1668124800-1668383999@staging.turismodecantpruebas.eurocastaliahost4.com
SUMMARY:Fiestas de San Martin en Gajano
DESCRIPTION:Puedes ver la programación completa en el fichero adjunto \nDisfruta Rubayo en Cantabria\, + x descubrir
URL:https://staging.turismodecantpruebas.eurocastaliahost4.com/proximamente-evento/fiestas-de-san-martin-en-gajano/
LOCATION:Trasmiera
CATEGORIES:Actividades con niños,Fiestas y ferias
ATTACH;FMTTYPE=image/jpeg:https://staging.turismodecantpruebas.eurocastaliahost4.com/wp-content/uploads/2023/04/7a440d22-9f5a-4274-be24-93a54e849e54-ulyulu.tmp-.jpg
END:VEVENT
BEGIN:VEVENT
DTSTART;VALUE=DATE:20230520
DTEND;VALUE=DATE:20230522
DTSTAMP:20260424T090009
CREATED:20231214T102412Z
LAST-MODIFIED:20240506T084751Z
UID:10015909-1684540800-1684713599@staging.turismodecantpruebas.eurocastaliahost4.com
SUMMARY:Feria del libro infantil
DESCRIPTION:19 escritores\, comics\, cuenta cuentos y mucho más \nToda la información en el fichero adjunto \nDisfruta la cultura en Cantabria\, + x descubrir
URL:https://staging.turismodecantpruebas.eurocastaliahost4.com/proximamente-evento/feria-del-libro-infantil/
LOCATION:Trasmiera
CATEGORIES:Fiestas y ferias
ATTACH;FMTTYPE=image/jpeg:https://staging.turismodecantpruebas.eurocastaliahost4.com/wp-content/uploads/2023/05/4208c323-acb2-674b-2e48-63c388223583-rwnf1n.tmp-.jpg
END:VEVENT
BEGIN:VEVENT
DTSTART;VALUE=DATE:20230520
DTEND;VALUE=DATE:20230522
DTSTAMP:20260424T090009
CREATED:20231214T102233Z
LAST-MODIFIED:20240515T154646Z
UID:10015901-1684540800-1684713599@staging.turismodecantpruebas.eurocastaliahost4.com
SUMMARY:Feria de artesanos y productores
DESCRIPTION:Talleres infantiles\, juegos\, granjas de animales\, conferencias y acutuaciones de las 9:00 a las 21:00 horas \nDisfruta Rubayo en Cantabria\, + x descubrir
URL:https://staging.turismodecantpruebas.eurocastaliahost4.com/proximamente-evento/feria-de-artesanos-y-productores/
LOCATION:Trasmiera
CATEGORIES:Actividades con niños,Fiestas y ferias
ATTACH;FMTTYPE=image/jpeg:https://staging.turismodecantpruebas.eurocastaliahost4.com/wp-content/uploads/2023/12/b3377b43-854d-12b7-069b-2112cbdcc29c-cfsari.tmp-.jpg
END:VEVENT
BEGIN:VEVENT
DTSTART;VALUE=DATE:20240515
DTEND;VALUE=DATE:20240519
DTSTAMP:20260424T090009
CREATED:20240414T092219Z
LAST-MODIFIED:20240607T083842Z
UID:10015888-1715731200-1716076799@staging.turismodecantpruebas.eurocastaliahost4.com
SUMMARY:San Isidro en Rubayo
DESCRIPTION:Puedes ver el programa de fiestas en el fichero adjunto \n Rubayo en Cantabria\, Apetece \nPrograma San isidro en Rubayo
URL:https://staging.turismodecantpruebas.eurocastaliahost4.com/proximamente-evento/san-isidro-en-rubayo/
LOCATION:Marina de Cudeyo\, Marina de Cudeyo\, Trasmiera
CATEGORIES:Actividades con niños,Fiestas y ferias
ATTACH;FMTTYPE=image/jpeg:https://staging.turismodecantpruebas.eurocastaliahost4.com/wp-content/uploads/2023/12/rubayo-san-isidro-e1715872502230.jpg
END:VEVENT
BEGIN:VEVENT
DTSTART;TZID=Europe/Madrid:20250615T080000
DTEND;TZID=Europe/Madrid:20250615T170000
DTSTAMP:20260424T090009
CREATED:20250611T091536Z
LAST-MODIFIED:20250611T091536Z
UID:10020202-1749974400-1750006800@staging.turismodecantpruebas.eurocastaliahost4.com
SUMMARY:Día de la bicicleta en Marina de Cudeyo
DESCRIPTION:No te pierdas esta experiencia divertida y comunitaria para todos \nEl deporte en Cantabria\, Apetece
URL:https://staging.turismodecantpruebas.eurocastaliahost4.com/proximamente-evento/dia-de-la-bicicleta-en-marina-de-cudeyo/
LOCATION:Marina de Cudeyo\, Marina de Cudeyo\, Trasmiera
CATEGORIES:Deportes
ATTACH;FMTTYPE=image/jpeg:https://staging.turismodecantpruebas.eurocastaliahost4.com/wp-content/uploads/2025/06/dia-bici.jpg
END:VEVENT
END:VCALENDAR