BEGIN:VCALENDAR
VERSION:2.0
PRODID:-//Turismo de Cantabria - ECPv6.15.17//NONSGML v1.0//EN
CALSCALE:GREGORIAN
METHOD:PUBLISH
X-WR-CALNAME:Turismo de Cantabria
X-ORIGINAL-URL:https://staging.turismodecantpruebas.eurocastaliahost4.com
X-WR-CALDESC:Eventos para Turismo de Cantabria
REFRESH-INTERVAL;VALUE=DURATION:PT1H
X-Robots-Tag:noindex
X-PUBLISHED-TTL:PT1H
BEGIN:VTIMEZONE
TZID:Europe/Madrid
BEGIN:DAYLIGHT
TZOFFSETFROM:+0100
TZOFFSETTO:+0200
TZNAME:CEST
DTSTART:20240331T010000
END:DAYLIGHT
BEGIN:STANDARD
TZOFFSETFROM:+0200
TZOFFSETTO:+0100
TZNAME:CET
DTSTART:20241027T010000
END:STANDARD
BEGIN:DAYLIGHT
TZOFFSETFROM:+0100
TZOFFSETTO:+0200
TZNAME:CEST
DTSTART:20250330T010000
END:DAYLIGHT
BEGIN:STANDARD
TZOFFSETFROM:+0200
TZOFFSETTO:+0100
TZNAME:CET
DTSTART:20251026T010000
END:STANDARD
BEGIN:DAYLIGHT
TZOFFSETFROM:+0100
TZOFFSETTO:+0200
TZNAME:CEST
DTSTART:20260329T010000
END:DAYLIGHT
BEGIN:STANDARD
TZOFFSETFROM:+0200
TZOFFSETTO:+0100
TZNAME:CET
DTSTART:20261025T010000
END:STANDARD
BEGIN:DAYLIGHT
TZOFFSETFROM:+0100
TZOFFSETTO:+0200
TZNAME:CEST
DTSTART:20270328T010000
END:DAYLIGHT
BEGIN:STANDARD
TZOFFSETFROM:+0200
TZOFFSETTO:+0100
TZNAME:CET
DTSTART:20271031T010000
END:STANDARD
END:VTIMEZONE
BEGIN:VEVENT
DTSTART;VALUE=DATE:20250925
DTEND;VALUE=DATE:20270101
DTSTAMP:20260422T124530
CREATED:20250917T105559Z
LAST-MODIFIED:20260115T094015Z
UID:10017911-1758758400-1798761599@staging.turismodecantpruebas.eurocastaliahost4.com
SUMMARY:Paseos fotográficos en Liébana
DESCRIPTION:En tus próxima visita a CANTABRIA no dejes de elegir alguno de los Paseos Fotográficos Cantabria\, por las rutas que hemos diseñado para ti en Liébana y Picos de Europa  \nPaseos fotográficos dirigidos por fotógrafos que podrán resolver tus dudas técnicas sobre el terreno. \nMas información y reservas en la web www.Paseosfotograficoscantabria.com o en el mail paseosfotograficoscantabria@gmail.com o en el tlf . 611 01 58 \nLa naturaleza en Cantabria\, Apetece \n 
URL:https://staging.turismodecantpruebas.eurocastaliahost4.com/proximamente-evento/paseos-fotograficos-en-liebana/
LOCATION:Potes\, Potes\, Liébana
CATEGORIES:Experiencias
ATTACH;FMTTYPE=image/jpeg:https://staging.turismodecantpruebas.eurocastaliahost4.com/wp-content/uploads/2023/12/accb8d8b-f872-052f-e5ba-7f11778c6638-e1767867432253.jpg
END:VEVENT
BEGIN:VEVENT
DTSTART;TZID=Europe/Madrid:20251115T080000
DTEND;TZID=Europe/Madrid:20260419T170000
DTSTAMP:20260422T124530
CREATED:20251112T080804Z
LAST-MODIFIED:20260129T125701Z
UID:10020611-1763193600-1776618000@staging.turismodecantpruebas.eurocastaliahost4.com
SUMMARY:Itinerarios XXX
DESCRIPTION:Desde 1993\, la Fundación Botín otorga cada año sus Becas de Arte como apoyo a artistas españoles e internacionales en la formación\, investigación y producción. La exposición anual Itinerarios es la culminación de esta beca y plasma una amplia gama de intereses y prácticas artísticas. \nMás información en la web oficial \nLa cultura en Cantabria\, Apetece
URL:https://staging.turismodecantpruebas.eurocastaliahost4.com/proximamente-evento/itinerarios-xxx/
LOCATION:Santander\, Santander
CATEGORIES:Cultura
ATTACH;FMTTYPE=image/png:https://staging.turismodecantpruebas.eurocastaliahost4.com/wp-content/uploads/2025/11/itinerarios-xxx-centro-botin.png
END:VEVENT
BEGIN:VEVENT
DTSTART;VALUE=DATE:20260129
DTEND;VALUE=DATE:20260420
DTSTAMP:20260422T124530
CREATED:20260129T092747Z
LAST-MODIFIED:20260206T074643Z
UID:10020761-1769644800-1776643199@staging.turismodecantpruebas.eurocastaliahost4.com
SUMMARY:Guardianas de la Bahía. La última mariscadora de la Bahía de Santander
DESCRIPTION:Guardianas de la Bahía es un ensayo\, concebido a modo de instalación multimedia\, que narra la vida y el duro trabajo diario de Geli\, la última mariscadora que todavía hoy ejerce su labor profesional exclusivamente en aguas de la Bahía de Santander\, fundamentalmente entre Pedreña y la ría de Cubas. Una historia que habla de una actividad laboral y económica fundamental para las riberas de la bahía a lo largo de los años y siglos\, un trabajo pesado\, ejercido principalmente por mujeres y que actualmente se encuentra en vías de desaparición.  \nPuede visitarse de Martes a sábado de 11:00 a 14:00 y de 17:00 a 20:00 horas. Domingo de 11:00 a 14:00 horas. Entrada gratuita \nLa cultura en Cantabria\, Apetece
URL:https://staging.turismodecantpruebas.eurocastaliahost4.com/proximamente-evento/guardianas-de-la-bahia-la-ultima-mariscadora-de-la-bahia-de-santander/
LOCATION:Santander\, Santander
CATEGORIES:Exposiciones
ATTACH;FMTTYPE=image/jpeg:https://staging.turismodecantpruebas.eurocastaliahost4.com/wp-content/uploads/2026/01/guardianas-de-la-bahia-palacete-embarcadero.jpg
END:VEVENT
BEGIN:VEVENT
DTSTART;VALUE=DATE:20260212
DTEND;VALUE=DATE:20260614
DTSTAMP:20260422T124530
CREATED:20260108T115758Z
LAST-MODIFIED:20260227T121732Z
UID:10018026-1770854400-1781395199@staging.turismodecantpruebas.eurocastaliahost4.com
SUMMARY:Programa Palacio de Festivales
DESCRIPTION:En total se ofrecerán 34 espectáculos (33 espectáculos más uno de la campaña ‘Didácticos’ para centros educativos\, asociaciones y colectivos: ‘El pincel y el compás’ de Rebanal Teatro)\, de los cuales\, 5 son estrenos\, y 44 funciones (a las que habría que sumar las 7 previstas dentro de la campaña ‘Didácticos’) \nEl ciclo de teatro\, además del estreno de ‘Macho’\, se podrá disfrutar de obras como ‘Panorama desde el puente’ de Arthur Miller con José Luis García Pérez y María Adánez en el reparto dirigido por Eduardo Galán (20 y 21 de febrero); los estrenos de ‘Las sombras de Catalina Bárcena’ (6 y 7 de marzo) dirigida por Román Calleja con Miriam Díaz-Aroca\, Nuria Gallardo\, Juan Gea y Megan Tyler\, y  ‘Abisal’ de Jorge Prieto e interpretada por Paúl Moré\, Iñigo Sanz\, Lucía Alvear y Jorge Prieto ( 1 de abril)\, además de la producción de ‘Esencia’ con Juan Echanove y Joaquin Climent (20 y 21 de marzo). \nLa Machina tetro presenta ‘Tonada’ (27 de marzo); la obra de Vicente Blasco Ibáñez ‘La barraca’ dirigida por Magüi Mira y con un reparto con nombres como Daniel Albaladejo\, Antonio Hortelano\, Patricia Ross y Jorge Mayor\, entre otros ( 2 de mayo); ‘La ópera de los tres centavos’ de Bertold Brecht  y Kurt Weill\, interpretado por Coque Malla bajo la dirección de Mario Vega (15 de mayo)\, y ‘La malquerida’ que cerrará el programa. \nLas orquestas Sinfónica del Cantábrico (que ofrecerá tres conciertos dos dedicado a Gaudí por su centenario el 13 de febrero y el 4 de junio\, respectivamente\, y el 10 de abril\, con motivo del 150 aniversario de Falla); la Sinfónica de Varsovia con Pinchas Zuckerman\, como solista y director (27 de febrero); Le Concert des Nations y  la Capella Nacional de Catalunya\, bajo la dirección de Jordi Savall que interpretarán los oratorios de Beethoven ‘Cristo en el Monte de los Olivos’\, y de Haydn ‘Las siete últimas palabras de Cristo en la cruz’ (22 de marzo); el Dúo Otero (el 23 de abril); el prestigioso pianista Sergei Babayan\, quien interpretará un exigente programa ofrece ‘Songs’ (‘Canciones’)\, un imaginativo programa\, que explora la evolución del lieder\, la canción popular y el arte de la melodía (14 de mayo)\,  y la Wiener Kammerorchester con Narek Hakhnazaryan a la batuta y al violonchelo (21 de mayo)\, conforman el ciclo de Música Clásica. \nLa Lirica contará con la puesta en escena de ‘Norma’ de Bellini el 28 de marzo\, con la soprano Yolanda Auyanet en el rol de Norma y Nancy Fabiola Herrera en el rol de Adalgisa encabezarán el reparto de esta producción bajo la dirección musical de Oliver Díez; y la zarzuela ‘La revoltosa’ de Ruperto Chapi\, con las voces de Rocío Ignacio\, César San Martín\, Luismel Guerra\, y Alberto Porcell\, entre otros (24 y 25 de abril). A estas producciones se une la presencia del gran tenor Placido Domingo\, que ofrecerá una gala el 29 de mayo \nEn el ciclo de danza\, se incluyen tres espectáculos: Carlos Rodríguez Ballet Flamenco Company que presentará ‘Hilo de fuego’ (13 de febrero); Le ballet de L´Ópera National du Capitole que ofrecerán las coreografías de ‘Semiramis’ y ‘Don Juan’ (17 de abril)\, y Worldwide Ballet Theatre que podrán en escena ‘Romeo y Julieta’ (5 de junio). \nLos recitales comenzarán con la presencia de Champian Fulton & The International Jazz Ensemble el 30 de abril; Pablo López\, el 17 de mayo y el Festival Indiferente el 9 del mismo mes. \n‘Mamma mía!’ será el musical de esta temporada con siete funciones desde el 12 de marzo hasta el 15\, y concluirá el ciclo con ‘Bárbara\, el musical’\, dirigido por el cántabro Adrián Alonso y Mar Galera\, el 1 de abril.  El mago Jorge Blass actuará el 3 de mayo\, y las humoristas Ana Morgade\, Carolina Iglesias\, Eva Hache y Lala Chus que integran el espectáculo ‘Mentes peligrosas’ el 23 de mayo. \nPara los más jóvenes\, la oferta cuenta con tres espectáculos donde se incluyen los estrenos de ‘En la casita Klimt’ el 21 de febrero\, y ‘El rincón’\, el 23 de mayo\, además de ‘Peter Pan y Wendy’ el 25 de abril. \nSobre los abonos generales ha indicado que podrán renovarse desde mañana martes día 13 hasta el viernes 16\, y del sábado 17 al 20 del mismo mes\, se abrirá el periodo de adquisición de los nuevos. Los de ciclo\, se renovarán del 21 al 24\, y los nuevos 27 y 28 de enero. \nEn cuanto a la venta de entradas\, los Amigos del Palacio y PMR el jueves 29\, y el público en general a partir del viernes 29 de enero. \nMás información y programa completo en el fichero adjunto: Boletin_PFC_2026 \nLa cultura en Cantabria\, Apetece \n 
URL:https://staging.turismodecantpruebas.eurocastaliahost4.com/proximamente-evento/programa-invierno-palacio-de-festivales/
LOCATION:Santander\, Santander
CATEGORIES:Cultura
ATTACH;FMTTYPE=image/jpeg:https://staging.turismodecantpruebas.eurocastaliahost4.com/wp-content/uploads/2025/08/palacio-de-festivales-otono-2025-e1758103363534.jpg
END:VEVENT
BEGIN:VEVENT
DTSTART;VALUE=DATE:20260301
DTEND;VALUE=DATE:20260330
DTSTAMP:20260422T124530
CREATED:20260212T104432Z
LAST-MODIFIED:20260303T102225Z
UID:10020797-1772323200-1774828799@staging.turismodecantpruebas.eurocastaliahost4.com
SUMMARY:Visitas a las exposiciones exclusivas para amigos. Marzo 2026
DESCRIPTION:Pasar una mañana de domingo rodeados de arte siempre es un buen plan y si es con amigos\, mucho mejor. Si ya eres Amigo del Centro Botín aprovecha esta cita para descubrir\, compartir\, reflexionar y disfrutar juntos\, de las propuestas expositivas del Centro Botín. Con la ayuda de un mediador conocerás más datos sobre los artistas\, te contarán curiosidades sobre sus procesos creativos y aprenderás cómo recorrer cada exposición para sacarle el máximo partido a cada muestra. Querrás volver una y mil veces y lo mejor es que\, después\, tú mismo podrás guiar a tus amigos y regalarles una visita tan especial como la que viviste. \n\nDomingo 1 de marzo Cooking Sections: Las olas perdidas\nDomingo 15 de marzo Itinerarios XXX\nDomingo 29 de marzo Yuko Mohri: Entrelazamientos\n\nMás información en la web oficial \nLa cultura en Cantabria\, Apetece \n 
URL:https://staging.turismodecantpruebas.eurocastaliahost4.com/proximamente-evento/visitas-a-las-exposiciones-exclusivas-para-amigos-marzo-2026/
LOCATION:Santander\, Santander
CATEGORIES:Cultura
ATTACH;FMTTYPE=image/jpeg:https://staging.turismodecantpruebas.eurocastaliahost4.com/wp-content/uploads/2026/02/visitas-para-amigosmarzo1200-e1770893044545.jpg
END:VEVENT
BEGIN:VEVENT
DTSTART;VALUE=DATE:20260301
DTEND;VALUE=DATE:20260401
DTSTAMP:20260422T124530
CREATED:20260219T093612Z
LAST-MODIFIED:20260306T111636Z
UID:10019851-1772323200-1775001599@staging.turismodecantpruebas.eurocastaliahost4.com
SUMMARY:Centro Botin en Marzo
DESCRIPTION:Puedes ver la programación completa en este enlace \nLa cultura en Cantabria\, Apetece
URL:https://staging.turismodecantpruebas.eurocastaliahost4.com/proximamente-evento/143387/
LOCATION:Santander\, Santander
CATEGORIES:Cultura
ATTACH;FMTTYPE=image/jpeg:https://staging.turismodecantpruebas.eurocastaliahost4.com/wp-content/uploads/2025/02/centro-botin-en-marzo.jpg
END:VEVENT
BEGIN:VEVENT
DTSTART;VALUE=DATE:20260303
DTEND;VALUE=DATE:20260328
DTSTAMP:20260422T124530
CREATED:20260227T131859Z
LAST-MODIFIED:20260303T101040Z
UID:10020694-1772496000-1774655999@staging.turismodecantpruebas.eurocastaliahost4.com
SUMMARY:Una obra en diez minutos
DESCRIPTION:Diez minutos de tu tiempo serán suficientes para ir descubriendo a lo largo del mes de marzo a los artistas que forman parte de las exposiciones Itinerarios XXX y Punto y contrapunto. \nCada día a lo largo de este mes\, te presentaremos las obras de dos artistas. Entra en la sala de exposiciones de la primera planta del Centro Botín y busca el cartel. ¿Quién dijo que el arte es aburrido? \nMás información en la web oficial \nLa cultura en Cantabria\, Apetece
URL:https://staging.turismodecantpruebas.eurocastaliahost4.com/proximamente-evento/una-obra-en-diez-minutos-6/
LOCATION:Santander\, Santander
CATEGORIES:Exposiciones
ATTACH;FMTTYPE=image/jpeg:https://staging.turismodecantpruebas.eurocastaliahost4.com/wp-content/uploads/2025/12/una-obra-marzo-2026-1200-e1772532519716.jpg
END:VEVENT
BEGIN:VEVENT
DTSTART;VALUE=DATE:20260307
DTEND;VALUE=DATE:20260316
DTSTAMP:20260422T124530
CREATED:20260302T081831Z
LAST-MODIFIED:20260302T081831Z
UID:10020836-1772841600-1773619199@staging.turismodecantpruebas.eurocastaliahost4.com
SUMMARY:Cantabria de Teatro.
DESCRIPTION:Más información en la web oficial \nLa cultura en Cantabria\, Apetece
URL:https://staging.turismodecantpruebas.eurocastaliahost4.com/proximamente-evento/cantabria-de-teatro/
LOCATION:Santander\, Santander
CATEGORIES:Espectáculos
ATTACH;FMTTYPE=image/jpeg:https://staging.turismodecantpruebas.eurocastaliahost4.com/wp-content/uploads/2026/03/escena-mirinaque.jpg
END:VEVENT
BEGIN:VEVENT
DTSTART;VALUE=DATE:20260310
DTEND;VALUE=DATE:20260429
DTSTAMP:20260422T124530
CREATED:20260302T083957Z
LAST-MODIFIED:20260302T083957Z
UID:10020837-1773100800-1777420799@staging.turismodecantpruebas.eurocastaliahost4.com
SUMMARY:Cine Club Santander
DESCRIPTION:Llega una nueva edición de este ciclo de cine\, con la proyección de películas\, todas ellas notables ejemplos del cine americano post-clásico que abrió nuevos campos creativos. Una edición más\, este proyecto cultural estará coordinado por José Luis Pérez Trespalacios  \nEntradas en la web oficial \nLa cultura en Cantabria\, Apetece
URL:https://staging.turismodecantpruebas.eurocastaliahost4.com/proximamente-evento/cine-club-santander/
LOCATION:Santander\, Santander
CATEGORIES:Cultura
ATTACH;FMTTYPE=image/jpeg:https://staging.turismodecantpruebas.eurocastaliahost4.com/wp-content/uploads/2026/03/cine-club-santander.jpeg
END:VEVENT
BEGIN:VEVENT
DTSTART;VALUE=DATE:20260311
DTEND;VALUE=DATE:20260615
DTSTAMP:20260422T124530
CREATED:20260311T125812Z
LAST-MODIFIED:20260311T125812Z
UID:10020862-1773187200-1781481599@staging.turismodecantpruebas.eurocastaliahost4.com
SUMMARY:El abrazo. Mujeres artistas\, obra\, voz y rostro.
DESCRIPTION:Son obras de las artistas: Victoria Diehl\, Susy Gómez\, Menchu Lamas\, Marina Núñez\, Helena Almeida\, Eva Lootz\, Ester Partegàs\, Cristina Iglesias y Ana Laura Aláez. \nAdemás\, la artista Concha Mayordomo aporta retratos de las artistas y sus biografías. \nEsta exposición está incluida en el programa “España en libertad. 50 años”\, iniciativa del Gobierno de España coordinada por un Comisionado especial y la Secretaría de Estado de Memoria Democrática. \nPuede visitarse de martes a sábado de 11 a 14 h. y de 16 a 20 h y los Domingos y festivos de 11 a 15 h \nLa cultura en Cantabria\, Apetece \n  \n 
URL:https://staging.turismodecantpruebas.eurocastaliahost4.com/proximamente-evento/el-abrazo-mujeres-artistas-obra-voz-y-rostro/
LOCATION:Santander\, Santander
CATEGORIES:Exposiciones
ATTACH;FMTTYPE=image/jpeg:https://staging.turismodecantpruebas.eurocastaliahost4.com/wp-content/uploads/2026/03/enaire-mujeres.jpg
END:VEVENT
BEGIN:VEVENT
DTSTART;VALUE=DATE:20260311
DTEND;VALUE=DATE:20260615
DTSTAMP:20260422T124530
CREATED:20260311T130356Z
LAST-MODIFIED:20260311T130356Z
UID:10020863-1773187200-1781481599@staging.turismodecantpruebas.eurocastaliahost4.com
SUMMARY:Flying Lovers. Por amor al arte y la aeronáutica
DESCRIPTION:En la exposición Flying lovers pueden verse 20 maquetas de la Colección ENAIRE\, documentadas con fotografías históricas del archivo de Ángel Sánchez\, responsable del Archivo Histórico de Airbus\, 5 fotografías de arte aeronáutico\, realizadas por Marta Soul con aviones históricos de la Fundación Infante de Orleans y 2 imágenes de ENAIRE del control del cielo de Madrid y Santander. \nEsta exposición está incluida en la conmemoración del Centenario de los Grandes Vuelos de la Aviación Española\, iniciativa del Ejército del Aire y del Espacio. \nPuede visitarse de martes a sábado de 11 a 14 h. y de 16 a 20 horas y los Domingos y festivos de 11 a 15 horas \nLa cultura en Cantabria\, Apetece
URL:https://staging.turismodecantpruebas.eurocastaliahost4.com/proximamente-evento/flying-lovers-por-amor-al-arte-y-la-aeronautica/
LOCATION:Santander\, Santander
CATEGORIES:Exposiciones
ATTACH;FMTTYPE=image/jpeg:https://staging.turismodecantpruebas.eurocastaliahost4.com/wp-content/uploads/2026/03/flying-lovers.jpg
END:VEVENT
BEGIN:VEVENT
DTSTART;VALUE=DATE:20260312
DTEND;VALUE=DATE:20260315
DTSTAMP:20260422T124530
CREATED:20260203T102303Z
LAST-MODIFIED:20260310T110151Z
UID:10020777-1773273600-1773532799@staging.turismodecantpruebas.eurocastaliahost4.com
SUMMARY:NatureWatch Bahía de Santander 2026
DESCRIPTION:Santander acogerá por tercer año consecutivo un Encuentro de Turismo de Observación de la Naturaleza natureWatch gracias a las acciones de impulso del ecoturismo en el entorno de la ciudad que se están desarrollando desde el Plan de Sostenibilidad Turística en Destino “Santander Norte Litoral-Costa Quebrada”. Este Encuentro natureWatch Bahía de Santander centrará su temática principal en el ecoturismo azul y mirará al mar Cantábrico más que nunca para dar a conocer la oferta de experiencias ecoturísticas litorales\, marinas y submarinas de la Bahía de Santander y del Geoparque Costa Quebrada -enclave UNESCO que cumple su primer año en la Red española de Geoparques Mundiales. \nnatureWatch Bahía de Santander combinará\, en su formato habitual\, ponencias de primer nivel centradas en el ecoturismo azul\, en dar a conocer los recursos ecoturísticos existentes asociados a este producto turístico y en divulgar las experiencias que actualmente ofertan las empresas locales. En paralelo a estas intervenciones tendremos ocasión de disfrutar de las tertulias temáticas conducidas por Antonio Sandoval\, en esta ocasión acompañado por el prestigioso documentalista local Enrique Talledo. Los participantes también tendrán oportunidad de participar en un taller de dibujo sobre fauna y flora submarina cantábrica de la mano de la ilustradora Sara Carrasco. \nOtro de los platos fuertes en cualquier encuentro natureWatch son las actividades guiadas por empresas locales. Navegaremos por la espectacular Bahía de Santander para conocer sus atractivos ecoturísticos más sobresalientes y comprobar de primera mano por qué pertenece al selecto club de las Bahías más Bellas del Mundo. Ya en tierra\, nos quedaremos maravillados con la vida animal que el hábitat intermareal alberga en marea baja y las posibilidades interpretativas y de educación ambiental gracias a las tecnologías inmersivas submarinas. \nAdemás\, el Encuentro regresa al excepcional Palacio de la Magdalena\, que ya fuera sede de la primera edición en tierras cántabras. \nLa especie símbolo de natureWatch Bahía de Santander será en esta ocasión la Zostera marina\, una de las escasas fanerógamas (plantas con flor) marinas que existen\, cuya importancia es extraordinaria para el ecosistema marino cantábrico como zona de desove\, refugio y alimentación de infinidad de peces\, crustáceos y otros invertebrados marinos. Aun así\, no nos olvidaremos de las águilas pescadoras que están recolonizando el Cantábrico lentamente gracias a los esfuerzos de conservación que se realizan\, entre otros lugares\, en esta bahía de la mano de la asociación Osprey Centre. Será como siempre un placer escuchar las últimas novedades en la evolución de la población de la Bahía de Santander de la mano de los expertos que están trabajando en favor de la especie y que han logrado su recuperación como reproductora tras su extinción como nidificante en el arco cantábrico en la segunda mitad del siglo XX. \nMás información e inscripciones en la web oficial \nLa naturaleza en Cantabria\, Apetece \n 
URL:https://staging.turismodecantpruebas.eurocastaliahost4.com/proximamente-evento/naturewatch-bahia-de-santander-2026/
LOCATION:Santander\, Santander
CATEGORIES:Naturaleza,newsletter
ATTACH;FMTTYPE=image/png:https://staging.turismodecantpruebas.eurocastaliahost4.com/wp-content/uploads/2026/02/nature-watch-bahia-santander-1.png
END:VEVENT
BEGIN:VEVENT
DTSTART;VALUE=DATE:20260312
DTEND;VALUE=DATE:20260316
DTSTAMP:20260422T124530
CREATED:20260311T084512Z
LAST-MODIFIED:20260311T084512Z
UID:10020852-1773273600-1773619199@staging.turismodecantpruebas.eurocastaliahost4.com
SUMMARY:Mamma mía\, el musical
DESCRIPTION:Este musical\, que ha estado en cartel tres temporadas en la Gran Vía de Madrid con la asistencia de más de 800.000 personas\, es una adaptación realizada por David Serrano y una producción de ATG Entertainment que llega a Cantabria bajo la dirección de Juan Carlos Fisher y la dirección de musical de Joan Miquel Pérez. \nLa nueva versión de “Mamma mía!” cuenta con una espectacular escenografía\, vestuario y coreografías originales\, sumados a letras y arreglos musicales renovados. \n“Mamma mía!\, el musical” está basado en los 23 grandes éxitos de ABBA como ‘Dancing Queen’\, ‘Gimme\, gimme\, gimme’\, ‘Chiquitita’ o ‘The winner takes it all’\, entre otros. Es una comedia musical para todo tipo de edades y público que ya ha reunido a más de 70 millones de espectadores en todo el mundo. \nCuenta la historia de Donna\, madre soltera e independiente\, dueña de un pequeño hotel en una idílica isla griega. Allí ha criado sola a Sophie\, que va a casarse. La joven\, sin decir nada a nadie\, decide invitar a los tres hombres que pasaron por la vida de su madre con el fin de que su verdadero padre le acompañe al altar. Donna por su parte\, invita a dos amigas de la infancia. El reencuentro del grupo promete risas y emociones a partes iguales. \nMás información y entradas en la web oficial \nLa cultura en Cantabria\, Apetece
URL:https://staging.turismodecantpruebas.eurocastaliahost4.com/proximamente-evento/mamma-mia-el-musical/
LOCATION:Santander\, Santander
CATEGORIES:Espectáculos
ATTACH;FMTTYPE=image/jpeg:https://staging.turismodecantpruebas.eurocastaliahost4.com/wp-content/uploads/2026/03/mamma-mia.jpg
END:VEVENT
BEGIN:VEVENT
DTSTART;VALUE=DATE:20260313
DTEND;VALUE=DATE:20260314
DTSTAMP:20260422T124530
CREATED:20260212T120927Z
LAST-MODIFIED:20260212T121015Z
UID:10020800-1773360000-1773446399@staging.turismodecantpruebas.eurocastaliahost4.com
SUMMARY:Música abierta. Las nietas de Charli
DESCRIPTION:Las Nietas del Charli es un dúo\, compuesto por las hermanas madrileñas María y Raquel Rubio\, que lleva varios años siendo un secreto a voces en la escena underground de la canción alternativa de autor varios años. Una propuesta emergente que rezuma arte\, autenticidad y un talento innato. \nMás información en la web oficial \nLa cultura en Cantabria\, Apetece
URL:https://staging.turismodecantpruebas.eurocastaliahost4.com/proximamente-evento/musica-abierta-las-nietas-de-charli/
LOCATION:Santander\, Santander
CATEGORIES:Cultura
ATTACH;FMTTYPE=image/jpeg:https://staging.turismodecantpruebas.eurocastaliahost4.com/wp-content/uploads/2026/02/130326las-nietas-del-charli1200-e1770898077513.jpg
END:VEVENT
BEGIN:VEVENT
DTSTART;VALUE=DATE:20260313
DTEND;VALUE=DATE:20260314
DTSTAMP:20260422T124530
CREATED:20260303T102028Z
LAST-MODIFIED:20260303T102028Z
UID:10020846-1773360000-1773446399@staging.turismodecantpruebas.eurocastaliahost4.com
SUMMARY:Encuentro con...las nietas del Charli
DESCRIPTION:María y Raquel Rubio Pastor han construido un universo propio a partir de sus voces entrelazadas\, sus guitarras y una mirada artística que bebe de la memoria\, la naturaleza y los vínculos comunitarios. Jóvenes\, talentosas y profundamente honestas en su proceso creativo\, se han convertido en un secreto a voces dentro del folk alternativo y la canción de autor contemporánea. \nEste encuentro está pensado para quienes\, además de disfrutar del concierto\, sienten curiosidad por cómo nacen sus canciones\, qué les inspira\, cómo trabajan juntas y qué significa para ellas abrirse camino en la escena actual. Será una conversación cercana\, espontánea y muy especial. \nMás información y entradas en la web oficial \nLa cultura en Cantabria\, Apetece
URL:https://staging.turismodecantpruebas.eurocastaliahost4.com/proximamente-evento/encuentro-con-las-nietas-del-charli/
LOCATION:Santander\, Santander
CATEGORIES:Cultura
ATTACH;FMTTYPE=image/jpeg:https://staging.turismodecantpruebas.eurocastaliahost4.com/wp-content/uploads/2026/03/130326-encuentro-las-nietas-del-charli1200-e1772533218664.jpg
END:VEVENT
BEGIN:VEVENT
DTSTART;TZID=Europe/Madrid:20260313T190000
DTEND;TZID=Europe/Madrid:20260313T203000
DTSTAMP:20260422T124530
CREATED:20260302T075730Z
LAST-MODIFIED:20260302T075730Z
UID:10020833-1773428400-1773433800@staging.turismodecantpruebas.eurocastaliahost4.com
SUMMARY:Mermaids
DESCRIPTION:Mermaids es un solo que se inspira en elementos fantásticos propios de los cuentos infantiles para explorar la construcción de la identidad femenina y el paso de la infancia a la edad adulta. El espectáculo tiene lugar en una habitación infantil donde viejos objetos cobran vida\, iniciando un viaje onírico que oscila entre el sueño y la pesadilla. La experimentación con materiales táctiles\, el lenguaje circense y la búsqueda de un cuerpo asimétrico\, suave y contorsionado generan metáforas visuales que tejen el vínculo entre lo físico y lo simbólico\, transformando el cuerpo y el espacio. \nMás información y entradas en la web oficial \nLa cultura en Cantabria\, Apetece
URL:https://staging.turismodecantpruebas.eurocastaliahost4.com/proximamente-evento/mermaids/
LOCATION:Santander\, Santander
CATEGORIES:Espectáculos
ATTACH;FMTTYPE=image/jpeg:https://staging.turismodecantpruebas.eurocastaliahost4.com/wp-content/uploads/2026/03/mermeids-e1772438205680.jpg
END:VEVENT
BEGIN:VEVENT
DTSTART;TZID=Europe/Madrid:20260313T194500
DTEND;TZID=Europe/Madrid:20260313T203000
DTSTAMP:20260422T124530
CREATED:20260302T080350Z
LAST-MODIFIED:20260302T080350Z
UID:10020834-1773431100-1773433800@staging.turismodecantpruebas.eurocastaliahost4.com
SUMMARY:Muta
DESCRIPTION:En esta narración\, surge una tensión subyacente de violencia entre el hombre y la mujer\, con roles de dominación y sumisión quese desplazan y se confunden\, formando una dualidad que da forma a cada escena. \nLas máscaras tradicionales se convierten en portales\, permitiendo a los personajes deslizarse hacia identidades provenientes de distintas épocas\, cuestionando así los roles históricos del hombre y de la mujer\, así como sus respectivas violencias. \nA través de estos encuentros estratificados\, interrogamos los patrones que persisten y aquellos que pueden transformarse\, mientras las máscaras resuenan tanto con el pasado como con el futuro. \nMás información en la web oficial \nLa cultura en Cantabria\, Apetece
URL:https://staging.turismodecantpruebas.eurocastaliahost4.com/proximamente-evento/muta/
LOCATION:Santander\, Santander
CATEGORIES:Espectáculos
ATTACH;FMTTYPE=image/jpeg:https://staging.turismodecantpruebas.eurocastaliahost4.com/wp-content/uploads/2026/03/muta-e1772438550639.jpg
END:VEVENT
END:VCALENDAR