BEGIN:VCALENDAR
VERSION:2.0
PRODID:-//Turismo de Cantabria - ECPv6.15.17//NONSGML v1.0//EN
CALSCALE:GREGORIAN
METHOD:PUBLISH
X-WR-CALNAME:Turismo de Cantabria
X-ORIGINAL-URL:https://staging.turismodecantpruebas.eurocastaliahost4.com
X-WR-CALDESC:Eventos para Turismo de Cantabria
REFRESH-INTERVAL;VALUE=DURATION:PT1H
X-Robots-Tag:noindex
X-PUBLISHED-TTL:PT1H
BEGIN:VTIMEZONE
TZID:Europe/Madrid
BEGIN:DAYLIGHT
TZOFFSETFROM:+0100
TZOFFSETTO:+0200
TZNAME:CEST
DTSTART:20240331T010000
END:DAYLIGHT
BEGIN:STANDARD
TZOFFSETFROM:+0200
TZOFFSETTO:+0100
TZNAME:CET
DTSTART:20241027T010000
END:STANDARD
BEGIN:DAYLIGHT
TZOFFSETFROM:+0100
TZOFFSETTO:+0200
TZNAME:CEST
DTSTART:20250330T010000
END:DAYLIGHT
BEGIN:STANDARD
TZOFFSETFROM:+0200
TZOFFSETTO:+0100
TZNAME:CET
DTSTART:20251026T010000
END:STANDARD
BEGIN:DAYLIGHT
TZOFFSETFROM:+0100
TZOFFSETTO:+0200
TZNAME:CEST
DTSTART:20260329T010000
END:DAYLIGHT
BEGIN:STANDARD
TZOFFSETFROM:+0200
TZOFFSETTO:+0100
TZNAME:CET
DTSTART:20261025T010000
END:STANDARD
END:VTIMEZONE
BEGIN:VEVENT
DTSTART;TZID=Europe/Madrid:20250621T100000
DTEND;TZID=Europe/Madrid:20250621T183000
DTSTAMP:20260420T111727
CREATED:20250516T082450Z
LAST-MODIFIED:20250516T082450Z
UID:10020099-1750500000-1750530600@staging.turismodecantpruebas.eurocastaliahost4.com
SUMMARY:Jornada micológica en el Castillo de Argüeso
DESCRIPTION:El próximo 21 de junio\, el histórico Castillo de Argüeso se convierte en punto de encuentro para amantes de la micología y la naturaleza con una jornada completa dedicada al fascinante mundo de las setas. \nBajo la dirección del guía titulado Jesús Martínez de la Hera\, los asistentes podrán participar en diversas actividades divulgativas y prácticas que combinan conocimiento científico\, experiencia en el campo y sensibilización ambiental. \nPrograma de actividades\n\n\n10:00 h – Salida al campo (20 plazas)\nRecolección de setas en el entorno natural de Campoo\, guiada por un experto. \n\n\n16:00 h – Taller de Taxonomía\nAprende a identificar correctamente las especies recolectadas.\n“No te equivoques con la que coges” \n\n\n17:00 h – Conferencia\nCharla sobre hábitats\, normas de recolección y especies peligrosas.\n“Dónde se encuentran\, cómo recolectarlas y qué evitar” \n\n\nInformación adicional\n\n\nLugar: Castillo de Argüeso\, Hermandad de Campoo de Suso \n\n\nFecha: Sábado 21 de junio \n\n\nPrecio salida al campo: 3 € (inscripción y compra online en el QR del cartel del evento). \n\n\nTaller y conferencia: Gratuitos \n\n\n \nEste verano\, la gastronomía de Cantabria\, apetece.
URL:https://staging.turismodecantpruebas.eurocastaliahost4.com/proximamente-evento/jornada-micologica-en-el-castillo-de-argueso/
LOCATION:Hermandad Campoo de Suso\, Hermandad Campoo de Suso\, Campoo
CATEGORIES:Excursiones
ATTACH;FMTTYPE=image/jpeg:https://staging.turismodecantpruebas.eurocastaliahost4.com/wp-content/uploads/2025/05/jornada-micologica-en-el-castillo-de-argueso-imagen.jpg
END:VEVENT
BEGIN:VEVENT
DTSTART;TZID=Europe/Madrid:20251004T080000
DTEND;TZID=Europe/Madrid:20251004T170000
DTSTAMP:20260420T111727
CREATED:20250925T070804Z
LAST-MODIFIED:20251010T065124Z
UID:10020452-1759564800-1759597200@staging.turismodecantpruebas.eurocastaliahost4.com
SUMMARY:Jornada micológica
DESCRIPTION:El sábado 4 de octubre te esperamos en el Castillo de Argüeso con Jesús Martínez de la Hera\, guía titulado\, que nos ayudará a descubrir el fascinante mundo de las setas. \n\n\n\n\n10:00h Salida al campo (25 plazas\, entrada online 3 €; preferencia para empadronados en la Hermandad de Campoo de Suso) \n\n\n16:00h Taller de Taxonomía (gratuito) \n\n\n17:00h Conferencia (gratuita) \n\n\n\n\nSolo la salida al campo requiere entrada. \n\n\nMás información y reservasen la web oficial \nEl Castillo de Argüeso en Cantabria\, Apetece
URL:https://staging.turismodecantpruebas.eurocastaliahost4.com/proximamente-evento/jornada-micologica/
LOCATION:Hermandad Campoo de Suso\, Hermandad Campoo de Suso\, Campoo
CATEGORIES:Cultura
ATTACH;FMTTYPE=image/jpeg:https://staging.turismodecantpruebas.eurocastaliahost4.com/wp-content/uploads/2025/09/jornada-micologica.jpg
END:VEVENT
END:VCALENDAR